BEGIN:VCALENDAR
VERSION:2.0
PRODID:-//wp-events-plugin.com//7.2.3.1//EN
TZID:Europe/London
X-WR-TIMEZONE:Europe/London
BEGIN:VEVENT
UID:2961@larevistadelapalma.com
DTSTART;VALUE=DATE:20240506
DTEND;VALUE=DATE:20240507
DTSTAMP:20240430T111634Z
URL:https://www.larevistadelapalma.com/events/curso-de-corte-y-confeccion-
 con-waleska-morin-en-el-paso/
SUMMARY:Curso de Corte y Confección con Waleska Morín\, en El Paso
DESCRIPTION:\nEl Ayuntamiento de El Paso abre el plazo de inscripción para
  participar en el Curso de Corte y Confección impartido por la diseñador
 a Waleska Morín.\n\n\n\n\n La formación se realizará en la sede de la 
 Asociación de la Tercera Edad ‘Axerjo’.\n\n\nDos niveles: iniciación
  y avanzado. Cada participante deberá llevar su propia máquina de coser.
 \n\n\nInicio del curso: 6 de mayo.\n\nInscripciones a partir del 1 de mayo
  de 9 a 13:00 a través del teléfono 638666257.\nWaleska Morín Jiménez
  lleva diseñando desde los 16 años. Su formación tuvo lugar en el IES 
 Las Indias\, en Santa Cruz de Tenerife\, comenzando con su firma propia en
  el año 2010. Ha participado en eventos como Miss La Palma y en las dos e
 diciones del Isla Bonita Love Festival (2.016 y 2.017). Durante este año 
 se alzó ganadora del Certamen Promesas de la Moda Isla de La Palma 2017 y
  del Premio Mainstream Fashion Magazine al mejor New Talent. Sus coleccion
 es destacan por mostrar a una mujer moderna y elegante mediante el empleo 
 de materiales de primera calidad.\n\n
ATTACH;FMTTYPE=image/jpeg:https://www.larevistadelapalma.com/wp-content/up
 loads/2024/04/Curso-confeccion-Waleska-El-Paso.jpg
CATEGORIES:Formación,Otras propuestas
LOCATION:Municipio de El Paso\, El Paso\, La Palma \, El Paso\, 38750\, Esp
 aña
GEO:28.652378;-17.880396
X-APPLE-STRUCTURED-LOCATION;VALUE=URI;X-ADDRESS=El Paso\, La Palma \, El Pa
 so\, 38750\, España;X-APPLE-RADIUS=100;X-TITLE=Municipio de El Paso:geo:2
 8.652378,-17.880396
END:VEVENT
END:VCALENDARBEGIN:VCALENDAR
VERSION:2.0
PRODID:-//wp-events-plugin.com//7.2.3.1//EN
TZID:Europe/London
X-WR-TIMEZONE:Europe/London
BEGIN:VEVENT
UID:2961@larevistadelapalma.com
DTSTART;VALUE=DATE:20240506
DTEND;VALUE=DATE:20240507
DTSTAMP:20240430T111634Z
URL:https://www.larevistadelapalma.com/events/curso-de-corte-y-confeccion-
 con-waleska-morin-en-el-paso/
SUMMARY:Curso de Corte y Confección con Waleska Morín\, en El Paso
DESCRIPTION:\nEl Ayuntamiento de El Paso abre el plazo de inscripción para
  participar en el Curso de Corte y Confección impartido por la diseñador
 a Waleska Morín.\n\n\n\n\n La formación se realizará en la sede de la 
 Asociación de la Tercera Edad ‘Axerjo’.\n\n\nDos niveles: iniciación
  y avanzado. Cada participante deberá llevar su propia máquina de coser.
 \n\n\nInicio del curso: 6 de mayo.\n\nInscripciones a partir del 1 de mayo
  de 9 a 13:00 a través del teléfono 638666257.\nWaleska Morín Jiménez
  lleva diseñando desde los 16 años. Su formación tuvo lugar en el IES 
 Las Indias\, en Santa Cruz de Tenerife\, comenzando con su firma propia en
  el año 2010. Ha participado en eventos como Miss La Palma y en las dos e
 diciones del Isla Bonita Love Festival (2.016 y 2.017). Durante este año 
 se alzó ganadora del Certamen Promesas de la Moda Isla de La Palma 2017 y
  del Premio Mainstream Fashion Magazine al mejor New Talent. Sus coleccion
 es destacan por mostrar a una mujer moderna y elegante mediante el empleo 
 de materiales de primera calidad.\n\n
ATTACH;FMTTYPE=image/jpeg:https://www.larevistadelapalma.com/wp-content/up
 loads/2024/04/Curso-confeccion-Waleska-El-Paso.jpg
CATEGORIES:Formación,Otras propuestas
LOCATION:Municipio de El Paso\, El Paso\, La Palma \, El Paso\, 38750\, Esp
 aña
GEO:28.652378;-17.880396
X-APPLE-STRUCTURED-LOCATION;VALUE=URI;X-ADDRESS=El Paso\, La Palma \, El Pa
 so\, 38750\, España;X-APPLE-RADIUS=100;X-TITLE=Municipio de El Paso:geo:2
 8.652378,-17.880396
END:VEVENT
END:VCALENDAR