BEGIN:VCALENDAR
VERSION:2.0
PRODID:-//wp-events-plugin.com//7.2.3.1//EN
TZID:Europe/London
X-WR-TIMEZONE:Europe/London
BEGIN:VEVENT
UID:607@larevistadelapalma.com
DTSTART:20230821T150000Z
DTEND:20230821T150000Z
DTSTAMP:20231106T222856Z
URL:https://www.larevistadelapalma.com/events/curso-de-corte-y-confeccion-
 con-waleska-morin/
SUMMARY:Curso de corte y confección con Waleska Morín
DESCRIPTION:El Ayuntamiento de la Villa de Garafía y el Cabildo de La Palm
 a organizan un curso de corte y confección\, que comenzará el 21 de agos
 to en la Casa de la Cultura de Santo Domingo\, de la mano de la diseñador
 a Waleska Morín.
ATTACH;FMTTYPE=image/jpeg:https://www.larevistadelapalma.com/wp-content/up
 loads/2023/08/curso-corte-y-confeccion-Waleska-Morin.jpg
CATEGORIES:Formación,Otras propuestas
LOCATION:Casa de La Cultura de Santo Domingo\, Garafía\, Calle Diaz Juarez
 \, 21\,\, Garafía\, 38787\, España
GEO:28.790649;-17.917631
X-APPLE-STRUCTURED-LOCATION;VALUE=URI;X-ADDRESS=Calle Diaz Juarez\, 21\,\, 
 Garafía\, 38787\, España;X-APPLE-RADIUS=100;X-TITLE=Casa de La Cultura d
 e Santo Domingo\, Garafía:geo:28.790649,-17.917631
END:VEVENT
END:VCALENDARBEGIN:VCALENDAR
VERSION:2.0
PRODID:-//wp-events-plugin.com//7.2.3.1//EN
TZID:Europe/London
X-WR-TIMEZONE:Europe/London
BEGIN:VEVENT
UID:607@larevistadelapalma.com
DTSTART:20230821T150000Z
DTEND:20230821T150000Z
DTSTAMP:20231106T222856Z
URL:https://www.larevistadelapalma.com/events/curso-de-corte-y-confeccion-
 con-waleska-morin/
SUMMARY:Curso de corte y confección con Waleska Morín
DESCRIPTION:El Ayuntamiento de la Villa de Garafía y el Cabildo de La Palm
 a organizan un curso de corte y confección\, que comenzará el 21 de agos
 to en la Casa de la Cultura de Santo Domingo\, de la mano de la diseñador
 a Waleska Morín.
ATTACH;FMTTYPE=image/jpeg:https://www.larevistadelapalma.com/wp-content/up
 loads/2023/08/curso-corte-y-confeccion-Waleska-Morin.jpg
CATEGORIES:Formación,Otras propuestas
LOCATION:Casa de La Cultura de Santo Domingo\, Garafía\, Calle Diaz Juarez
 \, 21\,\, Garafía\, 38787\, España
GEO:28.790649;-17.917631
X-APPLE-STRUCTURED-LOCATION;VALUE=URI;X-ADDRESS=Calle Diaz Juarez\, 21\,\, 
 Garafía\, 38787\, España;X-APPLE-RADIUS=100;X-TITLE=Casa de La Cultura d
 e Santo Domingo\, Garafía:geo:28.790649,-17.917631
END:VEVENT
END:VCALENDAR