BEGIN:VCALENDAR
VERSION:2.0
PRODID:-//wp-events-plugin.com//7.2.3.1//EN
TZID:Europe/London
X-WR-TIMEZONE:Europe/London
BEGIN:VEVENT
UID:3583@larevistadelapalma.com
DTSTART;VALUE=DATE:20250310
DTEND;VALUE=DATE:20250311
DTSTAMP:20250204T021943Z
URL:https://www.larevistadelapalma.com/events/curso-de-patronaje/
SUMMARY:Curso de patronaje con Waleska Morín
DESCRIPTION:\nEl curso de patronaje básico tiene como objetivo proporciona
 r al alumnado la capacidad de crear y usar una serie de patrones básicos 
 de señora. Además\, serán capaz de aplicar las técnicas necesarias par
 a elaborar pinzas y costuras\, y adquieran el conocimiento necesario para 
 sentetizar\, aplicar y evaluar la información obtenida a partir de una gr
 an cantidad de fuentes\, siendo capaces de generar un estilo personal tant
 o en comunicación visual creativa\, como en la realización textil.\n\n\n
  	Inscripciones en el email artesania@aridane.org hasta el 5 de marzo: Nom
 bre\, apellidos\, número de teléfono.\n 	Imprescindible disponer de máq
 uina de coser.\n\n
ATTACH;FMTTYPE=image/jpeg:https://www.larevistadelapalma.com/wp-content/up
 loads/2025/02/Corte-y-confeccion-Waleska.jpg
CATEGORIES:Formación,Otras propuestas
LOCATION:Casa de La Cultura de Los Llanos de Aridane\, : C. Real\, 8\, Los 
 Llanos de Aridane \, 38760\, España
GEO:28.658651;-17.913512
X-APPLE-STRUCTURED-LOCATION;VALUE=URI;X-ADDRESS=: C. Real\, 8\, Los Llanos 
 de Aridane \, 38760\, España;X-APPLE-RADIUS=100;X-TITLE=Casa de La Cultur
 a de Los Llanos de Aridane:geo:28.658651,-17.913512
END:VEVENT
END:VCALENDARBEGIN:VCALENDAR
VERSION:2.0
PRODID:-//wp-events-plugin.com//7.2.3.1//EN
TZID:Europe/London
X-WR-TIMEZONE:Europe/London
BEGIN:VEVENT
UID:3583@larevistadelapalma.com
DTSTART;VALUE=DATE:20250310
DTEND;VALUE=DATE:20250311
DTSTAMP:20250204T021943Z
URL:https://www.larevistadelapalma.com/events/curso-de-patronaje/
SUMMARY:Curso de patronaje con Waleska Morín
DESCRIPTION:\nEl curso de patronaje básico tiene como objetivo proporciona
 r al alumnado la capacidad de crear y usar una serie de patrones básicos 
 de señora. Además\, serán capaz de aplicar las técnicas necesarias par
 a elaborar pinzas y costuras\, y adquieran el conocimiento necesario para 
 sentetizar\, aplicar y evaluar la información obtenida a partir de una gr
 an cantidad de fuentes\, siendo capaces de generar un estilo personal tant
 o en comunicación visual creativa\, como en la realización textil.\n\n\n
  	Inscripciones en el email artesania@aridane.org hasta el 5 de marzo: Nom
 bre\, apellidos\, número de teléfono.\n 	Imprescindible disponer de máq
 uina de coser.\n\n
ATTACH;FMTTYPE=image/jpeg:https://www.larevistadelapalma.com/wp-content/up
 loads/2025/02/Corte-y-confeccion-Waleska.jpg
CATEGORIES:Formación,Otras propuestas
LOCATION:Casa de La Cultura de Los Llanos de Aridane\, : C. Real\, 8\, Los 
 Llanos de Aridane \, 38760\, España
GEO:28.658651;-17.913512
X-APPLE-STRUCTURED-LOCATION;VALUE=URI;X-ADDRESS=: C. Real\, 8\, Los Llanos 
 de Aridane \, 38760\, España;X-APPLE-RADIUS=100;X-TITLE=Casa de La Cultur
 a de Los Llanos de Aridane:geo:28.658651,-17.913512
END:VEVENT
END:VCALENDAR