BEGIN:VCALENDAR
VERSION:2.0
PRODID:-//wp-events-plugin.com//7.2.3.1//EN
TZID:Europe/London
X-WR-TIMEZONE:Europe/London
BEGIN:VEVENT
UID:3817@larevistadelapalma.com
DTSTART;VALUE=DATE:20250702
DTEND;VALUE=DATE:20250703
DTSTAMP:20250618T002115Z
URL:https://www.larevistadelapalma.com/events/curso-de-pintura-en-tela-maz
 o-2/
SUMMARY:Curso de pintura en tela. Mazo
DESCRIPTION:\nImparte la artesana Annette Heidy Salazar Tejera.\n\n 	23\, 2
 5 y 30 de junio.\n 	2\,14\,16 y 21 de julio.\n\n\n\nHorario: De 16:00 hora
 s a 19:00 horas\, en el aula de la planta alta del Mercadillo Municipal.\n
 \n\n\nINSCRIPCIONES e INFORMACIÓN- Agencia de Empleo y Desarrollo Local. 
 Teléfono: 922 440 003 Extensión 205\, email: artesania@villademazo.es\n\
 n\n\n* Prioridad empadronados en el municipio\n
ATTACH;FMTTYPE=image/jpeg:https://www.larevistadelapalma.com/wp-content/up
 loads/2025/06/Curos-de-pintura-en-tela-Mazo.jpg
CATEGORIES:Formación,Otras propuestas
LOCATION:Mercadillo Villa de Mazo\, Calle Dr. Morera Bravo\, Villa de Mazo\
 , 38730\, España
GEO:28.603998;-17.774127
X-APPLE-STRUCTURED-LOCATION;VALUE=URI;X-ADDRESS=Calle Dr. Morera Bravo\, Vi
 lla de Mazo\, 38730\, España;X-APPLE-RADIUS=100;X-TITLE=Mercadillo Villa 
 de Mazo:geo:28.603998,-17.774127
END:VEVENT
END:VCALENDARBEGIN:VCALENDAR
VERSION:2.0
PRODID:-//wp-events-plugin.com//7.2.3.1//EN
TZID:Europe/London
X-WR-TIMEZONE:Europe/London
BEGIN:VEVENT
UID:3817@larevistadelapalma.com
DTSTART;VALUE=DATE:20250702
DTEND;VALUE=DATE:20250703
DTSTAMP:20250618T002115Z
URL:https://www.larevistadelapalma.com/events/curso-de-pintura-en-tela-maz
 o-2/
SUMMARY:Curso de pintura en tela. Mazo
DESCRIPTION:\nImparte la artesana Annette Heidy Salazar Tejera.\n\n 	23\, 2
 5 y 30 de junio.\n 	2\,14\,16 y 21 de julio.\n\n\n\nHorario: De 16:00 hora
 s a 19:00 horas\, en el aula de la planta alta del Mercadillo Municipal.\n
 \n\n\nINSCRIPCIONES e INFORMACIÓN- Agencia de Empleo y Desarrollo Local. 
 Teléfono: 922 440 003 Extensión 205\, email: artesania@villademazo.es\n\
 n\n\n* Prioridad empadronados en el municipio\n
ATTACH;FMTTYPE=image/jpeg:https://www.larevistadelapalma.com/wp-content/up
 loads/2025/06/Curos-de-pintura-en-tela-Mazo.jpg
CATEGORIES:Formación,Otras propuestas
LOCATION:Mercadillo Villa de Mazo\, Calle Dr. Morera Bravo\, Villa de Mazo\
 , 38730\, España
GEO:28.603998;-17.774127
X-APPLE-STRUCTURED-LOCATION;VALUE=URI;X-ADDRESS=Calle Dr. Morera Bravo\, Vi
 lla de Mazo\, 38730\, España;X-APPLE-RADIUS=100;X-TITLE=Mercadillo Villa 
 de Mazo:geo:28.603998,-17.774127
END:VEVENT
END:VCALENDAR