BEGIN:VCALENDAR
VERSION:2.0
PRODID:-//wp-events-plugin.com//7.2.3.1//EN
TZID:Europe/London
X-WR-TIMEZONE:Europe/London
BEGIN:VEVENT
UID:64@larevistadelapalma.com
DTSTART;VALUE=DATE:20230701
DTEND;VALUE=DATE:20230901
DTSTAMP:20230701T182721Z
URL:https://www.larevistadelapalma.com/events/cursos-de-natacion-en-las-pi
 scinas-naturales-de-el-charco-azul/
SUMMARY:Cursos de natación en las piscinas naturales de El Charco Azul
DESCRIPTION:Durante julio y agosto de 2023. \nPlazas limitadas.
ATTACH;FMTTYPE=image/jpeg:https://www.larevistadelapalma.com/wp-content/up
 loads/2023/06/charco-azul-san-andres-y-sauces.jpg
CATEGORIES:Actividades deportivas,Otras propuestas
LOCATION:El Charco Azul\, Charco Azul \, San Andrés y Sauces\, 38720\, Esp
 aña
GEO:28.807851;-17.762511
X-APPLE-STRUCTURED-LOCATION;VALUE=URI;X-ADDRESS=Charco Azul \, San Andrés 
 y Sauces\, 38720\, España;X-APPLE-RADIUS=100;X-TITLE=El Charco Azul:geo:2
 8.807851,-17.762511
END:VEVENT
END:VCALENDARBEGIN:VCALENDAR
VERSION:2.0
PRODID:-//wp-events-plugin.com//7.2.3.1//EN
TZID:Europe/London
X-WR-TIMEZONE:Europe/London
BEGIN:VEVENT
UID:64@larevistadelapalma.com
DTSTART;VALUE=DATE:20230701
DTEND;VALUE=DATE:20230901
DTSTAMP:20230701T182721Z
URL:https://www.larevistadelapalma.com/events/cursos-de-natacion-en-las-pi
 scinas-naturales-de-el-charco-azul/
SUMMARY:Cursos de natación en las piscinas naturales de El Charco Azul
DESCRIPTION:Durante julio y agosto de 2023. \nPlazas limitadas.
ATTACH;FMTTYPE=image/jpeg:https://www.larevistadelapalma.com/wp-content/up
 loads/2023/06/charco-azul-san-andres-y-sauces.jpg
CATEGORIES:Actividades deportivas,Otras propuestas
LOCATION:El Charco Azul\, Charco Azul \, San Andrés y Sauces\, 38720\, Esp
 aña
GEO:28.807851;-17.762511
X-APPLE-STRUCTURED-LOCATION;VALUE=URI;X-ADDRESS=Charco Azul \, San Andrés 
 y Sauces\, 38720\, España;X-APPLE-RADIUS=100;X-TITLE=El Charco Azul:geo:2
 8.807851,-17.762511
END:VEVENT
END:VCALENDAR