BEGIN:VCALENDAR
VERSION:2.0
PRODID:-//wp-events-plugin.com//7.2.3.1//EN
TZID:Europe/London
X-WR-TIMEZONE:Europe/London
BEGIN:VEVENT
UID:4426@larevistadelapalma.com
DTSTART:20251222T093000Z
DTEND:20251222T093000Z
DTSTAMP:20251219T184141Z
URL:https://www.larevistadelapalma.com/events/dakini-danza-con-paloma-hurt
 ado-en-san-andres-y-sauces/
SUMMARY:"Dakini": danza con Paloma Hurtado\, en San Andrés y Sauces
DESCRIPTION:La bailarina y coreógrafa  Paloma Hurtado estará este próxi
 mo lunes\, 22 de diciembre (10:30 horas) en la Carpa de la Plaza de Montse
 rrat con el espectáculo de danza 'Dakini".\n\n 'Dakini".\n“Camina por l
 os desiertos\, los bosques\, los océanos\, las ciudades\, los barrios\, l
 os castillos. Vive entre reinas y campesinas\, en la habitación de la cas
 a de huéspedes\, en las fábricas\, en la cárcel\, en las montañas de l
 a soledad. Vive en el gueto\, en la universidad\, en las calles. Deja sus 
 huellas donde quiera que hay tierra fértil” (Las mujeres que corren con
  los lobos).\n\n 	Concepto: Toya Durango\, Gemma León Luis\, Paloma de l
 a Cruz y Paloma Hurtado.\n 	Coreografía e interpretación: Paloma Hurtad
 o.\n 	Música: María Bethania (Monólogo Orfeu\, Sonho impossível)\, Ar
 a Malikian\, Joan Valent (Insula Poética)\, Ara Malikian y Jose Luis Mont
 ón (Estranha forma de vida).\n 	Duración: 20min.\n 	Estreno: junio 201
 2.\n\nAunque nacida en Málaga\, desde 2007 \, Paloma reside en Tenerife. 
 En 2021 recibe el Premio a la Intérprete Sobresaliente del Certamen Dist
 rito de Tetuán y el Premio a la Mejor Intérprete del Certamen Coreogr
 áfico Masdanza por su obra Ina.0. Ha trabajado con coreógrafos como Da
 niel Abreu\, Tino Fernández y Juliana Reyes (L’Explose)\, Anne Lebatard
 e (Ex Nihilo)\, Edmond Russo &amp\; Shlomi Twizer (Afari Esteri)\, Roberto
  Torres (cía. Nómada)\, Thomé Araujo (Málaga Danza Teatro).\n\n\n\n"En
  la danza\, encuentro la autenticidad\,  la expresión\, y la emoción qu
 e me define."\n\n\n
ATTACH;FMTTYPE=image/jpeg:https://www.larevistadelapalma.com/wp-content/up
 loads/2025/12/DANZA-PALOMA-HURTADO.jpg
CATEGORIES:Danza,Espectáculos
LOCATION:Plaza de Montserrat en San Andrés y Sauces\, Calle Montserrat\, S
 an Andrés y Sauces\, 38729\, España
GEO:28.784222;-17.799155
X-APPLE-STRUCTURED-LOCATION;VALUE=URI;X-ADDRESS=Calle Montserrat\, San Andr
 és y Sauces\, 38729\, España;X-APPLE-RADIUS=100;X-TITLE=Plaza de Montser
 rat en San Andrés y Sauces:geo:28.784222,-17.799155
END:VEVENT
END:VCALENDARBEGIN:VCALENDAR
VERSION:2.0
PRODID:-//wp-events-plugin.com//7.2.3.1//EN
TZID:Europe/London
X-WR-TIMEZONE:Europe/London
BEGIN:VEVENT
UID:4426@larevistadelapalma.com
DTSTART:20251222T093000Z
DTEND:20251222T093000Z
DTSTAMP:20251219T184141Z
URL:https://www.larevistadelapalma.com/events/dakini-danza-con-paloma-hurt
 ado-en-san-andres-y-sauces/
SUMMARY:"Dakini": danza con Paloma Hurtado\, en San Andrés y Sauces
DESCRIPTION:La bailarina y coreógrafa  Paloma Hurtado estará este próxi
 mo lunes\, 22 de diciembre (10:30 horas) en la Carpa de la Plaza de Montse
 rrat con el espectáculo de danza 'Dakini".\n\n 'Dakini".\n“Camina por l
 os desiertos\, los bosques\, los océanos\, las ciudades\, los barrios\, l
 os castillos. Vive entre reinas y campesinas\, en la habitación de la cas
 a de huéspedes\, en las fábricas\, en la cárcel\, en las montañas de l
 a soledad. Vive en el gueto\, en la universidad\, en las calles. Deja sus 
 huellas donde quiera que hay tierra fértil” (Las mujeres que corren con
  los lobos).\n\n 	Concepto: Toya Durango\, Gemma León Luis\, Paloma de l
 a Cruz y Paloma Hurtado.\n 	Coreografía e interpretación: Paloma Hurtad
 o.\n 	Música: María Bethania (Monólogo Orfeu\, Sonho impossível)\, Ar
 a Malikian\, Joan Valent (Insula Poética)\, Ara Malikian y Jose Luis Mont
 ón (Estranha forma de vida).\n 	Duración: 20min.\n 	Estreno: junio 201
 2.\n\nAunque nacida en Málaga\, desde 2007 \, Paloma reside en Tenerife. 
 En 2021 recibe el Premio a la Intérprete Sobresaliente del Certamen Dist
 rito de Tetuán y el Premio a la Mejor Intérprete del Certamen Coreogr
 áfico Masdanza por su obra Ina.0. Ha trabajado con coreógrafos como Da
 niel Abreu\, Tino Fernández y Juliana Reyes (L’Explose)\, Anne Lebatard
 e (Ex Nihilo)\, Edmond Russo &amp\; Shlomi Twizer (Afari Esteri)\, Roberto
  Torres (cía. Nómada)\, Thomé Araujo (Málaga Danza Teatro).\n\n\n\n"En
  la danza\, encuentro la autenticidad\,  la expresión\, y la emoción qu
 e me define."\n\n\n
ATTACH;FMTTYPE=image/jpeg:https://www.larevistadelapalma.com/wp-content/up
 loads/2025/12/DANZA-PALOMA-HURTADO.jpg
CATEGORIES:Danza,Espectáculos
LOCATION:Plaza de Montserrat en San Andrés y Sauces\, Calle Montserrat\, S
 an Andrés y Sauces\, 38729\, España
GEO:28.784222;-17.799155
X-APPLE-STRUCTURED-LOCATION;VALUE=URI;X-ADDRESS=Calle Montserrat\, San Andr
 és y Sauces\, 38729\, España;X-APPLE-RADIUS=100;X-TITLE=Plaza de Montser
 rat en San Andrés y Sauces:geo:28.784222,-17.799155
END:VEVENT
END:VCALENDAR