BEGIN:VCALENDAR
VERSION:2.0
PRODID:-//wp-events-plugin.com//7.2.3.1//EN
TZID:Europe/London
X-WR-TIMEZONE:Europe/London
BEGIN:VEVENT
UID:3881@larevistadelapalma.com
DTSTART:20250718T190000Z
DTEND:20250718T220000Z
DTSTAMP:20250717T170051Z
URL:https://www.larevistadelapalma.com/events/danish-house-mafia-en-tasca-
 la-marmota/
SUMMARY:Danish House Mafia en Tasca La Marmota
DESCRIPTION:A partir de las 20:oo horas Danish House Mafia en la Tasca La M
 armota de Tazacorte.
ATTACH;FMTTYPE=image/jpeg:https://www.larevistadelapalma.com/wp-content/up
 loads/2025/06/Marmota.jpg
CATEGORIES:Festivales/Fiestas,Música
LOCATION:Tasca La Marmota\, Av de la Constitución\, número 1\, Tazacorte\
 , 38770\, España
GEO:28.643843;-17.933605
X-APPLE-STRUCTURED-LOCATION;VALUE=URI;X-ADDRESS=Av de la Constitución\, n
 úmero 1\, Tazacorte\, 38770\, España;X-APPLE-RADIUS=100;X-TITLE=Tasca La
  Marmota:geo:28.643843,-17.933605
END:VEVENT
END:VCALENDARBEGIN:VCALENDAR
VERSION:2.0
PRODID:-//wp-events-plugin.com//7.2.3.1//EN
TZID:Europe/London
X-WR-TIMEZONE:Europe/London
BEGIN:VEVENT
UID:3881@larevistadelapalma.com
DTSTART:20250718T190000Z
DTEND:20250718T220000Z
DTSTAMP:20250717T170051Z
URL:https://www.larevistadelapalma.com/events/danish-house-mafia-en-tasca-
 la-marmota/
SUMMARY:Danish House Mafia en Tasca La Marmota
DESCRIPTION:A partir de las 20:oo horas Danish House Mafia en la Tasca La M
 armota de Tazacorte.
ATTACH;FMTTYPE=image/jpeg:https://www.larevistadelapalma.com/wp-content/up
 loads/2025/06/Marmota.jpg
CATEGORIES:Festivales/Fiestas,Música
LOCATION:Tasca La Marmota\, Av de la Constitución\, número 1\, Tazacorte\
 , 38770\, España
GEO:28.643843;-17.933605
X-APPLE-STRUCTURED-LOCATION;VALUE=URI;X-ADDRESS=Av de la Constitución\, n
 úmero 1\, Tazacorte\, 38770\, España;X-APPLE-RADIUS=100;X-TITLE=Tasca La
  Marmota:geo:28.643843,-17.933605
END:VEVENT
END:VCALENDAR