BEGIN:VCALENDAR
VERSION:2.0
PRODID:-//wp-events-plugin.com//7.2.3.1//EN
TZID:Europe/London
X-WR-TIMEZONE:Europe/London
BEGIN:VEVENT
UID:3833@larevistadelapalma.com
DTSTART:20250709T160000Z
DTEND:20250709T225900Z
DTSTAMP:20250709T160241Z
URL:https://www.larevistadelapalma.com/events/danza-de-acrobatas-bajada-de
 -la-virgen-2025/
SUMMARY:Los Acróbatas (Bajada de la Virgen 2025)
DESCRIPTION:Un número de ejercicios gimnásticos que forma parte de la pro
 gramación tradicional de las Fiestas Lustrales y que consta de dos grupos
 \, uno que realizan figuras acrobáticas sobre las escaleras y  otros que
  lo hacen en el suelo.\nDespués de la tradicional actuación en el Hospit
 al de Dolores\, el número se representa durante la tarde\, hasta bien ent
 rada la madrugada\, en diversas localizaciones de las calles de la ciudad 
 de Santa Cruz de La Palma. En total serán unos 10 pases\, que tendrán lu
 gar en La Plaza de España\, en la Plaza de Santo Domingo (estas\, con ent
 rada que ya están agotadas a día de hoy)\, en la Calle O'Daly (Casa de S
 otomayor)\, en la Calle Apurón\, en la Avenida el Puente (por el Mercado 
 La Recova)\, en la Plaza de San Francisco\, y en Plaza de la Alameda.\n\nM
 ás info\n\nMás fotos de la edición anterior .\n\n\n\n&nbsp\;
ATTACH;FMTTYPE=image/jpeg:https://www.larevistadelapalma.com/wp-content/up
 loads/2025/06/Bajada-2015-Acrobatas-figuras-2.png
CATEGORIES:Danza,Espectáculos
LOCATION:Plaza de Santo Domingo en Santa Cruz de La Palma\, Plaza Santo Dom
 ingo\, Santa Cruz de La Palma\, 38700\, España
GEO:28.682691;-17.766334
X-APPLE-STRUCTURED-LOCATION;VALUE=URI;X-ADDRESS=Plaza Santo Domingo\, Santa
  Cruz de La Palma\, 38700\, España;X-APPLE-RADIUS=100;X-TITLE=Plaza de Sa
 nto Domingo en Santa Cruz de La Palma:geo:28.682691,-17.766334
END:VEVENT
END:VCALENDARBEGIN:VCALENDAR
VERSION:2.0
PRODID:-//wp-events-plugin.com//7.2.3.1//EN
TZID:Europe/London
X-WR-TIMEZONE:Europe/London
BEGIN:VEVENT
UID:3833@larevistadelapalma.com
DTSTART:20250709T160000Z
DTEND:20250709T225900Z
DTSTAMP:20250709T160241Z
URL:https://www.larevistadelapalma.com/events/danza-de-acrobatas-bajada-de
 -la-virgen-2025/
SUMMARY:Los Acróbatas (Bajada de la Virgen 2025)
DESCRIPTION:Un número de ejercicios gimnásticos que forma parte de la pro
 gramación tradicional de las Fiestas Lustrales y que consta de dos grupos
 \, uno que realizan figuras acrobáticas sobre las escaleras y  otros que
  lo hacen en el suelo.\nDespués de la tradicional actuación en el Hospit
 al de Dolores\, el número se representa durante la tarde\, hasta bien ent
 rada la madrugada\, en diversas localizaciones de las calles de la ciudad 
 de Santa Cruz de La Palma. En total serán unos 10 pases\, que tendrán lu
 gar en La Plaza de España\, en la Plaza de Santo Domingo (estas\, con ent
 rada que ya están agotadas a día de hoy)\, en la Calle O'Daly (Casa de S
 otomayor)\, en la Calle Apurón\, en la Avenida el Puente (por el Mercado 
 La Recova)\, en la Plaza de San Francisco\, y en Plaza de la Alameda.\n\nM
 ás info\n\nMás fotos de la edición anterior .\n\n\n\n&nbsp\;
ATTACH;FMTTYPE=image/jpeg:https://www.larevistadelapalma.com/wp-content/up
 loads/2025/06/Bajada-2015-Acrobatas-figuras-2.png
CATEGORIES:Danza,Espectáculos
LOCATION:Plaza de Santo Domingo en Santa Cruz de La Palma\, Plaza Santo Dom
 ingo\, Santa Cruz de La Palma\, 38700\, España
GEO:28.682691;-17.766334
X-APPLE-STRUCTURED-LOCATION;VALUE=URI;X-ADDRESS=Plaza Santo Domingo\, Santa
  Cruz de La Palma\, 38700\, España;X-APPLE-RADIUS=100;X-TITLE=Plaza de Sa
 nto Domingo en Santa Cruz de La Palma:geo:28.682691,-17.766334
END:VEVENT
END:VCALENDAR