BEGIN:VCALENDAR
VERSION:2.0
PRODID:-//wp-events-plugin.com//7.2.3.1//EN
TZID:Europe/London
X-WR-TIMEZONE:Europe/London
BEGIN:VEVENT
UID:3774@larevistadelapalma.com
DTSTART:20250710T174500Z
DTEND:20250710T225900Z
DTSTAMP:20250711T000759Z
URL:https://www.larevistadelapalma.com/events/danza-de-los-enanos-2025/
SUMMARY:Danza de los Enanos 2025
DESCRIPTION:Varias sesiones en el recinto central\, los días 10 y 19 de ju
 lio.\n\nLos Enanos de La Palma salen a bailar cada cinco años en el marco
  celebrador de la Bajada de la Virgen\, constituye uno de los números má
 s originales del programa tradicional de las fiestas y el que con el tiemp
 o mejor ha venido a representarla en su conjunto\, hasta el punto de conve
 rtirse tanto la figura del Enano como la polka de Domingo Santos Rodrígue
 z (Santa Cruz de La Palma\, 1902-1979) en símbolos por excelencia de la f
 estividad y de la isla.\nEntradas días 10 &gt\;&gt\;\n\n\nLa danza cuenta
  con dos partes\, la primera es en la que un coro que viste diferentes atu
 endos en cada edición interpreta una canción que da paso a la transforma
 ción en los esperados enanos. A partir de la edición de 1905 (Viejos) se
  sucedieron las distintas representaciones:  Guerreros\, Peregrinos\; Mon
 jes Blancos\, Reyes\; Japoneses\; Romanos\; Doctores\; Nazarenos\; Conseje
 ros\;  Estudiantes\; Atenienses\; Dominicos\; Astrólogos\; Musulmanes\; 
 Peregrinos\; Navegantes\; Vikingos...\n\n\nEn esta edición se pondrá en 
 escena\, en la primera parte\, la obra "Reyes"\, estrenada en la Bajada de
  la Virgen de 1925\, compuesta por el poeta\, periodista y abogado José L
 ozano Pérez (Santa Cruz de La Palma\, 1890-1951)\, autor de la letra\, y 
 por el médico\, entomólogo y músico Elías Santos Abreu (Los Llanos de 
 Aridane\, 1856-Santa Cruz de La Palma\, 1937).\nLa segunda parte es la tra
 nsformación de los hombres en enanos y su peculiar danza.\n\nDespués de 
 las funciones en el Recinto Lustral\, los enanos salen a la calle.\n\nEn e
 sta edición\, por primera vez\, el número cuenta con la particularidad d
 e dos mujeres pasan a formar parte del esperado espectáculo\, cosa que no
  había sucedido hasta ahora. Gara Lorenzo Díaz y Saray Pérez Castillo\,
  serán las primeras en participar en la Danza de los Enanos.\n\n\n\n&nbsp
 \;
ATTACH;FMTTYPE=image/jpeg:https://www.larevistadelapalma.com/wp-content/up
 loads/2025/06/Enanos-La-Revista-de-La-Palma-2015-2-1.jpg
CATEGORIES:Espectáculos,Fiestas populares,Otras propuestas
LOCATION:Municipio de Santa Cruz de La Palma\, Santa Cruz de La Palma \, Sa
 nta Cruz de La Palma \, 38700\, España
GEO:28.688757;-17.765102
X-APPLE-STRUCTURED-LOCATION;VALUE=URI;X-ADDRESS=Santa Cruz de La Palma \, S
 anta Cruz de La Palma \, 38700\, España;X-APPLE-RADIUS=100;X-TITLE=Munici
 pio de Santa Cruz de La Palma:geo:28.688757,-17.765102
END:VEVENT
END:VCALENDARBEGIN:VCALENDAR
VERSION:2.0
PRODID:-//wp-events-plugin.com//7.2.3.1//EN
TZID:Europe/London
X-WR-TIMEZONE:Europe/London
BEGIN:VEVENT
UID:3774@larevistadelapalma.com
DTSTART:20250710T174500Z
DTEND:20250710T225900Z
DTSTAMP:20250711T000759Z
URL:https://www.larevistadelapalma.com/events/danza-de-los-enanos-2025/
SUMMARY:Danza de los Enanos 2025
DESCRIPTION:Varias sesiones en el recinto central\, los días 10 y 19 de ju
 lio.\n\nLos Enanos de La Palma salen a bailar cada cinco años en el marco
  celebrador de la Bajada de la Virgen\, constituye uno de los números má
 s originales del programa tradicional de las fiestas y el que con el tiemp
 o mejor ha venido a representarla en su conjunto\, hasta el punto de conve
 rtirse tanto la figura del Enano como la polka de Domingo Santos Rodrígue
 z (Santa Cruz de La Palma\, 1902-1979) en símbolos por excelencia de la f
 estividad y de la isla.\nEntradas días 10 &gt\;&gt\;\n\n\nLa danza cuenta
  con dos partes\, la primera es en la que un coro que viste diferentes atu
 endos en cada edición interpreta una canción que da paso a la transforma
 ción en los esperados enanos. A partir de la edición de 1905 (Viejos) se
  sucedieron las distintas representaciones:  Guerreros\, Peregrinos\; Mon
 jes Blancos\, Reyes\; Japoneses\; Romanos\; Doctores\; Nazarenos\; Conseje
 ros\;  Estudiantes\; Atenienses\; Dominicos\; Astrólogos\; Musulmanes\; 
 Peregrinos\; Navegantes\; Vikingos...\n\n\nEn esta edición se pondrá en 
 escena\, en la primera parte\, la obra "Reyes"\, estrenada en la Bajada de
  la Virgen de 1925\, compuesta por el poeta\, periodista y abogado José L
 ozano Pérez (Santa Cruz de La Palma\, 1890-1951)\, autor de la letra\, y 
 por el médico\, entomólogo y músico Elías Santos Abreu (Los Llanos de 
 Aridane\, 1856-Santa Cruz de La Palma\, 1937).\nLa segunda parte es la tra
 nsformación de los hombres en enanos y su peculiar danza.\n\nDespués de 
 las funciones en el Recinto Lustral\, los enanos salen a la calle.\n\nEn e
 sta edición\, por primera vez\, el número cuenta con la particularidad d
 e dos mujeres pasan a formar parte del esperado espectáculo\, cosa que no
  había sucedido hasta ahora. Gara Lorenzo Díaz y Saray Pérez Castillo\,
  serán las primeras en participar en la Danza de los Enanos.\n\n\n\n&nbsp
 \;
ATTACH;FMTTYPE=image/jpeg:https://www.larevistadelapalma.com/wp-content/up
 loads/2025/06/Enanos-La-Revista-de-La-Palma-2015-2-1.jpg
CATEGORIES:Espectáculos,Fiestas populares,Otras propuestas
LOCATION:Municipio de Santa Cruz de La Palma\, Santa Cruz de La Palma \, Sa
 nta Cruz de La Palma \, 38700\, España
GEO:28.688757;-17.765102
X-APPLE-STRUCTURED-LOCATION;VALUE=URI;X-ADDRESS=Santa Cruz de La Palma \, S
 anta Cruz de La Palma \, 38700\, España;X-APPLE-RADIUS=100;X-TITLE=Munici
 pio de Santa Cruz de La Palma:geo:28.688757,-17.765102
END:VEVENT
END:VCALENDAR