BEGIN:VCALENDAR
VERSION:2.0
PRODID:-//wp-events-plugin.com//7.2.3.1//EN
TZID:Europe/London
X-WR-TIMEZONE:Europe/London
BEGIN:VEVENT
UID:5@larevistadelapalma.com
DTSTART:20230623T193000Z
DTEND:20230623T203000Z
DTSTAMP:20230621T180019Z
URL:https://www.larevistadelapalma.com/events/dario-lopez-en-el-circo-de-m
 arte-con-hay-gente-pa-todo/
SUMMARY:Darío López en el Circo de Marte con "Hay gente pa todo"
DESCRIPTION:Hay gente que está diciendo que Darío se va a volver a venir 
 arriba del escenario para hacer de las suyas.
ATTACH;FMTTYPE=image/jpeg:https://www.larevistadelapalma.com/wp-content/up
 loads/2023/06/Cartel-DARIO-CIRCO-DE-MARTE.png
CATEGORIES:Espectáculos
LOCATION:Teatro Circo de Marte\, Calle Virgen de La Luz\, 5\, Santa Cruz de
  La Palma\, 38700\, España
GEO:28.682989;-17.765755
X-APPLE-STRUCTURED-LOCATION;VALUE=URI;X-ADDRESS=Calle Virgen de La Luz\, 5\
 , Santa Cruz de La Palma\, 38700\, España;X-APPLE-RADIUS=100;X-TITLE=Teat
 ro Circo de Marte:geo:28.682989,-17.765755
END:VEVENT
END:VCALENDARBEGIN:VCALENDAR
VERSION:2.0
PRODID:-//wp-events-plugin.com//7.2.3.1//EN
TZID:Europe/London
X-WR-TIMEZONE:Europe/London
BEGIN:VEVENT
UID:5@larevistadelapalma.com
DTSTART:20230623T193000Z
DTEND:20230623T203000Z
DTSTAMP:20230621T180019Z
URL:https://www.larevistadelapalma.com/events/dario-lopez-en-el-circo-de-m
 arte-con-hay-gente-pa-todo/
SUMMARY:Darío López en el Circo de Marte con "Hay gente pa todo"
DESCRIPTION:Hay gente que está diciendo que Darío se va a volver a venir 
 arriba del escenario para hacer de las suyas.
ATTACH;FMTTYPE=image/jpeg:https://www.larevistadelapalma.com/wp-content/up
 loads/2023/06/Cartel-DARIO-CIRCO-DE-MARTE.png
CATEGORIES:Espectáculos
LOCATION:Teatro Circo de Marte\, Calle Virgen de La Luz\, 5\, Santa Cruz de
  La Palma\, 38700\, España
GEO:28.682989;-17.765755
X-APPLE-STRUCTURED-LOCATION;VALUE=URI;X-ADDRESS=Calle Virgen de La Luz\, 5\
 , Santa Cruz de La Palma\, 38700\, España;X-APPLE-RADIUS=100;X-TITLE=Teat
 ro Circo de Marte:geo:28.682989,-17.765755
END:VEVENT
END:VCALENDAR