BEGIN:VCALENDAR
VERSION:2.0
PRODID:-//wp-events-plugin.com//7.2.3.1//EN
TZID:Europe/London
X-WR-TIMEZONE:Europe/London
BEGIN:VEVENT
UID:2974@larevistadelapalma.com
DTSTART:20240512T110000Z
DTEND:20240512T123000Z
DTSTAMP:20240509T121929Z
URL:https://www.larevistadelapalma.com/events/de-la-tierra-a-la-luna-teatr
 o-circo-de-marte/
SUMMARY:"De la Tierra a la Luna"\, Teatro Circo de Marte
DESCRIPTION:\n\n\n\nMax tiene la difícil tarea de escribir una redacción 
 para clase con el tema: “ Que quiero ser de mayor” Como no lo tiene na
 da claro\, decide ponerse a leer un libro titulado: “De la Tierra a la L
 una” De repente aparece JV un alocado robot que le guiará en un diverti
 do viaje por el espacio en el que Max aprenderá que su mayor potencial pr
 oviene de aquello que le hace diferente y original.\n\n\n\n“De la Tierra
  a la Luna” es un impactante espectáculo que versiona la conocida novel
 a de Julio Verne.\n\n\n\nPersonajes de carne y hueso se entremezclan con t
 íteres de diferentes tamaños envueltos en la magia del teatro negro. Un 
 espectáculo familiar en el que la imaginación es el motor para alcanzar 
 lo que te propongas\, incluso la luna.\n\n\n\n\nUna versión libre de la c
 onocida novela de Julio Verne en la que los títeres de diferentes tamaño
 s se entremezclan con personajes de carne y hueso y proyecciones. Un espec
 táculo lleno de humor y poesía visual en el que la fantasía es el motor
  para llegar a la Luna.\n\n\n\nEDAD RECOMENDADA: A partir de 4 años.\nCom
 prar entradas &gt\;&gt\;\n\n
ATTACH;FMTTYPE=image/jpeg:https://www.larevistadelapalma.com/wp-content/up
 loads/2024/05/De-la-tiera-a-ala-luna.jpg
CATEGORIES:Espectáculos
LOCATION:Teatro Circo de Marte\, Calle Virgen de La Luz\, 5\, Santa Cruz de
  La Palma\, 38700\, España
GEO:28.682989;-17.765755
X-APPLE-STRUCTURED-LOCATION;VALUE=URI;X-ADDRESS=Calle Virgen de La Luz\, 5\
 , Santa Cruz de La Palma\, 38700\, España;X-APPLE-RADIUS=100;X-TITLE=Teat
 ro Circo de Marte:geo:28.682989,-17.765755
END:VEVENT
END:VCALENDARBEGIN:VCALENDAR
VERSION:2.0
PRODID:-//wp-events-plugin.com//7.2.3.1//EN
TZID:Europe/London
X-WR-TIMEZONE:Europe/London
BEGIN:VEVENT
UID:2974@larevistadelapalma.com
DTSTART:20240512T110000Z
DTEND:20240512T123000Z
DTSTAMP:20240509T121929Z
URL:https://www.larevistadelapalma.com/events/de-la-tierra-a-la-luna-teatr
 o-circo-de-marte/
SUMMARY:"De la Tierra a la Luna"\, Teatro Circo de Marte
DESCRIPTION:\n\n\n\nMax tiene la difícil tarea de escribir una redacción 
 para clase con el tema: “ Que quiero ser de mayor” Como no lo tiene na
 da claro\, decide ponerse a leer un libro titulado: “De la Tierra a la L
 una” De repente aparece JV un alocado robot que le guiará en un diverti
 do viaje por el espacio en el que Max aprenderá que su mayor potencial pr
 oviene de aquello que le hace diferente y original.\n\n\n\n“De la Tierra
  a la Luna” es un impactante espectáculo que versiona la conocida novel
 a de Julio Verne.\n\n\n\nPersonajes de carne y hueso se entremezclan con t
 íteres de diferentes tamaños envueltos en la magia del teatro negro. Un 
 espectáculo familiar en el que la imaginación es el motor para alcanzar 
 lo que te propongas\, incluso la luna.\n\n\n\n\nUna versión libre de la c
 onocida novela de Julio Verne en la que los títeres de diferentes tamaño
 s se entremezclan con personajes de carne y hueso y proyecciones. Un espec
 táculo lleno de humor y poesía visual en el que la fantasía es el motor
  para llegar a la Luna.\n\n\n\nEDAD RECOMENDADA: A partir de 4 años.\nCom
 prar entradas &gt\;&gt\;\n\n
ATTACH;FMTTYPE=image/jpeg:https://www.larevistadelapalma.com/wp-content/up
 loads/2024/05/De-la-tiera-a-ala-luna.jpg
CATEGORIES:Espectáculos
LOCATION:Teatro Circo de Marte\, Calle Virgen de La Luz\, 5\, Santa Cruz de
  La Palma\, 38700\, España
GEO:28.682989;-17.765755
X-APPLE-STRUCTURED-LOCATION;VALUE=URI;X-ADDRESS=Calle Virgen de La Luz\, 5\
 , Santa Cruz de La Palma\, 38700\, España;X-APPLE-RADIUS=100;X-TITLE=Teat
 ro Circo de Marte:geo:28.682989,-17.765755
END:VEVENT
END:VCALENDAR