BEGIN:VCALENDAR
VERSION:2.0
PRODID:-//wp-events-plugin.com//7.2.3.1//EN
TZID:Europe/London
X-WR-TIMEZONE:Europe/London
BEGIN:VEVENT
UID:3787@larevistadelapalma.com
DTSTART:20250608T080000Z
DTEND:20250608T143000Z
DTSTAMP:20250602T231706Z
URL:https://www.larevistadelapalma.com/events/de-ruta-con-tu-perro-al-refu
 gio-del-pilar-con-brunch/
SUMMARY:"De ruta con tu perro"- Ruta al Refugio del Pilar\, con brunch incl
 uido
DESCRIPTION:\nLa séptima ruta de esta serie que organiza el Ayuntamiento d
 e Tijarafe tiene el siguiente recorrido:\nRefugio del Pilar - Pared Vieja 
 - Refugio del Pilar (El Paso). Terminando con brunch y visita a ECOFINCA 
 TACANDE. (13:30horas )\n\n\n\n 	Hora de salida: 09:00 horas\n 	Punto de en
 cuentro: Refugio del Pilar\n\nDurante el recorrido\, el guía te aportará
  toda la información cultural\, etnográfica\, sobre la fauna y vegetaci
 ón de la misma\, así como sus conocimientos y su experiencia.\nSiempre e
 starás asesorado por el educador canino si lo precisas. En cualquier caso
 \, si son tus primeras salidas o crees que te cuesta gestionar las emocion
 es al compartir con más perros\, no te preocupes\,  también irás acom
 pañado por un psicólogo especializado en Educación Social y Ambiental\,
  quien aportará recursos y herramientas en la relación como grupo y con 
 el medio.\nUna vez realizada la inscripción te llamarán para resolver t
 us dudas o escuchar tus inquietudes sobre esta actividad.\nPor cuestiones 
 de logística y realización cada ruta tiene plazas limitadas. Una vez cu
 bierto el aforo crearán una lista reserva por orden de inscripción por s
 i hubiera alguna cancelación de última hora. Te avisarán con tiempo par
 a que te organices si esto sucede.\nInformación e inscripción en el tel
 éfono 922 47 61 02
ATTACH;FMTTYPE=image/jpeg:https://www.larevistadelapalma.com/wp-content/up
 loads/2025/06/De-ruta-con-tu-perro-Tijarafe.jpg
CATEGORIES:Actividades deportivas,Otras propuestas,Varios
LOCATION:Municipio de El Paso\, El Paso\, La Palma \, El Paso\, 38750\, Esp
 aña
GEO:28.652378;-17.880396
X-APPLE-STRUCTURED-LOCATION;VALUE=URI;X-ADDRESS=El Paso\, La Palma \, El Pa
 so\, 38750\, España;X-APPLE-RADIUS=100;X-TITLE=Municipio de El Paso:geo:2
 8.652378,-17.880396
END:VEVENT
END:VCALENDARBEGIN:VCALENDAR
VERSION:2.0
PRODID:-//wp-events-plugin.com//7.2.3.1//EN
TZID:Europe/London
X-WR-TIMEZONE:Europe/London
BEGIN:VEVENT
UID:3787@larevistadelapalma.com
DTSTART:20250608T080000Z
DTEND:20250608T143000Z
DTSTAMP:20250602T231706Z
URL:https://www.larevistadelapalma.com/events/de-ruta-con-tu-perro-al-refu
 gio-del-pilar-con-brunch/
SUMMARY:"De ruta con tu perro"- Ruta al Refugio del Pilar\, con brunch incl
 uido
DESCRIPTION:\nLa séptima ruta de esta serie que organiza el Ayuntamiento d
 e Tijarafe tiene el siguiente recorrido:\nRefugio del Pilar - Pared Vieja 
 - Refugio del Pilar (El Paso). Terminando con brunch y visita a ECOFINCA 
 TACANDE. (13:30horas )\n\n\n\n 	Hora de salida: 09:00 horas\n 	Punto de en
 cuentro: Refugio del Pilar\n\nDurante el recorrido\, el guía te aportará
  toda la información cultural\, etnográfica\, sobre la fauna y vegetaci
 ón de la misma\, así como sus conocimientos y su experiencia.\nSiempre e
 starás asesorado por el educador canino si lo precisas. En cualquier caso
 \, si son tus primeras salidas o crees que te cuesta gestionar las emocion
 es al compartir con más perros\, no te preocupes\,  también irás acom
 pañado por un psicólogo especializado en Educación Social y Ambiental\,
  quien aportará recursos y herramientas en la relación como grupo y con 
 el medio.\nUna vez realizada la inscripción te llamarán para resolver t
 us dudas o escuchar tus inquietudes sobre esta actividad.\nPor cuestiones 
 de logística y realización cada ruta tiene plazas limitadas. Una vez cu
 bierto el aforo crearán una lista reserva por orden de inscripción por s
 i hubiera alguna cancelación de última hora. Te avisarán con tiempo par
 a que te organices si esto sucede.\nInformación e inscripción en el tel
 éfono 922 47 61 02
ATTACH;FMTTYPE=image/jpeg:https://www.larevistadelapalma.com/wp-content/up
 loads/2025/06/De-ruta-con-tu-perro-Tijarafe.jpg
CATEGORIES:Actividades deportivas,Otras propuestas,Varios
LOCATION:Municipio de El Paso\, El Paso\, La Palma \, El Paso\, 38750\, Esp
 aña
GEO:28.652378;-17.880396
X-APPLE-STRUCTURED-LOCATION;VALUE=URI;X-ADDRESS=El Paso\, La Palma \, El Pa
 so\, 38750\, España;X-APPLE-RADIUS=100;X-TITLE=Municipio de El Paso:geo:2
 8.652378,-17.880396
END:VEVENT
END:VCALENDAR