BEGIN:VCALENDAR
VERSION:2.0
PRODID:-//wp-events-plugin.com//7.2.3.1//EN
TZID:Europe/London
X-WR-TIMEZONE:Europe/London
BEGIN:VEVENT
UID:3572@larevistadelapalma.com
DTSTART:20250208T090000Z
DTEND:20250208T150000Z
DTSTAMP:20250129T225955Z
URL:https://www.larevistadelapalma.com/events/de-ruta-con-tu-perro-san-ant
 onio-del-monte/
SUMMARY:De ruta con tu perro: San Antonio del Monte
DESCRIPTION:Con guía oficial y educador canino.\nUna de las mejores manera
 s de conocer los paisajes naturales y disfrutar del aire fresco si compart
 es tu vida con un perro es a través de rutas guiadas con perros. Estas ru
 tas son una excelente manera de hacer ejercicio\, pasar tiempo en la natur
 aleza y conocer nuevos amigos peludos.\nLas rutas guiadas con perros son 
 lideradas por guías oficiales experimentados que conocen muy bien la zona
 \, por lo que podrás aprender mucho sobre la flora y fauna local\, así c
 omo sobre la historia y cultura del lugar. Además\, podrás disfrutar de 
 la compañía de tu perro.\n\n\n\n\n\n\n 	Hora de salida: 10:00 h.\n 	Punt
 o de encuentro: Iglesia de San Antonio del Monte.\n 	Durante el recorrido\
 , el guía te aportará toda la información cultural\, etnográfica\, sob
 re la fauna y vegetación de la misma\, así como sus conocimientos y su e
 xperiencia.\n 	Siempre estarás asesorado por el educador canino si lo pre
 cisas.\n 	En cualquier caso\, si son tus primeras salidas o crees que te c
 uesta gestionar las emociones al compartir con más perros\, no te preocup
 es\, también irás acompañado por un psicólogo especializado en Educaci
 ón Social y Ambiental\, quien aportará recursos y herramientas en la rel
 ación como grupo y con el medio.\n 	Una vez realizada la inscripción te 
 llamarán para resolver tus dudas o escuchar tus inquietudes sobre esta ac
 tividad.\n 	Por cuestiones de logística y realización cada ruta tiene pl
 azas limitadas.\n 	Una vez cubierto el aforo crearán una lista de reserva
  por orden de inscripción por si hubiera alguna cancelación de última h
 ora. Te avisarán con tiempo para que te organices si esto sucede.\n\n\n\n
 \nInformación e Inscripción en el teléfono 922 47 61 02
ATTACH;FMTTYPE=image/jpeg:https://www.larevistadelapalma.com/wp-content/up
 loads/2025/01/De-ruta-con-tu-perro-san-antonio-del-Monte.jpg
CATEGORIES:Actividades deportivas,Otras propuestas,Varios
LOCATION:Municipio Villa de Garafía\, Garafía\, Garafía\, 38787\, Españ
 a
GEO:28.822803;-17.950221
X-APPLE-STRUCTURED-LOCATION;VALUE=URI;X-ADDRESS=Garafía\, Garafía\, 38787
 \, España;X-APPLE-RADIUS=100;X-TITLE=Municipio Villa de Garafía:geo:28.8
 22803,-17.950221
END:VEVENT
END:VCALENDARBEGIN:VCALENDAR
VERSION:2.0
PRODID:-//wp-events-plugin.com//7.2.3.1//EN
TZID:Europe/London
X-WR-TIMEZONE:Europe/London
BEGIN:VEVENT
UID:3572@larevistadelapalma.com
DTSTART:20250208T090000Z
DTEND:20250208T150000Z
DTSTAMP:20250129T225955Z
URL:https://www.larevistadelapalma.com/events/de-ruta-con-tu-perro-san-ant
 onio-del-monte/
SUMMARY:De ruta con tu perro: San Antonio del Monte
DESCRIPTION:Con guía oficial y educador canino.\nUna de las mejores manera
 s de conocer los paisajes naturales y disfrutar del aire fresco si compart
 es tu vida con un perro es a través de rutas guiadas con perros. Estas ru
 tas son una excelente manera de hacer ejercicio\, pasar tiempo en la natur
 aleza y conocer nuevos amigos peludos.\nLas rutas guiadas con perros son 
 lideradas por guías oficiales experimentados que conocen muy bien la zona
 \, por lo que podrás aprender mucho sobre la flora y fauna local\, así c
 omo sobre la historia y cultura del lugar. Además\, podrás disfrutar de 
 la compañía de tu perro.\n\n\n\n\n\n\n 	Hora de salida: 10:00 h.\n 	Punt
 o de encuentro: Iglesia de San Antonio del Monte.\n 	Durante el recorrido\
 , el guía te aportará toda la información cultural\, etnográfica\, sob
 re la fauna y vegetación de la misma\, así como sus conocimientos y su e
 xperiencia.\n 	Siempre estarás asesorado por el educador canino si lo pre
 cisas.\n 	En cualquier caso\, si son tus primeras salidas o crees que te c
 uesta gestionar las emociones al compartir con más perros\, no te preocup
 es\, también irás acompañado por un psicólogo especializado en Educaci
 ón Social y Ambiental\, quien aportará recursos y herramientas en la rel
 ación como grupo y con el medio.\n 	Una vez realizada la inscripción te 
 llamarán para resolver tus dudas o escuchar tus inquietudes sobre esta ac
 tividad.\n 	Por cuestiones de logística y realización cada ruta tiene pl
 azas limitadas.\n 	Una vez cubierto el aforo crearán una lista de reserva
  por orden de inscripción por si hubiera alguna cancelación de última h
 ora. Te avisarán con tiempo para que te organices si esto sucede.\n\n\n\n
 \nInformación e Inscripción en el teléfono 922 47 61 02
ATTACH;FMTTYPE=image/jpeg:https://www.larevistadelapalma.com/wp-content/up
 loads/2025/01/De-ruta-con-tu-perro-san-antonio-del-Monte.jpg
CATEGORIES:Actividades deportivas,Otras propuestas,Varios
LOCATION:Municipio Villa de Garafía\, Garafía\, Garafía\, 38787\, Españ
 a
GEO:28.822803;-17.950221
X-APPLE-STRUCTURED-LOCATION;VALUE=URI;X-ADDRESS=Garafía\, Garafía\, 38787
 \, España;X-APPLE-RADIUS=100;X-TITLE=Municipio Villa de Garafía:geo:28.8
 22803,-17.950221
END:VEVENT
END:VCALENDAR