BEGIN:VCALENDAR
VERSION:2.0
PRODID:-//wp-events-plugin.com//7.2.3.1//EN
TZID:Europe/London
X-WR-TIMEZONE:Europe/London
BEGIN:VEVENT
UID:4037@larevistadelapalma.com
DTSTART:20251108T083000Z
DTEND:20251108T104500Z
DTSTAMP:20251028T123617Z
URL:https://www.larevistadelapalma.com/events/de-ruta-con-tu-perro-sigue-c
 on-una-ruta-circular-por-barlovento/
SUMMARY:"De ruta con tu perro" sigue con una ruta circular por Barlovento
DESCRIPTION:\nLaguna de Barlovento -Circular (Barlovento)\nSaldrán de La L
 aguna de Barlovento por el PR LP 7.1\, dirección Galería de la Melenara\
 , pasando por antiguas fuentes llenas de historia. Nos adentraremos en el 
 bosque para ascender hasta el Roque de los Campanarios y posteriormente vo
 lver descendiendo por el PR LP 8 de vuelta a La Laguna.\n\n\n Durante el 
 recorrido\, el guía te aportará toda la información cultural y etnográ
 fica sobre la fauna y vegetación de la misma\, así como sus conocimiento
 s y su experiencia.\nSiempre estarás asesorado por el educador canino si 
 lo precisas. En cualquier caso\, si son tus primeras salidas o crees que 
 te cuesta gestionar las emociones al compartir con más perros\, no te pre
 ocupes\, también irás acompañado por un psicólogo especializado en Edu
 cación Social y Ambiental\, quien aportará recursos y herramientas en la
  relación como grupo y con el medio.\n\n[caption id="attachment_10859" al
 ign="aligncenter" width="872"] Una imagen de una ruta anterior\, que tuvo 
 lugar en El Paso\, con recorrido el Refugio del Pilar-Pared Vieja-Refugio 
 del Pilar\, terminando con degustación de brunch y visita a Ecofinca Taca
 nde.[/caption]\n\n\n\nUna vez realizada la inscripción te llamarán para 
 resolver tus dudas o escuchar tus inquietudes sobre esta actividad.\n\n\nP
 or cuestiones de logística y realización cada ruta tiene plazas limitada
 s. Una vez cubierto el aforo crearán una lista reserva por orden de inscr
 ipción por si hubiera alguna cancelación de última hora. Te avisarán c
 on tiempo para que te organices si esto sucede.\n\n\n 	 Hora de salida: 0
 9:35\n 	Punto de encuentro: Parking Laguna de Barlovento .\n 	Información
  e inscripción en el teléfono 922 47 61 02\n\n\n
ATTACH;FMTTYPE=image/jpeg:https://www.larevistadelapalma.com/wp-content/up
 loads/2025/10/De-ruta-con-tu-perro-barlovento.jpg
CATEGORIES:Actividades deportivas,Otras propuestas
LOCATION:Municipio de Barlovento\, Barlovento\, Barlovento\, 38726\, Españ
 a
GEO:28.834132;-17.805077
X-APPLE-STRUCTURED-LOCATION;VALUE=URI;X-ADDRESS=Barlovento\, Barlovento\, 3
 8726\, España;X-APPLE-RADIUS=100;X-TITLE=Municipio de Barlovento:geo:28.8
 34132,-17.805077
END:VEVENT
END:VCALENDARBEGIN:VCALENDAR
VERSION:2.0
PRODID:-//wp-events-plugin.com//7.2.3.1//EN
TZID:Europe/London
X-WR-TIMEZONE:Europe/London
BEGIN:VEVENT
UID:4037@larevistadelapalma.com
DTSTART:20251108T083000Z
DTEND:20251108T104500Z
DTSTAMP:20251028T123617Z
URL:https://www.larevistadelapalma.com/events/de-ruta-con-tu-perro-sigue-c
 on-una-ruta-circular-por-barlovento/
SUMMARY:"De ruta con tu perro" sigue con una ruta circular por Barlovento
DESCRIPTION:\nLaguna de Barlovento -Circular (Barlovento)\nSaldrán de La L
 aguna de Barlovento por el PR LP 7.1\, dirección Galería de la Melenara\
 , pasando por antiguas fuentes llenas de historia. Nos adentraremos en el 
 bosque para ascender hasta el Roque de los Campanarios y posteriormente vo
 lver descendiendo por el PR LP 8 de vuelta a La Laguna.\n\n\n Durante el 
 recorrido\, el guía te aportará toda la información cultural y etnográ
 fica sobre la fauna y vegetación de la misma\, así como sus conocimiento
 s y su experiencia.\nSiempre estarás asesorado por el educador canino si 
 lo precisas. En cualquier caso\, si son tus primeras salidas o crees que 
 te cuesta gestionar las emociones al compartir con más perros\, no te pre
 ocupes\, también irás acompañado por un psicólogo especializado en Edu
 cación Social y Ambiental\, quien aportará recursos y herramientas en la
  relación como grupo y con el medio.\n\n[caption id="attachment_10859" al
 ign="aligncenter" width="872"] Una imagen de una ruta anterior\, que tuvo 
 lugar en El Paso\, con recorrido el Refugio del Pilar-Pared Vieja-Refugio 
 del Pilar\, terminando con degustación de brunch y visita a Ecofinca Taca
 nde.[/caption]\n\n\n\nUna vez realizada la inscripción te llamarán para 
 resolver tus dudas o escuchar tus inquietudes sobre esta actividad.\n\n\nP
 or cuestiones de logística y realización cada ruta tiene plazas limitada
 s. Una vez cubierto el aforo crearán una lista reserva por orden de inscr
 ipción por si hubiera alguna cancelación de última hora. Te avisarán c
 on tiempo para que te organices si esto sucede.\n\n\n 	 Hora de salida: 0
 9:35\n 	Punto de encuentro: Parking Laguna de Barlovento .\n 	Información
  e inscripción en el teléfono 922 47 61 02\n\n\n
ATTACH;FMTTYPE=image/jpeg:https://www.larevistadelapalma.com/wp-content/up
 loads/2025/10/De-ruta-con-tu-perro-barlovento.jpg
CATEGORIES:Actividades deportivas,Otras propuestas
LOCATION:Municipio de Barlovento\, Barlovento\, Barlovento\, 38726\, Españ
 a
GEO:28.834132;-17.805077
X-APPLE-STRUCTURED-LOCATION;VALUE=URI;X-ADDRESS=Barlovento\, Barlovento\, 3
 8726\, España;X-APPLE-RADIUS=100;X-TITLE=Municipio de Barlovento:geo:28.8
 34132,-17.805077
END:VEVENT
END:VCALENDAR