BEGIN:VCALENDAR
VERSION:2.0
PRODID:-//wp-events-plugin.com//7.2.3.1//EN
TZID:Europe/London
X-WR-TIMEZONE:Europe/London
BEGIN:VEVENT
UID:3550@larevistadelapalma.com
DTSTART:20250116T170000Z
DTEND:20250116T193000Z
DTSTAMP:20250113T222321Z
URL:https://www.larevistadelapalma.com/events/debate-de-cine-y-sociedad-co
 n-12-hombres-sin-piedad/
SUMMARY:Debate de cine y sociedad con : "12 hombres sin piedad"
DESCRIPTION:12 hombres sin piedad\, Sidney Lumet (1957): Los doce miembros 
 de un jurado deben juzgar a un adolescente acusado de haber matado a su pa
 dre. Todos menos uno están convencidos de la culpabilidad del acusado. El
  que disiente intenta introducir en el debate una duda razonable que haga 
 recapacitar a sus compañeros para que cambien el sentido de su voto.\n\n
ATTACH;FMTTYPE=image/jpeg:https://www.larevistadelapalma.com/wp-content/up
 loads/2025/01/12-hombres-sin-piedad-debate.jpg
CATEGORIES:Cine,Cine y Literatura,Otras propuestas,Varios
LOCATION:Casa de La Cultura de Los Llanos de Aridane\, : C. Real\, 8\, Los 
 Llanos de Aridane \, 38760\, España
GEO:28.658651;-17.913512
X-APPLE-STRUCTURED-LOCATION;VALUE=URI;X-ADDRESS=: C. Real\, 8\, Los Llanos 
 de Aridane \, 38760\, España;X-APPLE-RADIUS=100;X-TITLE=Casa de La Cultur
 a de Los Llanos de Aridane:geo:28.658651,-17.913512
END:VEVENT
END:VCALENDARBEGIN:VCALENDAR
VERSION:2.0
PRODID:-//wp-events-plugin.com//7.2.3.1//EN
TZID:Europe/London
X-WR-TIMEZONE:Europe/London
BEGIN:VEVENT
UID:3550@larevistadelapalma.com
DTSTART:20250116T170000Z
DTEND:20250116T193000Z
DTSTAMP:20250113T222321Z
URL:https://www.larevistadelapalma.com/events/debate-de-cine-y-sociedad-co
 n-12-hombres-sin-piedad/
SUMMARY:Debate de cine y sociedad con : "12 hombres sin piedad"
DESCRIPTION:12 hombres sin piedad\, Sidney Lumet (1957): Los doce miembros 
 de un jurado deben juzgar a un adolescente acusado de haber matado a su pa
 dre. Todos menos uno están convencidos de la culpabilidad del acusado. El
  que disiente intenta introducir en el debate una duda razonable que haga 
 recapacitar a sus compañeros para que cambien el sentido de su voto.\n\n
ATTACH;FMTTYPE=image/jpeg:https://www.larevistadelapalma.com/wp-content/up
 loads/2025/01/12-hombres-sin-piedad-debate.jpg
CATEGORIES:Cine,Cine y Literatura,Otras propuestas,Varios
LOCATION:Casa de La Cultura de Los Llanos de Aridane\, : C. Real\, 8\, Los 
 Llanos de Aridane \, 38760\, España
GEO:28.658651;-17.913512
X-APPLE-STRUCTURED-LOCATION;VALUE=URI;X-ADDRESS=: C. Real\, 8\, Los Llanos 
 de Aridane \, 38760\, España;X-APPLE-RADIUS=100;X-TITLE=Casa de La Cultur
 a de Los Llanos de Aridane:geo:28.658651,-17.913512
END:VEVENT
END:VCALENDAR