BEGIN:VCALENDAR
VERSION:2.0
PRODID:-//wp-events-plugin.com//7.2.3.1//EN
TZID:Europe/London
X-WR-TIMEZONE:Europe/London
BEGIN:VEVENT
UID:2739@larevistadelapalma.com
DTSTART:20240125T170000Z
DTEND:20240125T193000Z
DTSTAMP:20240122T185542Z
URL:https://www.larevistadelapalma.com/events/debate-de-cine-y-sociedad-en
 -los-llanos-con-21-gramos/
SUMMARY:Debate de cine y sociedad en Los Llanos con "21 gramos"
DESCRIPTION:21 gramos\, Alejandro González Iñárritu (2003)\nUna historia
  que explora las fuertes sensaciones emocionales y físicas de tres person
 ajes: Paul (Sean Penn)\, Gato (Benicio Del Toro)\, y Cristina (Naomi Watts
 ) unidos por un accidente inesperado que hace que sus vidas y destinos se 
 crucen.\n\nPaul es un profesor universitario con una dolencia coronaria mu
 y grave\, a la espera de un trasplante de corazón. Cristina vive una exis
 tencia de cuento de hadas\, con un marido estupendo y dos hijas preciosas.
  Y Jack es un exconvicto de fuertes convicciones religiosas que lucha por 
 sacar adelante a su familia. Un accidente unirá fatalmente las vidas de t
 odos ellos.
ATTACH;FMTTYPE=image/jpeg:https://www.larevistadelapalma.com/wp-content/up
 loads/2024/01/21-gramos-debate-Los-Llanos.jpg
CATEGORIES:Cine,Cine y Literatura
LOCATION:Casa de La Cultura de Los Llanos de Aridane\, : C. Real\, 8\, Los 
 Llanos de Aridane \, 38760\, España
GEO:28.658651;-17.913512
X-APPLE-STRUCTURED-LOCATION;VALUE=URI;X-ADDRESS=: C. Real\, 8\, Los Llanos 
 de Aridane \, 38760\, España;X-APPLE-RADIUS=100;X-TITLE=Casa de La Cultur
 a de Los Llanos de Aridane:geo:28.658651,-17.913512
END:VEVENT
END:VCALENDARBEGIN:VCALENDAR
VERSION:2.0
PRODID:-//wp-events-plugin.com//7.2.3.1//EN
TZID:Europe/London
X-WR-TIMEZONE:Europe/London
BEGIN:VEVENT
UID:2739@larevistadelapalma.com
DTSTART:20240125T170000Z
DTEND:20240125T193000Z
DTSTAMP:20240122T185542Z
URL:https://www.larevistadelapalma.com/events/debate-de-cine-y-sociedad-en
 -los-llanos-con-21-gramos/
SUMMARY:Debate de cine y sociedad en Los Llanos con "21 gramos"
DESCRIPTION:21 gramos\, Alejandro González Iñárritu (2003)\nUna historia
  que explora las fuertes sensaciones emocionales y físicas de tres person
 ajes: Paul (Sean Penn)\, Gato (Benicio Del Toro)\, y Cristina (Naomi Watts
 ) unidos por un accidente inesperado que hace que sus vidas y destinos se 
 crucen.\n\nPaul es un profesor universitario con una dolencia coronaria mu
 y grave\, a la espera de un trasplante de corazón. Cristina vive una exis
 tencia de cuento de hadas\, con un marido estupendo y dos hijas preciosas.
  Y Jack es un exconvicto de fuertes convicciones religiosas que lucha por 
 sacar adelante a su familia. Un accidente unirá fatalmente las vidas de t
 odos ellos.
ATTACH;FMTTYPE=image/jpeg:https://www.larevistadelapalma.com/wp-content/up
 loads/2024/01/21-gramos-debate-Los-Llanos.jpg
CATEGORIES:Cine,Cine y Literatura
LOCATION:Casa de La Cultura de Los Llanos de Aridane\, : C. Real\, 8\, Los 
 Llanos de Aridane \, 38760\, España
GEO:28.658651;-17.913512
X-APPLE-STRUCTURED-LOCATION;VALUE=URI;X-ADDRESS=: C. Real\, 8\, Los Llanos 
 de Aridane \, 38760\, España;X-APPLE-RADIUS=100;X-TITLE=Casa de La Cultur
 a de Los Llanos de Aridane:geo:28.658651,-17.913512
END:VEVENT
END:VCALENDAR