BEGIN:VCALENDAR
VERSION:2.0
PRODID:-//wp-events-plugin.com//7.2.3.1//EN
TZID:Europe/London
X-WR-TIMEZONE:Europe/London
BEGIN:VEVENT
UID:3831@larevistadelapalma.com
DTSTART:20250627T170000Z
DTEND:20250627T183000Z
DTSTAMP:20250618T202534Z
URL:https://www.larevistadelapalma.com/events/debate-desafios-del-futuro-s
 emana-social-love-festival-2025/
SUMMARY:Debate "Desafíos del futuro" (Semana Social Love Festival 2025)
DESCRIPTION:\nLa semana social del Love\, organizada por la empresa Sodepal
 \, es una iniciativa que pretende promover la libertad sexual\, la igualda
 d y la tolerancia a través de diferentes encuentros y actividades. Podrá
 s acudir presencialmente a las ponencias\, charlas y encuentros\, o seguir
  el contenido en YouTube a través del canal Isla Bonita Love Festival\, 
 el Facebook de Sodepal y mediante el podcast de Spotify Love Podcast\nL
 a programación de la semana contará con homenajes\, proyecciones\, y dis
 tintas charlas y mesas redondas con la igualdad de género y la inclusión
  como temáticas principales y un gran fin de fiesta el sábado 28 en Taza
 corte con la Marcha del Orgullo.\n\n\nEl martes 24\, en el Palacio Salazar
  de S/C de La Palma\, con un homenaje a las víctimas de la Ley de Peligro
 sidad Social que fueron encarceladas en la isla de La Palma.\nEl miércol
 es 25\, en la Casa de La Cultura de Los Llanos\, tendrá lugar la proyecci
 ón del documental ‘Zero\, la revista que sacó del armario a un país
 ’ y una charla con su director\, Miguel Ángel López.\nEl jueves 26\,
  también en la Casa de La Cultura de Los Llanos\, se celebra la VII Conv
 ención Los veinte años de matrimonios igualitarios.\n\n\n\nEl viernes 2
 7\, en la Casa de La Cultura de Los Llanos\, una mesa abordará el tema de
  las realidades no binarias\, el espectro asexual\, la discriminación que
  sufren las mujeres trans. Participará Carla Montesdeoca\, portavoz del 
 colectivo Caminar Intersex\, Joss C. Pérez activista del espectro asexu
 al y Nayara Martínez\, presidenta de Libertrans y activista canaria.\n\n
 \n\n\n&nbsp\;\n
ATTACH;FMTTYPE=image/jpeg:https://www.larevistadelapalma.com/wp-content/up
 loads/2025/06/Desafios-del-futuro.jpg
CATEGORIES:Otras propuestas,Varios
LOCATION:Casa de La Cultura de Los Llanos de Aridane\, : C. Real\, 8\, Los 
 Llanos de Aridane \, 38760\, España
GEO:28.658651;-17.913512
X-APPLE-STRUCTURED-LOCATION;VALUE=URI;X-ADDRESS=: C. Real\, 8\, Los Llanos 
 de Aridane \, 38760\, España;X-APPLE-RADIUS=100;X-TITLE=Casa de La Cultur
 a de Los Llanos de Aridane:geo:28.658651,-17.913512
END:VEVENT
END:VCALENDARBEGIN:VCALENDAR
VERSION:2.0
PRODID:-//wp-events-plugin.com//7.2.3.1//EN
TZID:Europe/London
X-WR-TIMEZONE:Europe/London
BEGIN:VEVENT
UID:3831@larevistadelapalma.com
DTSTART:20250627T170000Z
DTEND:20250627T183000Z
DTSTAMP:20250618T202534Z
URL:https://www.larevistadelapalma.com/events/debate-desafios-del-futuro-s
 emana-social-love-festival-2025/
SUMMARY:Debate "Desafíos del futuro" (Semana Social Love Festival 2025)
DESCRIPTION:\nLa semana social del Love\, organizada por la empresa Sodepal
 \, es una iniciativa que pretende promover la libertad sexual\, la igualda
 d y la tolerancia a través de diferentes encuentros y actividades. Podrá
 s acudir presencialmente a las ponencias\, charlas y encuentros\, o seguir
  el contenido en YouTube a través del canal Isla Bonita Love Festival\, 
 el Facebook de Sodepal y mediante el podcast de Spotify Love Podcast\nL
 a programación de la semana contará con homenajes\, proyecciones\, y dis
 tintas charlas y mesas redondas con la igualdad de género y la inclusión
  como temáticas principales y un gran fin de fiesta el sábado 28 en Taza
 corte con la Marcha del Orgullo.\n\n\nEl martes 24\, en el Palacio Salazar
  de S/C de La Palma\, con un homenaje a las víctimas de la Ley de Peligro
 sidad Social que fueron encarceladas en la isla de La Palma.\nEl miércol
 es 25\, en la Casa de La Cultura de Los Llanos\, tendrá lugar la proyecci
 ón del documental ‘Zero\, la revista que sacó del armario a un país
 ’ y una charla con su director\, Miguel Ángel López.\nEl jueves 26\,
  también en la Casa de La Cultura de Los Llanos\, se celebra la VII Conv
 ención Los veinte años de matrimonios igualitarios.\n\n\n\nEl viernes 2
 7\, en la Casa de La Cultura de Los Llanos\, una mesa abordará el tema de
  las realidades no binarias\, el espectro asexual\, la discriminación que
  sufren las mujeres trans. Participará Carla Montesdeoca\, portavoz del 
 colectivo Caminar Intersex\, Joss C. Pérez activista del espectro asexu
 al y Nayara Martínez\, presidenta de Libertrans y activista canaria.\n\n
 \n\n\n&nbsp\;\n
ATTACH;FMTTYPE=image/jpeg:https://www.larevistadelapalma.com/wp-content/up
 loads/2025/06/Desafios-del-futuro.jpg
CATEGORIES:Otras propuestas,Varios
LOCATION:Casa de La Cultura de Los Llanos de Aridane\, : C. Real\, 8\, Los 
 Llanos de Aridane \, 38760\, España
GEO:28.658651;-17.913512
X-APPLE-STRUCTURED-LOCATION;VALUE=URI;X-ADDRESS=: C. Real\, 8\, Los Llanos 
 de Aridane \, 38760\, España;X-APPLE-RADIUS=100;X-TITLE=Casa de La Cultur
 a de Los Llanos de Aridane:geo:28.658651,-17.913512
END:VEVENT
END:VCALENDAR