BEGIN:VCALENDAR
VERSION:2.0
PRODID:-//wp-events-plugin.com//7.2.3.1//EN
TZID:Europe/London
X-WR-TIMEZONE:Europe/London
BEGIN:VEVENT
UID:3266@larevistadelapalma.com
DTSTART:20241118T193000Z
DTEND:20241118T210000Z
DTSTAMP:20240924T230256Z
URL:https://www.larevistadelapalma.com/events/desastre-dario-orsi/
SUMMARY:Darío Orsi en La Palma con "Desastre"
DESCRIPTION:El comediante y actor argentino\, presenta su nuevo show de sta
 nd-up "Desastre". Con un enfoque humorístico\, Orsi toca temas como el am
 or\, el sexo\, el paso de los años y la vida de las personas "rata".\n\nD
 ario ha recorrido todas las ciudades de Argentina y se ha presentado en Pa
 raguay\, Chile\, Uruguay\, Países Bajos y España. Sus divertidas improvi
 saciones en Instagram y TikTok han acumulado millones de visualizaciones y
  más de 1 millón de seguidores.\nComprar entradas &gt\;&gt\;\n&nbsp\;\n\
 n&nbsp\;\n\n\n\n&nbsp\;\n\n\n\n\n\n\n\n\n\n\nVer esta publicación en Inst
 agram\n\n\n\n\n\n\n\n\n\n\n\n\n\n\n\n\n\n\n\n\n\n\n&nbsp\;\nUna publicaci
 ón compartida de Dario Orsi (@darioorsi)\n\n\n
ATTACH;FMTTYPE=image/jpeg:https://www.larevistadelapalma.com/wp-content/up
 loads/2024/09/desastre_darioorsi.png
CATEGORIES:Espectáculos
LOCATION:Teatro Chico\, Calle Díaz Pimienta\, 1\, Santa Cruz De La Palma\,
  Santa Cruz de Tenerife\, 38700\, España
GEO:28.68432;-17.764225
X-APPLE-STRUCTURED-LOCATION;VALUE=URI;X-ADDRESS=Calle Díaz Pimienta\, 1\, 
 Santa Cruz De La Palma\, Santa Cruz de Tenerife\, 38700\, España;X-APPLE-
 RADIUS=100;X-TITLE=Teatro Chico:geo:28.68432,-17.764225
END:VEVENT
END:VCALENDARBEGIN:VCALENDAR
VERSION:2.0
PRODID:-//wp-events-plugin.com//7.2.3.1//EN
TZID:Europe/London
X-WR-TIMEZONE:Europe/London
BEGIN:VEVENT
UID:3266@larevistadelapalma.com
DTSTART:20241118T193000Z
DTEND:20241118T210000Z
DTSTAMP:20240924T230256Z
URL:https://www.larevistadelapalma.com/events/desastre-dario-orsi/
SUMMARY:Darío Orsi en La Palma con "Desastre"
DESCRIPTION:El comediante y actor argentino\, presenta su nuevo show de sta
 nd-up "Desastre". Con un enfoque humorístico\, Orsi toca temas como el am
 or\, el sexo\, el paso de los años y la vida de las personas "rata".\n\nD
 ario ha recorrido todas las ciudades de Argentina y se ha presentado en Pa
 raguay\, Chile\, Uruguay\, Países Bajos y España. Sus divertidas improvi
 saciones en Instagram y TikTok han acumulado millones de visualizaciones y
  más de 1 millón de seguidores.\nComprar entradas &gt\;&gt\;\n&nbsp\;\n\
 n&nbsp\;\n\n\n\n&nbsp\;\n\n\n\n\n\n\n\n\n\n\nVer esta publicación en Inst
 agram\n\n\n\n\n\n\n\n\n\n\n\n\n\n\n\n\n\n\n\n\n\n\n&nbsp\;\nUna publicaci
 ón compartida de Dario Orsi (@darioorsi)\n\n\n
ATTACH;FMTTYPE=image/jpeg:https://www.larevistadelapalma.com/wp-content/up
 loads/2024/09/desastre_darioorsi.png
CATEGORIES:Espectáculos
LOCATION:Teatro Chico\, Calle Díaz Pimienta\, 1\, Santa Cruz De La Palma\,
  Santa Cruz de Tenerife\, 38700\, España
GEO:28.68432;-17.764225
X-APPLE-STRUCTURED-LOCATION;VALUE=URI;X-ADDRESS=Calle Díaz Pimienta\, 1\, 
 Santa Cruz De La Palma\, Santa Cruz de Tenerife\, 38700\, España;X-APPLE-
 RADIUS=100;X-TITLE=Teatro Chico:geo:28.68432,-17.764225
END:VEVENT
END:VCALENDAR