BEGIN:VCALENDAR
VERSION:2.0
PRODID:-//wp-events-plugin.com//7.2.3.1//EN
TZID:Europe/London
X-WR-TIMEZONE:Europe/London
BEGIN:VEVENT
UID:3868@larevistadelapalma.com
DTSTART:20250704T170000Z
DTEND:20250704T190000Z
DTSTAMP:20250707T013823Z
URL:https://www.larevistadelapalma.com/events/desfile-mascarones-bajada-de
 -la-virgen-2025-3/
SUMMARY:Desfile de los mascarones- Bajada de La Virgen 2025
DESCRIPTION:La comparsa de Gigantes y cabezudos\, más conocida como "Los M
 ascarones" harán de nuevo su recorrido desde la Plaza de La Constitución
 \, hasta llegar a la Plaza de La Alameda. Entre ellos personajes muy carac
 terísticos y ya muy conocidos como Biscuit\, (al que muchos confunden con
  la figura de los enanos de La Palma)\, la Luna de Valencia\, las hermanas
  Mendoza\, el asmático.... A ellos se unen personajes más internacionale
 s como el gordo y el flaco\, o figuras de Disney. Tampoco faltan las bruja
 s que tienen un cometido muy concreto: ¡repartir escobazos!\n\n&nbsp\;\n\
 n&nbsp\;\n\nUna simpática comitiva que hace su aparición en las calles d
 e Santa Cruz de La Palma\, cada mes de mayo en las Fiestas de la Cruz\, y 
 también en las Fiestas de la Bajada de La Virgen.\n\n\n\n&nbsp\;\n\n&nbsp
 \;
ATTACH;FMTTYPE=image/jpeg:https://www.larevistadelapalma.com/wp-content/up
 loads/2025/07/gigantes-cabezudos-3-scaled.jpg
CATEGORIES:Fiestas populares,Otras propuestas,Varios
LOCATION:Municipio de Santa Cruz de La Palma\, Santa Cruz de La Palma \, Sa
 nta Cruz de La Palma \, 38700\, España
GEO:28.688757;-17.765102
X-APPLE-STRUCTURED-LOCATION;VALUE=URI;X-ADDRESS=Santa Cruz de La Palma \, S
 anta Cruz de La Palma \, 38700\, España;X-APPLE-RADIUS=100;X-TITLE=Munici
 pio de Santa Cruz de La Palma:geo:28.688757,-17.765102
END:VEVENT
END:VCALENDARBEGIN:VCALENDAR
VERSION:2.0
PRODID:-//wp-events-plugin.com//7.2.3.1//EN
TZID:Europe/London
X-WR-TIMEZONE:Europe/London
BEGIN:VEVENT
UID:3868@larevistadelapalma.com
DTSTART:20250704T170000Z
DTEND:20250704T190000Z
DTSTAMP:20250707T013823Z
URL:https://www.larevistadelapalma.com/events/desfile-mascarones-bajada-de
 -la-virgen-2025-3/
SUMMARY:Desfile de los mascarones- Bajada de La Virgen 2025
DESCRIPTION:La comparsa de Gigantes y cabezudos\, más conocida como "Los M
 ascarones" harán de nuevo su recorrido desde la Plaza de La Constitución
 \, hasta llegar a la Plaza de La Alameda. Entre ellos personajes muy carac
 terísticos y ya muy conocidos como Biscuit\, (al que muchos confunden con
  la figura de los enanos de La Palma)\, la Luna de Valencia\, las hermanas
  Mendoza\, el asmático.... A ellos se unen personajes más internacionale
 s como el gordo y el flaco\, o figuras de Disney. Tampoco faltan las bruja
 s que tienen un cometido muy concreto: ¡repartir escobazos!\n\n&nbsp\;\n\
 n&nbsp\;\n\nUna simpática comitiva que hace su aparición en las calles d
 e Santa Cruz de La Palma\, cada mes de mayo en las Fiestas de la Cruz\, y 
 también en las Fiestas de la Bajada de La Virgen.\n\n\n\n&nbsp\;\n\n&nbsp
 \;
ATTACH;FMTTYPE=image/jpeg:https://www.larevistadelapalma.com/wp-content/up
 loads/2025/07/gigantes-cabezudos-3-scaled.jpg
CATEGORIES:Fiestas populares,Otras propuestas,Varios
LOCATION:Municipio de Santa Cruz de La Palma\, Santa Cruz de La Palma \, Sa
 nta Cruz de La Palma \, 38700\, España
GEO:28.688757;-17.765102
X-APPLE-STRUCTURED-LOCATION;VALUE=URI;X-ADDRESS=Santa Cruz de La Palma \, S
 anta Cruz de La Palma \, 38700\, España;X-APPLE-RADIUS=100;X-TITLE=Munici
 pio de Santa Cruz de La Palma:geo:28.688757,-17.765102
END:VEVENT
END:VCALENDAR