BEGIN:VCALENDAR
VERSION:2.0
PRODID:-//wp-events-plugin.com//7.2.3.1//EN
TZID:Europe/London
X-WR-TIMEZONE:Europe/London
BEGIN:VEVENT
UID:3590@larevistadelapalma.com
DTSTART:20250221T180000Z
DTEND:20250221T194500Z
DTSTAMP:20250211T191626Z
URL:https://www.larevistadelapalma.com/events/despega-el-carnaval-de-brena
 -baja-con-el-concurso-de-disfraces/
SUMMARY:Despega el Carnaval de Breña Baja con el “Concurso de Disfraces
 ”
DESCRIPTION:El viernes 21 de febrero tendrá lugar\, por decima ocasión\, 
 el “Concurso de Disfraces” en la Plaza de Las Madres de San José\, or
 ganizado por el Ayuntamiento de Breña Baja y la Asociación Esverlo Event
 s. Se cuenta con la colaboración de la Asociación de Empresarios “Bre
 ña Baja Emprende”\, Grupo juvenil “La Colmena”\, Viajes Oasis\, H10
  Taburiente y Socan Events.\n\nDurante el concurso se contara con las actu
 aciones de Revolution Dance y el grupos de percusión “Olodrum” (Breñ
 a Baja). También tendrá lugar la presentación del disfraz de carnaval 2
 025 del grupo Olodrum.\n\nSe invita a participar en este concurso a todo e
 l mundo\, ya que habrá cuatro categorías: baby (0 – 6 años)\, infanti
 l (7 a 11 años)\, juvenil (12 a 17 años) y adultos (a partir de 18 años
 ) y que se podrán presentar de forma individual o grupal (pero\, el premi
 o es de carácter individual). En todas estas categorías habrá un premio
  para los ganadores.\nSe contará con un jurado\, que premiara el disfraz 
 más creativo\, impactante\, elocuente o llamativo.\nLas inscripciones se 
 podrán realizar una hora antes de comenzar el concurso (18 hs). La ficha 
 de inscripción se podrá descargar de la web del ayuntamiento y llevarla 
 rellena. Para mayor información contactar con el Ayuntamiento de Breña B
 aja (teléfono 922 43 59 55\, ext. 3034)
ATTACH;FMTTYPE=image/jpeg:https://www.larevistadelapalma.com/wp-content/up
 loads/2025/02/Juventud-Disfraces-25-Cartel.jpg
CATEGORIES:Fiestas populares,Otras propuestas
LOCATION:Plaza de las Madres\, San José\, Breña Baja\, 38712\, España
GEO:28.642202;-17.775828
X-APPLE-STRUCTURED-LOCATION;VALUE=URI;X-ADDRESS=San José\, Breña Baja\, 3
 8712\, España;X-APPLE-RADIUS=100;X-TITLE=Plaza de las Madres:geo:28.64220
 2,-17.775828
END:VEVENT
END:VCALENDARBEGIN:VCALENDAR
VERSION:2.0
PRODID:-//wp-events-plugin.com//7.2.3.1//EN
TZID:Europe/London
X-WR-TIMEZONE:Europe/London
BEGIN:VEVENT
UID:3590@larevistadelapalma.com
DTSTART:20250221T180000Z
DTEND:20250221T194500Z
DTSTAMP:20250211T191626Z
URL:https://www.larevistadelapalma.com/events/despega-el-carnaval-de-brena
 -baja-con-el-concurso-de-disfraces/
SUMMARY:Despega el Carnaval de Breña Baja con el “Concurso de Disfraces
 ”
DESCRIPTION:El viernes 21 de febrero tendrá lugar\, por decima ocasión\, 
 el “Concurso de Disfraces” en la Plaza de Las Madres de San José\, or
 ganizado por el Ayuntamiento de Breña Baja y la Asociación Esverlo Event
 s. Se cuenta con la colaboración de la Asociación de Empresarios “Bre
 ña Baja Emprende”\, Grupo juvenil “La Colmena”\, Viajes Oasis\, H10
  Taburiente y Socan Events.\n\nDurante el concurso se contara con las actu
 aciones de Revolution Dance y el grupos de percusión “Olodrum” (Breñ
 a Baja). También tendrá lugar la presentación del disfraz de carnaval 2
 025 del grupo Olodrum.\n\nSe invita a participar en este concurso a todo e
 l mundo\, ya que habrá cuatro categorías: baby (0 – 6 años)\, infanti
 l (7 a 11 años)\, juvenil (12 a 17 años) y adultos (a partir de 18 años
 ) y que se podrán presentar de forma individual o grupal (pero\, el premi
 o es de carácter individual). En todas estas categorías habrá un premio
  para los ganadores.\nSe contará con un jurado\, que premiara el disfraz 
 más creativo\, impactante\, elocuente o llamativo.\nLas inscripciones se 
 podrán realizar una hora antes de comenzar el concurso (18 hs). La ficha 
 de inscripción se podrá descargar de la web del ayuntamiento y llevarla 
 rellena. Para mayor información contactar con el Ayuntamiento de Breña B
 aja (teléfono 922 43 59 55\, ext. 3034)
ATTACH;FMTTYPE=image/jpeg:https://www.larevistadelapalma.com/wp-content/up
 loads/2025/02/Juventud-Disfraces-25-Cartel.jpg
CATEGORIES:Fiestas populares,Otras propuestas
LOCATION:Plaza de las Madres\, San José\, Breña Baja\, 38712\, España
GEO:28.642202;-17.775828
X-APPLE-STRUCTURED-LOCATION;VALUE=URI;X-ADDRESS=San José\, Breña Baja\, 3
 8712\, España;X-APPLE-RADIUS=100;X-TITLE=Plaza de las Madres:geo:28.64220
 2,-17.775828
END:VEVENT
END:VCALENDAR