BEGIN:VCALENDAR
VERSION:2.0
PRODID:-//wp-events-plugin.com//7.2.3.1//EN
TZID:Europe/London
X-WR-TIMEZONE:Europe/London
BEGIN:VEVENT
UID:3765@larevistadelapalma.com
DTSTART:20250530T100000Z
DTEND:20250530T143000Z
DTSTAMP:20250526T205039Z
URL:https://www.larevistadelapalma.com/events/dia-de-canarias-2025-en-bren
 a-baja/
SUMMARY:Día de Canarias 2025 en Breña Baja
DESCRIPTION:\nEl Ayuntamiento de Breña Baja\, con motivo del Día de Canar
 ias\, organiza un atractivo programa de actos el viernes 30 de mayo en el 
 Recinto Municipal de San José.\n\n\nLa celebración comenzará a las 11 h
 oras con la Feria de Artesanía por parte de la Asociación de Artesanos 
 “El Telar” y con la participación de varios artesanos\, además de un
 a zona de productos agroalimentarios.\nSe organizaran talleres artesanales
  (inscripciones al tlfo: 922 41 16 36).\nHabrá un sorteo de una cesta de 
 productos típicos.\nPROGRAMACIÓN\n\n\n 	11.00 hs: Apertura de la Feria.\
 n 	11.30 hs: Los Versadores. Con la participación de Nicolas González\, 
 Rodolfo Hernández y Daniel Cruz como versadores. Ricardo Felipe y Nieves 
 Clemente como decimistas. Y Daniel Cruz (laúd) y José Luis Teixé (guita
 rra).\n 	12.00 hs: Escuela de Acordeones de Breña Baja.\n 	12.30 hs: Escu
 ela de Folclore de Breña Baja.\n 	13.00 hs: Actuación de la Agrupación 
 Folklórica “Alfaguara” de Breña Baja.\n 	14.00 hs: Actuación de la 
 Agrupación Folklórica “Guantejina” de Tenerife.\n\nPara este año se
  cuenta como agrupación invitada la A. F. “Guantejina” del barrio de 
 Tejina de la Ciudad de San Cristobal de La Laguna (Tenerife).\n\n\nTodo el
 lo con la colaboración de la Asociación de Artesanos “El Telar”\, la
  Agrupación Folclórica “Alfaguara”\, Gobierno de Canarias y diversos
  colectivos y agrupaciones musicales.\n\n
ATTACH;FMTTYPE=image/jpeg:https://www.larevistadelapalma.com/wp-content/up
 loads/2025/05/DIA-DE-CANARIAS-B-BAJA.jpg
CATEGORIES:Ferias y mercados,Fiestas populares,Otras propuestas
LOCATION:Recinto Municipal de San José\, Cta. de San José\, 174C\, Breña
  Baja\, 38712\, España
GEO:28.645651;-17.774931
X-APPLE-STRUCTURED-LOCATION;VALUE=URI;X-ADDRESS=Cta. de San José\, 174C\, 
 Breña Baja\, 38712\, España;X-APPLE-RADIUS=100;X-TITLE=Recinto Municipal
  de San José:geo:28.645651,-17.774931
END:VEVENT
END:VCALENDARBEGIN:VCALENDAR
VERSION:2.0
PRODID:-//wp-events-plugin.com//7.2.3.1//EN
TZID:Europe/London
X-WR-TIMEZONE:Europe/London
BEGIN:VEVENT
UID:3765@larevistadelapalma.com
DTSTART:20250530T100000Z
DTEND:20250530T143000Z
DTSTAMP:20250526T205039Z
URL:https://www.larevistadelapalma.com/events/dia-de-canarias-2025-en-bren
 a-baja/
SUMMARY:Día de Canarias 2025 en Breña Baja
DESCRIPTION:\nEl Ayuntamiento de Breña Baja\, con motivo del Día de Canar
 ias\, organiza un atractivo programa de actos el viernes 30 de mayo en el 
 Recinto Municipal de San José.\n\n\nLa celebración comenzará a las 11 h
 oras con la Feria de Artesanía por parte de la Asociación de Artesanos 
 “El Telar” y con la participación de varios artesanos\, además de un
 a zona de productos agroalimentarios.\nSe organizaran talleres artesanales
  (inscripciones al tlfo: 922 41 16 36).\nHabrá un sorteo de una cesta de 
 productos típicos.\nPROGRAMACIÓN\n\n\n 	11.00 hs: Apertura de la Feria.\
 n 	11.30 hs: Los Versadores. Con la participación de Nicolas González\, 
 Rodolfo Hernández y Daniel Cruz como versadores. Ricardo Felipe y Nieves 
 Clemente como decimistas. Y Daniel Cruz (laúd) y José Luis Teixé (guita
 rra).\n 	12.00 hs: Escuela de Acordeones de Breña Baja.\n 	12.30 hs: Escu
 ela de Folclore de Breña Baja.\n 	13.00 hs: Actuación de la Agrupación 
 Folklórica “Alfaguara” de Breña Baja.\n 	14.00 hs: Actuación de la 
 Agrupación Folklórica “Guantejina” de Tenerife.\n\nPara este año se
  cuenta como agrupación invitada la A. F. “Guantejina” del barrio de 
 Tejina de la Ciudad de San Cristobal de La Laguna (Tenerife).\n\n\nTodo el
 lo con la colaboración de la Asociación de Artesanos “El Telar”\, la
  Agrupación Folclórica “Alfaguara”\, Gobierno de Canarias y diversos
  colectivos y agrupaciones musicales.\n\n
ATTACH;FMTTYPE=image/jpeg:https://www.larevistadelapalma.com/wp-content/up
 loads/2025/05/DIA-DE-CANARIAS-B-BAJA.jpg
CATEGORIES:Ferias y mercados,Fiestas populares,Otras propuestas
LOCATION:Recinto Municipal de San José\, Cta. de San José\, 174C\, Breña
  Baja\, 38712\, España
GEO:28.645651;-17.774931
X-APPLE-STRUCTURED-LOCATION;VALUE=URI;X-ADDRESS=Cta. de San José\, 174C\, 
 Breña Baja\, 38712\, España;X-APPLE-RADIUS=100;X-TITLE=Recinto Municipal
  de San José:geo:28.645651,-17.774931
END:VEVENT
END:VCALENDAR