BEGIN:VCALENDAR
VERSION:2.0
PRODID:-//wp-events-plugin.com//7.2.3.1//EN
TZID:Europe/London
X-WR-TIMEZONE:Europe/London
BEGIN:VEVENT
UID:3777@larevistadelapalma.com
DTSTART:20250731T160000Z
DTEND:20250731T183000Z
DTSTAMP:20250602T231003Z
URL:https://www.larevistadelapalma.com/events/dia-del-corsario-2025/
SUMMARY:Día del Corsario 2025
DESCRIPTION:Este año esta representación histórico teatral cumple su dé
 cima edición.\n\nEn el año 1553\, ocho naves del corsario François LeCl
 erc _conocido como Pata de Palo_ llegaron al norte de la Isla de La Palma.
  Una flota de unos 800 hombres irrumpen en la monotonía de la vida de los
  habitantes de la tranquila Isla para arrasar todo a su paso y sembrar el 
 pánico. Pero los palmeros no se rendirán a sus oscuros propósitos tan f
 ácilmente. Saqueos\, secuestros\, incendios\, un desolador panorama que c
 ambia por fuera y por dentro la ciudad\, hasta que finalmente logran expul
 sar a Pata de Palo y a sus hombres. \n\nEste verano será la décima ocas
 ión en la que las calles y rincones de Santa Cruz de La Palma serán el e
 scenario de la puesta en escena que revive estos acontecimientos. Se trata
  de una ruta teatralizada que nació como iniciativa de unos jóvenes de l
 a Isla y que se ha ido consolidando como una fecha destacable en el calend
 ario estival. En las últimas ediciones cientos de figurantes han formado 
 parte de esta escenificación que comienza en el popular Barco de La Virge
 n (Museo Naval de La Palma) y recorre diversos puntos de la capital.\n\nLa
  organización del Día del Corsario\, desde sus redes sociales\, siempre 
 hace un llamamiento para los que deseen participar en el recorrido como ac
 tores o figurantes. Y también invita al público en general a enriquecer 
 la puesta en escena acudiendo con ropajes del siglo XVI.\n\n\n\nNormalment
 e\, El día del Corsario tiene lugar a principios del mes de agosto\, pero
  este año se hace coincidir con los festejos de las Fiestas Lustrales de 
 la Bajada de La Virgen y se realizará el 31 de julio.\n\nEl Día del Cors
 ario\, además de la escenificación y el recorrido teatral siempre viene 
 acompañado de actividades complementarias de las que seguramente pronto t
 endremos noticias. Y además\, un festival que pone punto y final a la jor
 nada. Este año de la mano de los integrantes de Mago de Öz\, que ofrecer
 án un concierto con entrada libre. \n\n&nbsp\;
ATTACH;FMTTYPE=image/jpeg:https://www.larevistadelapalma.com/wp-content/up
 loads/2025/06/Dia-del-corsario-La-Palma.jpg
CATEGORIES:Fiestas populares,Otras propuestas,Varios
END:VEVENT
END:VCALENDARBEGIN:VCALENDAR
VERSION:2.0
PRODID:-//wp-events-plugin.com//7.2.3.1//EN
TZID:Europe/London
X-WR-TIMEZONE:Europe/London
BEGIN:VEVENT
UID:3777@larevistadelapalma.com
DTSTART:20250731T160000Z
DTEND:20250731T183000Z
DTSTAMP:20250602T231003Z
URL:https://www.larevistadelapalma.com/events/dia-del-corsario-2025/
SUMMARY:Día del Corsario 2025
DESCRIPTION:Este año esta representación histórico teatral cumple su dé
 cima edición.\n\nEn el año 1553\, ocho naves del corsario François LeCl
 erc _conocido como Pata de Palo_ llegaron al norte de la Isla de La Palma.
  Una flota de unos 800 hombres irrumpen en la monotonía de la vida de los
  habitantes de la tranquila Isla para arrasar todo a su paso y sembrar el 
 pánico. Pero los palmeros no se rendirán a sus oscuros propósitos tan f
 ácilmente. Saqueos\, secuestros\, incendios\, un desolador panorama que c
 ambia por fuera y por dentro la ciudad\, hasta que finalmente logran expul
 sar a Pata de Palo y a sus hombres. \n\nEste verano será la décima ocas
 ión en la que las calles y rincones de Santa Cruz de La Palma serán el e
 scenario de la puesta en escena que revive estos acontecimientos. Se trata
  de una ruta teatralizada que nació como iniciativa de unos jóvenes de l
 a Isla y que se ha ido consolidando como una fecha destacable en el calend
 ario estival. En las últimas ediciones cientos de figurantes han formado 
 parte de esta escenificación que comienza en el popular Barco de La Virge
 n (Museo Naval de La Palma) y recorre diversos puntos de la capital.\n\nLa
  organización del Día del Corsario\, desde sus redes sociales\, siempre 
 hace un llamamiento para los que deseen participar en el recorrido como ac
 tores o figurantes. Y también invita al público en general a enriquecer 
 la puesta en escena acudiendo con ropajes del siglo XVI.\n\n\n\nNormalment
 e\, El día del Corsario tiene lugar a principios del mes de agosto\, pero
  este año se hace coincidir con los festejos de las Fiestas Lustrales de 
 la Bajada de La Virgen y se realizará el 31 de julio.\n\nEl Día del Cors
 ario\, además de la escenificación y el recorrido teatral siempre viene 
 acompañado de actividades complementarias de las que seguramente pronto t
 endremos noticias. Y además\, un festival que pone punto y final a la jor
 nada. Este año de la mano de los integrantes de Mago de Öz\, que ofrecer
 án un concierto con entrada libre. \n\n&nbsp\;
ATTACH;FMTTYPE=image/jpeg:https://www.larevistadelapalma.com/wp-content/up
 loads/2025/06/Dia-del-corsario-La-Palma.jpg
CATEGORIES:Fiestas populares,Otras propuestas,Varios
END:VEVENT
END:VCALENDAR