BEGIN:VCALENDAR
VERSION:2.0
PRODID:-//wp-events-plugin.com//7.2.3.1//EN
TZID:Europe/London
X-WR-TIMEZONE:Europe/London
BEGIN:VEVENT
UID:844@larevistadelapalma.com
DTSTART:20231124T100000Z
DTEND:20231124T221500Z
DTSTAMP:20231122T185830Z
URL:https://www.larevistadelapalma.com/events/dia-en-blanco-los-llanos/
SUMMARY:Día en Blanco en Los Llanos de Aridane
DESCRIPTION:El Día en Blanco llenará de vida todos los rincones de Los Ll
 anos de Aridane desde las 11:00 horas hasta la noche.\nEl Ayuntamiento de 
 Los Llanos de Aridane\, de la mano con Asociación de Comerciantes Zona Ab
 ierta (ACZA) y la Zona Comercial Abierta de Los Llanos de Aridane (ZCA)\, 
 organizan El día en Blanco\, que tendrá lugar el próximo viernes\, 24 d
 e noviembre.\n\nEse viernes\, las tiendas estarán abiertas hasta las 22:0
 0 horas. La jornada contará con actividades desde primera hora de la mañ
 ana. Desde juegos de mesa\, hasta actividades deportivas\, pasando por mú
 sica en la calle. Además\, como cierre\, a las 22:00 horas\, un concierto
  homenaje a Pau Donés\, recordado por haber sido el vocalista del grupo m
 usical Jarabe de Palo.\n\nDurante toda la jornada habrá un campeonato de 
 ajedrez\, yoga y muñecos por todas las calles. También caricaturistas\, 
 talleres de glitter\, DJs\, un violinista\, un saxofonista\, teatro\, así
  como las meriendas de Mari Carmen (meriendas y juegos de antaño para ni
 ños)\, entre otras iniciativas.\n\nLas actividades comienzan a las 11:00 
 horas con un taller de yoga infantil a cargo de Sana Sana Terapias en la A
 venida Doctor Fleming. A las 12:00 horas\, en la Calle Real\, tendrá luga
 r una obra de teatro de Pepé y Tití.\n\nA partir de las 16:30 horas -y h
 asta las 19:30- la Cámara de Comercio comenzará con su actividad Las Me
 riendas de Mary Carmen y juegos de antaño en Pastelería Kikka\, Panader
 ía Zulay\, Cafetería Márez\, La Gelatería\, Winnit\, Tati Coffee Bar\,
  Bocata\, El Café de Don Manuel\, Kiosko Trocadero y Coffee Shop.\nMúsic
 a y juegos en las calles\nA partir de las 17:00 horas\, los actos se inten
 sifican con espectáculos musicales\, juegos y ocio. Comenzará el torneo 
 de ajedrez que organiza el Club Isla Bonita frente a la cafetería Edén. 
 Habrá muñecos recorriendo las zonas comerciales del municipio\, se insta
 lará una cámara 360º en la calle Fernández Taño y un fotomatón en la
  Plaza de España.\n\nEn la calle Ángel tendrá lugar el taller de juegos
  infantiles a cargo de Licka\, al tiempo que habrá acciones de dinamizaci
 ón infantil en la Avenida Carlos Francisco Lorenzo Navarro y en la Avenid
 a Enrique Mederos. En esta misma avenida actuarán un saxofonista y Zebens
 uí Melián\, mientras que en la Calle Real comenzará el espectáculo de 
 DJ Tenax.\n\nA partir de las 18:00 horas un violinista animará la Calle d
 el Medio -al comienzo de la misma- y DJ Felipe estará en la Avenida Docto
 r Fleming.\n\nA partir de las 19:00 los dj’s Xavi -en Avenida Díaz Pimi
 enta- y Visac -en calle de La Iglesia- animarán el ambiente. A partir de 
 esa hora también se instalará un stand de maquillaje de fantasía en la 
 Avenida Díaz Pimienta y habrá caricaturistas simbólicos en la Avenida V
 enezuela.\nTributo a Pau Donés\nLa clausura del Día en Blanco correrá d
 e la mano del artista Fran Ramos\, que con su proyecto Otro Palo ofrecerá
  un concierto tributo a Pau Donés. Este espectáculo comenzará a las 22:
 00 horas en la Plaza de España.\n\n\n\n&nbsp\;\n--
ATTACH;FMTTYPE=image/jpeg:https://www.larevistadelapalma.com/wp-content/up
 loads/2023/11/Dia-en-Blanco-scaled.jpg
CATEGORIES:Otras propuestas,Varios
LOCATION:Municipio de Los Llanos de Aridane\, Los Llanos de Aridane\, Los L
 lanos de Aridane\, 38760\, España
GEO:28.660236;-17.913187
X-APPLE-STRUCTURED-LOCATION;VALUE=URI;X-ADDRESS=Los Llanos de Aridane\, Los
  Llanos de Aridane\, 38760\, España;X-APPLE-RADIUS=100;X-TITLE=Municipio 
 de Los Llanos de Aridane:geo:28.660236,-17.913187
END:VEVENT
END:VCALENDARBEGIN:VCALENDAR
VERSION:2.0
PRODID:-//wp-events-plugin.com//7.2.3.1//EN
TZID:Europe/London
X-WR-TIMEZONE:Europe/London
BEGIN:VEVENT
UID:844@larevistadelapalma.com
DTSTART:20231124T100000Z
DTEND:20231124T221500Z
DTSTAMP:20231122T185830Z
URL:https://www.larevistadelapalma.com/events/dia-en-blanco-los-llanos/
SUMMARY:Día en Blanco en Los Llanos de Aridane
DESCRIPTION:El Día en Blanco llenará de vida todos los rincones de Los Ll
 anos de Aridane desde las 11:00 horas hasta la noche.\nEl Ayuntamiento de 
 Los Llanos de Aridane\, de la mano con Asociación de Comerciantes Zona Ab
 ierta (ACZA) y la Zona Comercial Abierta de Los Llanos de Aridane (ZCA)\, 
 organizan El día en Blanco\, que tendrá lugar el próximo viernes\, 24 d
 e noviembre.\n\nEse viernes\, las tiendas estarán abiertas hasta las 22:0
 0 horas. La jornada contará con actividades desde primera hora de la mañ
 ana. Desde juegos de mesa\, hasta actividades deportivas\, pasando por mú
 sica en la calle. Además\, como cierre\, a las 22:00 horas\, un concierto
  homenaje a Pau Donés\, recordado por haber sido el vocalista del grupo m
 usical Jarabe de Palo.\n\nDurante toda la jornada habrá un campeonato de 
 ajedrez\, yoga y muñecos por todas las calles. También caricaturistas\, 
 talleres de glitter\, DJs\, un violinista\, un saxofonista\, teatro\, así
  como las meriendas de Mari Carmen (meriendas y juegos de antaño para ni
 ños)\, entre otras iniciativas.\n\nLas actividades comienzan a las 11:00 
 horas con un taller de yoga infantil a cargo de Sana Sana Terapias en la A
 venida Doctor Fleming. A las 12:00 horas\, en la Calle Real\, tendrá luga
 r una obra de teatro de Pepé y Tití.\n\nA partir de las 16:30 horas -y h
 asta las 19:30- la Cámara de Comercio comenzará con su actividad Las Me
 riendas de Mary Carmen y juegos de antaño en Pastelería Kikka\, Panader
 ía Zulay\, Cafetería Márez\, La Gelatería\, Winnit\, Tati Coffee Bar\,
  Bocata\, El Café de Don Manuel\, Kiosko Trocadero y Coffee Shop.\nMúsic
 a y juegos en las calles\nA partir de las 17:00 horas\, los actos se inten
 sifican con espectáculos musicales\, juegos y ocio. Comenzará el torneo 
 de ajedrez que organiza el Club Isla Bonita frente a la cafetería Edén. 
 Habrá muñecos recorriendo las zonas comerciales del municipio\, se insta
 lará una cámara 360º en la calle Fernández Taño y un fotomatón en la
  Plaza de España.\n\nEn la calle Ángel tendrá lugar el taller de juegos
  infantiles a cargo de Licka\, al tiempo que habrá acciones de dinamizaci
 ón infantil en la Avenida Carlos Francisco Lorenzo Navarro y en la Avenid
 a Enrique Mederos. En esta misma avenida actuarán un saxofonista y Zebens
 uí Melián\, mientras que en la Calle Real comenzará el espectáculo de 
 DJ Tenax.\n\nA partir de las 18:00 horas un violinista animará la Calle d
 el Medio -al comienzo de la misma- y DJ Felipe estará en la Avenida Docto
 r Fleming.\n\nA partir de las 19:00 los dj’s Xavi -en Avenida Díaz Pimi
 enta- y Visac -en calle de La Iglesia- animarán el ambiente. A partir de 
 esa hora también se instalará un stand de maquillaje de fantasía en la 
 Avenida Díaz Pimienta y habrá caricaturistas simbólicos en la Avenida V
 enezuela.\nTributo a Pau Donés\nLa clausura del Día en Blanco correrá d
 e la mano del artista Fran Ramos\, que con su proyecto Otro Palo ofrecerá
  un concierto tributo a Pau Donés. Este espectáculo comenzará a las 22:
 00 horas en la Plaza de España.\n\n\n\n&nbsp\;\n--
ATTACH;FMTTYPE=image/jpeg:https://www.larevistadelapalma.com/wp-content/up
 loads/2023/11/Dia-en-Blanco-scaled.jpg
CATEGORIES:Otras propuestas,Varios
LOCATION:Municipio de Los Llanos de Aridane\, Los Llanos de Aridane\, Los L
 lanos de Aridane\, 38760\, España
GEO:28.660236;-17.913187
X-APPLE-STRUCTURED-LOCATION;VALUE=URI;X-ADDRESS=Los Llanos de Aridane\, Los
  Llanos de Aridane\, 38760\, España;X-APPLE-RADIUS=100;X-TITLE=Municipio 
 de Los Llanos de Aridane:geo:28.660236,-17.913187
END:VEVENT
END:VCALENDAR