BEGIN:VCALENDAR
VERSION:2.0
PRODID:-//wp-events-plugin.com//7.2.3.1//EN
TZID:Europe/London
X-WR-TIMEZONE:Europe/London
BEGIN:VEVENT
UID:3386@larevistadelapalma.com
DTSTART;VALUE=DATE:20241104
DTEND;VALUE=DATE:20241201
DTSTAMP:20241107T134101Z
URL:https://www.larevistadelapalma.com/events/dialogos-arte-en-familia-exp
 o/
SUMMARY:La Casa Salazar acoge la exposición colectiva "Diálogos: Arte en 
 familia"
DESCRIPTION:\nPartiendo del hilo conductor de la poesía de Domingo Acosta 
 Felipe\,  esta exposición aúna la creatividad y el arte de toda la fami
 lia: las fotografías de su esposa Gloria Esther conocida como Esther Pe\,
  las acuarelas de su hijo\, Romen Acosta y los acrílicos de su hija\, Gar
 a Acosta.\n\nObras gráficas interactuando con la obra literaria.\nHan tit
 ulado "Diálogos" a esta muestra\, porque dialogar es lo que harán las ob
 ras en sus diferentes disciplinas. Cada uno de ellos dará su diferente pu
 nto de vista de los poemas\, a veces lo hará uno\, a veces dos y otras\, 
 los tres\, unificando en este último caso a toda la familia en un mismo c
 onjunto.\n\n\nEsta singular exposición podrá visitarse hasta el 30 de no
 viembre en el Palacio Salazar de Santa Cruz de La Palma\, en el horario de
  la sala.\nPor otro lado\, coincidiendo con esta muestra\, Gara Acosta exp
 one individualmente en la Sala O'Daly.\n\n\n\n
ATTACH;FMTTYPE=image/jpeg:https://www.larevistadelapalma.com/wp-content/up
 loads/2024/11/Dialogos-arte-en-familia.jpg
CATEGORIES:Exposiciones
LOCATION:Casa principal de Salazar\, Calle Odaly\, 22\, Santa Cruz de La Pa
 lma\, 38700\, España
GEO:28.682275;-17.765795
X-APPLE-STRUCTURED-LOCATION;VALUE=URI;X-ADDRESS=Calle Odaly\, 22\, Santa Cr
 uz de La Palma\, 38700\, España;X-APPLE-RADIUS=100;X-TITLE=Casa principal
  de Salazar:geo:28.682275,-17.765795
END:VEVENT
END:VCALENDARBEGIN:VCALENDAR
VERSION:2.0
PRODID:-//wp-events-plugin.com//7.2.3.1//EN
TZID:Europe/London
X-WR-TIMEZONE:Europe/London
BEGIN:VEVENT
UID:3386@larevistadelapalma.com
DTSTART;VALUE=DATE:20241104
DTEND;VALUE=DATE:20241201
DTSTAMP:20241107T134101Z
URL:https://www.larevistadelapalma.com/events/dialogos-arte-en-familia-exp
 o/
SUMMARY:La Casa Salazar acoge la exposición colectiva "Diálogos: Arte en 
 familia"
DESCRIPTION:\nPartiendo del hilo conductor de la poesía de Domingo Acosta 
 Felipe\,  esta exposición aúna la creatividad y el arte de toda la fami
 lia: las fotografías de su esposa Gloria Esther conocida como Esther Pe\,
  las acuarelas de su hijo\, Romen Acosta y los acrílicos de su hija\, Gar
 a Acosta.\n\nObras gráficas interactuando con la obra literaria.\nHan tit
 ulado "Diálogos" a esta muestra\, porque dialogar es lo que harán las ob
 ras en sus diferentes disciplinas. Cada uno de ellos dará su diferente pu
 nto de vista de los poemas\, a veces lo hará uno\, a veces dos y otras\, 
 los tres\, unificando en este último caso a toda la familia en un mismo c
 onjunto.\n\n\nEsta singular exposición podrá visitarse hasta el 30 de no
 viembre en el Palacio Salazar de Santa Cruz de La Palma\, en el horario de
  la sala.\nPor otro lado\, coincidiendo con esta muestra\, Gara Acosta exp
 one individualmente en la Sala O'Daly.\n\n\n\n
ATTACH;FMTTYPE=image/jpeg:https://www.larevistadelapalma.com/wp-content/up
 loads/2024/11/Dialogos-arte-en-familia.jpg
CATEGORIES:Exposiciones
LOCATION:Casa principal de Salazar\, Calle Odaly\, 22\, Santa Cruz de La Pa
 lma\, 38700\, España
GEO:28.682275;-17.765795
X-APPLE-STRUCTURED-LOCATION;VALUE=URI;X-ADDRESS=Calle Odaly\, 22\, Santa Cr
 uz de La Palma\, 38700\, España;X-APPLE-RADIUS=100;X-TITLE=Casa principal
  de Salazar:geo:28.682275,-17.765795
END:VEVENT
END:VCALENDAR