BEGIN:VCALENDAR
VERSION:2.0
PRODID:-//wp-events-plugin.com//7.2.3.1//EN
TZID:Europe/London
X-WR-TIMEZONE:Europe/London
BEGIN:VEVENT
UID:4060@larevistadelapalma.com
DTSTART:20251208T193000Z
DTEND:20251208T210000Z
DTSTAMP:20251119T233503Z
URL:https://www.larevistadelapalma.com/events/divinas-palabras-en-la-palma
 /
SUMMARY:"Divinas Palabras" en La Palma
DESCRIPTION:Divinas palabras es la obra más universal de Valle-Inclán\,
  ya que es\, con diferencia\, la que más veces se ha llevado a escena fu
 era de España\, gracias a su calidad literaria y su riqueza de imágen
 es.\nEl tema central aborda la avaricia\, la lujuria y la muerte\, e
 lementos que Valle-Inclán describió como nadie y que muestran\, con tr
 emenda crueldad y en clave grotesca\, la miseria humana encarnada en la 
 familia de un sacristán de aldea. Una historia que fácilmente puede ex
 trapolarse a nuestra realidad actual.\nComprar entradas &gt\;&gt\;\n\nLa 
 conmemoración de los 40 años ha supuesto un salto exponencial para Ata
 laya\, y la mejor manera de reflejarlo es con esta nueva puesta en escena
 . En este crecimiento ha sido clave la formación de las diversas generac
 iones de actores de Atalaya y de su director\, apoyados por más de un c
 entenar de maestros y pedagogos de tradiciones teatrales de todo el mundo
  que han dejado su legado en el Centro TNT.\nEl factor más relevante de 
 esta evolución es la voz: tanto en el tratamiento del texto como en los
  cánticos interpretados en vivo por los actores\, generando una enorme 
 fuerza emocional. Esta nueva versión de Divinas palabras recoge y poten
 cia toda esta evolución artística.\nAtalaya consigue plasmar un estilo p
 ropio\, cada vez más reconocido\, partiendo de textos de muy diferentes a
 utores que permite lenguajes diversos. La compañía ha recorrido todos l
 os continentes del mundo. Más de 36 países\, 23 de los cuales no son d
 e habla hispana. En los últimos diez años ha conseguido una treintena de
  premios.
ATTACH;FMTTYPE=image/jpeg:https://www.larevistadelapalma.com/wp-content/up
 loads/2025/11/Felix-Vazquez-Propuestas-para-Divinas-Palabras-149-1-scaled-
 1.jpg
CATEGORIES:Espectáculos,Teatro
LOCATION:Teatro Circo de Marte\, Calle Virgen de La Luz\, 5\, Santa Cruz de
  La Palma\, 38700\, España
GEO:28.682989;-17.765755
X-APPLE-STRUCTURED-LOCATION;VALUE=URI;X-ADDRESS=Calle Virgen de La Luz\, 5\
 , Santa Cruz de La Palma\, 38700\, España;X-APPLE-RADIUS=100;X-TITLE=Teat
 ro Circo de Marte:geo:28.682989,-17.765755
END:VEVENT
END:VCALENDARBEGIN:VCALENDAR
VERSION:2.0
PRODID:-//wp-events-plugin.com//7.2.3.1//EN
TZID:Europe/London
X-WR-TIMEZONE:Europe/London
BEGIN:VEVENT
UID:4060@larevistadelapalma.com
DTSTART:20251208T193000Z
DTEND:20251208T210000Z
DTSTAMP:20251119T233503Z
URL:https://www.larevistadelapalma.com/events/divinas-palabras-en-la-palma
 /
SUMMARY:"Divinas Palabras" en La Palma
DESCRIPTION:Divinas palabras es la obra más universal de Valle-Inclán\,
  ya que es\, con diferencia\, la que más veces se ha llevado a escena fu
 era de España\, gracias a su calidad literaria y su riqueza de imágen
 es.\nEl tema central aborda la avaricia\, la lujuria y la muerte\, e
 lementos que Valle-Inclán describió como nadie y que muestran\, con tr
 emenda crueldad y en clave grotesca\, la miseria humana encarnada en la 
 familia de un sacristán de aldea. Una historia que fácilmente puede ex
 trapolarse a nuestra realidad actual.\nComprar entradas &gt\;&gt\;\n\nLa 
 conmemoración de los 40 años ha supuesto un salto exponencial para Ata
 laya\, y la mejor manera de reflejarlo es con esta nueva puesta en escena
 . En este crecimiento ha sido clave la formación de las diversas generac
 iones de actores de Atalaya y de su director\, apoyados por más de un c
 entenar de maestros y pedagogos de tradiciones teatrales de todo el mundo
  que han dejado su legado en el Centro TNT.\nEl factor más relevante de 
 esta evolución es la voz: tanto en el tratamiento del texto como en los
  cánticos interpretados en vivo por los actores\, generando una enorme 
 fuerza emocional. Esta nueva versión de Divinas palabras recoge y poten
 cia toda esta evolución artística.\nAtalaya consigue plasmar un estilo p
 ropio\, cada vez más reconocido\, partiendo de textos de muy diferentes a
 utores que permite lenguajes diversos. La compañía ha recorrido todos l
 os continentes del mundo. Más de 36 países\, 23 de los cuales no son d
 e habla hispana. En los últimos diez años ha conseguido una treintena de
  premios.
ATTACH;FMTTYPE=image/jpeg:https://www.larevistadelapalma.com/wp-content/up
 loads/2025/11/Felix-Vazquez-Propuestas-para-Divinas-Palabras-149-1-scaled-
 1.jpg
CATEGORIES:Espectáculos,Teatro
LOCATION:Teatro Circo de Marte\, Calle Virgen de La Luz\, 5\, Santa Cruz de
  La Palma\, 38700\, España
GEO:28.682989;-17.765755
X-APPLE-STRUCTURED-LOCATION;VALUE=URI;X-ADDRESS=Calle Virgen de La Luz\, 5\
 , Santa Cruz de La Palma\, 38700\, España;X-APPLE-RADIUS=100;X-TITLE=Teat
 ro Circo de Marte:geo:28.682989,-17.765755
END:VEVENT
END:VCALENDAR