BEGIN:VCALENDAR
VERSION:2.0
PRODID:-//wp-events-plugin.com//7.2.3.1//EN
TZID:Europe/London
X-WR-TIMEZONE:Europe/London
BEGIN:VEVENT
UID:3798@larevistadelapalma.com
DTSTART:20250613T200000Z
DTEND:20250613T225900Z
DTSTAMP:20250606T111605Z
URL:https://www.larevistadelapalma.com/events/dj-indi-en-la-tasca-la-marmo
 ta/
SUMMARY:DJ Indi en la Tasca La Marmota
DESCRIPTION:\nMúsica de los 80s y 90s y  DJ Indi en la Tasca La Marmota.\
 nPara reservas: 673831454\n\n\n
ATTACH;FMTTYPE=image/jpeg:https://www.larevistadelapalma.com/wp-content/up
 loads/2025/06/DJ-Indi-La-Marmota.jpg
CATEGORIES:Festivales/Fiestas,Música
LOCATION:Tasca La Marmota\, Av de la Constitución\, número 1\, Tazacorte\
 , 38770\, España
GEO:28.643843;-17.933605
X-APPLE-STRUCTURED-LOCATION;VALUE=URI;X-ADDRESS=Av de la Constitución\, n
 úmero 1\, Tazacorte\, 38770\, España;X-APPLE-RADIUS=100;X-TITLE=Tasca La
  Marmota:geo:28.643843,-17.933605
END:VEVENT
END:VCALENDARBEGIN:VCALENDAR
VERSION:2.0
PRODID:-//wp-events-plugin.com//7.2.3.1//EN
TZID:Europe/London
X-WR-TIMEZONE:Europe/London
BEGIN:VEVENT
UID:3798@larevistadelapalma.com
DTSTART:20250613T200000Z
DTEND:20250613T225900Z
DTSTAMP:20250606T111605Z
URL:https://www.larevistadelapalma.com/events/dj-indi-en-la-tasca-la-marmo
 ta/
SUMMARY:DJ Indi en la Tasca La Marmota
DESCRIPTION:\nMúsica de los 80s y 90s y  DJ Indi en la Tasca La Marmota.\
 nPara reservas: 673831454\n\n\n
ATTACH;FMTTYPE=image/jpeg:https://www.larevistadelapalma.com/wp-content/up
 loads/2025/06/DJ-Indi-La-Marmota.jpg
CATEGORIES:Festivales/Fiestas,Música
LOCATION:Tasca La Marmota\, Av de la Constitución\, número 1\, Tazacorte\
 , 38770\, España
GEO:28.643843;-17.933605
X-APPLE-STRUCTURED-LOCATION;VALUE=URI;X-ADDRESS=Av de la Constitución\, n
 úmero 1\, Tazacorte\, 38770\, España;X-APPLE-RADIUS=100;X-TITLE=Tasca La
  Marmota:geo:28.643843,-17.933605
END:VEVENT
END:VCALENDAR