BEGIN:VCALENDAR
VERSION:2.0
PRODID:-//wp-events-plugin.com//7.2.3.1//EN
TZID:Europe/London
X-WR-TIMEZONE:Europe/London
BEGIN:VEVENT
UID:557@larevistadelapalma.com
DTSTART:20230727T190000Z
DTEND:20230727T225500Z
DTSTAMP:20230725T173411Z
URL:https://www.larevistadelapalma.com/events/djs-la-marmota/
SUMMARY:Tarde de Djs en Tasca La Marmota
DESCRIPTION:Un juernes en Tasca La Marmota porque no hay que esperar al fin
  de semana para bailar...
ATTACH;FMTTYPE=image/jpeg:https://www.larevistadelapalma.com/wp-content/up
 loads/2023/07/Dj-en-La-Marmota.jpg
CATEGORIES:Conciertos,Música
LOCATION:Tasca La Marmota\, Av de la Constitución\, número 1\, Tazacorte\
 , 38770\, España
GEO:28.643843;-17.933605
X-APPLE-STRUCTURED-LOCATION;VALUE=URI;X-ADDRESS=Av de la Constitución\, n
 úmero 1\, Tazacorte\, 38770\, España;X-APPLE-RADIUS=100;X-TITLE=Tasca La
  Marmota:geo:28.643843,-17.933605
END:VEVENT
END:VCALENDARBEGIN:VCALENDAR
VERSION:2.0
PRODID:-//wp-events-plugin.com//7.2.3.1//EN
TZID:Europe/London
X-WR-TIMEZONE:Europe/London
BEGIN:VEVENT
UID:557@larevistadelapalma.com
DTSTART:20230727T190000Z
DTEND:20230727T225500Z
DTSTAMP:20230725T173411Z
URL:https://www.larevistadelapalma.com/events/djs-la-marmota/
SUMMARY:Tarde de Djs en Tasca La Marmota
DESCRIPTION:Un juernes en Tasca La Marmota porque no hay que esperar al fin
  de semana para bailar...
ATTACH;FMTTYPE=image/jpeg:https://www.larevistadelapalma.com/wp-content/up
 loads/2023/07/Dj-en-La-Marmota.jpg
CATEGORIES:Conciertos,Música
LOCATION:Tasca La Marmota\, Av de la Constitución\, número 1\, Tazacorte\
 , 38770\, España
GEO:28.643843;-17.933605
X-APPLE-STRUCTURED-LOCATION;VALUE=URI;X-ADDRESS=Av de la Constitución\, n
 úmero 1\, Tazacorte\, 38770\, España;X-APPLE-RADIUS=100;X-TITLE=Tasca La
  Marmota:geo:28.643843,-17.933605
END:VEVENT
END:VCALENDAR