BEGIN:VCALENDAR
VERSION:2.0
PRODID:-//wp-events-plugin.com//7.2.3.1//EN
TZID:Europe/London
X-WR-TIMEZONE:Europe/London
BEGIN:VEVENT
UID:3360@larevistadelapalma.com
DTSTART:20241110T110000Z
DTEND:20241110T123000Z
DTSTAMP:20241030T193855Z
URL:https://www.larevistadelapalma.com/events/do-re-gi-ra-sol-clown-teatro
 -circo-de-marte/
SUMMARY:Do Re Gi Ra Sol ¡Clown!\, Teatro Circo de Marte
DESCRIPTION:Do Re Gi Ra Sol ¡Clown!\,de laGodot esCénica\, es una obra q
 ue homenajea al universo del arte\, al proceso creativo. \n\nParlanchina 
 de la Torre y Martín Chinijo son dos estudiantes de una Escuela de Arte q
 ue asisten a clase de música\, de pintura y de poesía.\n\nLos personajes
  tendrán que enfrentarse a los conflictos creativos de todo artista en el
  proceso de creación\, transportándonos a un universo donde la amistad\,
  el respeto y el amor por el arte y la naturaleza son esenciales para supe
 rar obstáculos.\n\nLos nombres de los personajes están inspirados en dos
  destacados artistas vanguardistas canarios: la poetisa\, cantante y actri
 z\, Josefina de la Torre\, y el escultor canario\, Martín Chirino. Ambos 
 son referenciados a lo largo de la representación\, a través de la expos
 ición de algunas de sus obras más emblemáticas.\n\nLa escenificación s
 e realiza un recorrido por la historia del arte mediante alusiones a los t
 rabajos artísticos de personalidades del mundo de la pintura como Vincent
  van Gogh y Berthe Morisot\, poetas como Federico García Lorca y Gabriela
  Mistral y compositores como Antonio Vivaldi y Lili Boulanger.\nComprar en
 tradas &gt\;&gt\;
ATTACH;FMTTYPE=image/jpeg:https://www.larevistadelapalma.com/wp-content/up
 loads/2024/10/Do-re-gi-ra-sol-clown.jpg
CATEGORIES:Espectáculos,Teatro
LOCATION:Teatro Circo de Marte\, Calle Virgen de La Luz\, 5\, Santa Cruz de
  La Palma\, 38700\, España
GEO:28.682989;-17.765755
X-APPLE-STRUCTURED-LOCATION;VALUE=URI;X-ADDRESS=Calle Virgen de La Luz\, 5\
 , Santa Cruz de La Palma\, 38700\, España;X-APPLE-RADIUS=100;X-TITLE=Teat
 ro Circo de Marte:geo:28.682989,-17.765755
END:VEVENT
END:VCALENDARBEGIN:VCALENDAR
VERSION:2.0
PRODID:-//wp-events-plugin.com//7.2.3.1//EN
TZID:Europe/London
X-WR-TIMEZONE:Europe/London
BEGIN:VEVENT
UID:3360@larevistadelapalma.com
DTSTART:20241110T110000Z
DTEND:20241110T123000Z
DTSTAMP:20241030T193855Z
URL:https://www.larevistadelapalma.com/events/do-re-gi-ra-sol-clown-teatro
 -circo-de-marte/
SUMMARY:Do Re Gi Ra Sol ¡Clown!\, Teatro Circo de Marte
DESCRIPTION:Do Re Gi Ra Sol ¡Clown!\,de laGodot esCénica\, es una obra q
 ue homenajea al universo del arte\, al proceso creativo. \n\nParlanchina 
 de la Torre y Martín Chinijo son dos estudiantes de una Escuela de Arte q
 ue asisten a clase de música\, de pintura y de poesía.\n\nLos personajes
  tendrán que enfrentarse a los conflictos creativos de todo artista en el
  proceso de creación\, transportándonos a un universo donde la amistad\,
  el respeto y el amor por el arte y la naturaleza son esenciales para supe
 rar obstáculos.\n\nLos nombres de los personajes están inspirados en dos
  destacados artistas vanguardistas canarios: la poetisa\, cantante y actri
 z\, Josefina de la Torre\, y el escultor canario\, Martín Chirino. Ambos 
 son referenciados a lo largo de la representación\, a través de la expos
 ición de algunas de sus obras más emblemáticas.\n\nLa escenificación s
 e realiza un recorrido por la historia del arte mediante alusiones a los t
 rabajos artísticos de personalidades del mundo de la pintura como Vincent
  van Gogh y Berthe Morisot\, poetas como Federico García Lorca y Gabriela
  Mistral y compositores como Antonio Vivaldi y Lili Boulanger.\nComprar en
 tradas &gt\;&gt\;
ATTACH;FMTTYPE=image/jpeg:https://www.larevistadelapalma.com/wp-content/up
 loads/2024/10/Do-re-gi-ra-sol-clown.jpg
CATEGORIES:Espectáculos,Teatro
LOCATION:Teatro Circo de Marte\, Calle Virgen de La Luz\, 5\, Santa Cruz de
  La Palma\, 38700\, España
GEO:28.682989;-17.765755
X-APPLE-STRUCTURED-LOCATION;VALUE=URI;X-ADDRESS=Calle Virgen de La Luz\, 5\
 , Santa Cruz de La Palma\, 38700\, España;X-APPLE-RADIUS=100;X-TITLE=Teat
 ro Circo de Marte:geo:28.682989,-17.765755
END:VEVENT
END:VCALENDAR