BEGIN:VCALENDAR
VERSION:2.0
PRODID:-//wp-events-plugin.com//7.2.3.1//EN
TZID:Europe/London
X-WR-TIMEZONE:Europe/London
BEGIN:VEVENT
UID:4554@larevistadelapalma.com
DTSTART:20260315T110000Z
DTEND:20260315T123000Z
DTSTAMP:20260303T214403Z
URL:https://www.larevistadelapalma.com/events/do-re-gi-ra-sol-clown/
SUMMARY:Do Re Gi Ra Sol ¡Clown!
DESCRIPTION:\nDo Re Gi Ra Sol ¡Clown! es una obra que homenajea al univers
 o del arte\, al proceso creativo. Parlanchina de la Torre y Martín Chinij
 o son dos estudiantes de una Escuela de Arte que asisten a clase de músic
 a\, de pintura y de poesía. Los personajes tendrán que enfrentarse a los
  conflictos creativos de todo artista en el proceso de creación\, transpo
 rtándonos a un universo donde la amistad\, el respeto y el amor por el ar
 te y la naturaleza son esenciales para superar obstáculos.\n\n\n 	 Reser
 va de entradas en: eventosculturales@aridane.org.es\n 	En el asunto\, indi
 car el nombre del acto y\, en el mensaje\, tu nombre\, apellidos y teléfo
 no.\n 	 Fecha límite para reservas: viernes\, 13 de marzo\, hasta las 14 
 horas. \n 	Se ruega puntualidad\, no se admitirá la entrada de público 
 una vez comenzado el espectáculo.\n\n
ATTACH;FMTTYPE=image/jpeg:https://www.larevistadelapalma.com/wp-content/up
 loads/2026/03/3-15-do-re-gi-ra-sol-clown.jpg
CATEGORIES:Espectáculos,Teatro
LOCATION:Espacio Cultural El Secadero\, C. Rosal\, 3\,\, Los Llanos de Arid
 ane\, 38760\, España
GEO:28.659406;-17.907147
X-APPLE-STRUCTURED-LOCATION;VALUE=URI;X-ADDRESS=C. Rosal\, 3\,\, Los Llanos
  de Aridane\, 38760\, España;X-APPLE-RADIUS=100;X-TITLE=Espacio Cultural 
 El Secadero:geo:28.659406,-17.907147
END:VEVENT
END:VCALENDARBEGIN:VCALENDAR
VERSION:2.0
PRODID:-//wp-events-plugin.com//7.2.3.1//EN
TZID:Europe/London
X-WR-TIMEZONE:Europe/London
BEGIN:VEVENT
UID:4554@larevistadelapalma.com
DTSTART:20260315T110000Z
DTEND:20260315T123000Z
DTSTAMP:20260303T214403Z
URL:https://www.larevistadelapalma.com/events/do-re-gi-ra-sol-clown/
SUMMARY:Do Re Gi Ra Sol ¡Clown!
DESCRIPTION:\nDo Re Gi Ra Sol ¡Clown! es una obra que homenajea al univers
 o del arte\, al proceso creativo. Parlanchina de la Torre y Martín Chinij
 o son dos estudiantes de una Escuela de Arte que asisten a clase de músic
 a\, de pintura y de poesía. Los personajes tendrán que enfrentarse a los
  conflictos creativos de todo artista en el proceso de creación\, transpo
 rtándonos a un universo donde la amistad\, el respeto y el amor por el ar
 te y la naturaleza son esenciales para superar obstáculos.\n\n\n 	 Reser
 va de entradas en: eventosculturales@aridane.org.es\n 	En el asunto\, indi
 car el nombre del acto y\, en el mensaje\, tu nombre\, apellidos y teléfo
 no.\n 	 Fecha límite para reservas: viernes\, 13 de marzo\, hasta las 14 
 horas. \n 	Se ruega puntualidad\, no se admitirá la entrada de público 
 una vez comenzado el espectáculo.\n\n
ATTACH;FMTTYPE=image/jpeg:https://www.larevistadelapalma.com/wp-content/up
 loads/2026/03/3-15-do-re-gi-ra-sol-clown.jpg
CATEGORIES:Espectáculos,Teatro
LOCATION:Espacio Cultural El Secadero\, C. Rosal\, 3\,\, Los Llanos de Arid
 ane\, 38760\, España
GEO:28.659406;-17.907147
X-APPLE-STRUCTURED-LOCATION;VALUE=URI;X-ADDRESS=C. Rosal\, 3\,\, Los Llanos
  de Aridane\, 38760\, España;X-APPLE-RADIUS=100;X-TITLE=Espacio Cultural 
 El Secadero:geo:28.659406,-17.907147
END:VEVENT
END:VCALENDAR