BEGIN:VCALENDAR
VERSION:2.0
PRODID:-//wp-events-plugin.com//7.2.3.1//EN
TZID:Europe/London
X-WR-TIMEZONE:Europe/London
BEGIN:VEVENT
UID:18@larevistadelapalma.com
DTSTART:20230826T130000Z
DTEND:20230826T225900Z
DTSTAMP:20230807T184729Z
URL:https://www.larevistadelapalma.com/events/dorada-boncho-tour-23/
SUMMARY:Dorada Boncho Tour 2023 trae a La Palma el Tazacorte Summer Fest
DESCRIPTION:El Festival fue aplazado el pasado  15 de julio debido al ince
 ndio declarado en el Municipio de Puntagorda. Pero ya tenemos nueva fecha.
ATTACH;FMTTYPE=image/jpeg:https://www.larevistadelapalma.com/wp-content/up
 loads/2023/06/Dorada-Boncho-Tour.png
CATEGORIES:Festivales/Fiestas,Música
LOCATION:Paseo del Puerto de Tazacorte\, playa tazacorte\, Tazacorte\, 3877
 0\, España
GEO:28.650997;-17.946173
X-APPLE-STRUCTURED-LOCATION;VALUE=URI;X-ADDRESS=playa tazacorte\, Tazacorte
 \, 38770\, España;X-APPLE-RADIUS=100;X-TITLE=Paseo del Puerto de Tazacort
 e:geo:28.650997,-17.946173
END:VEVENT
END:VCALENDARBEGIN:VCALENDAR
VERSION:2.0
PRODID:-//wp-events-plugin.com//7.2.3.1//EN
TZID:Europe/London
X-WR-TIMEZONE:Europe/London
BEGIN:VEVENT
UID:18@larevistadelapalma.com
DTSTART:20230826T130000Z
DTEND:20230826T225900Z
DTSTAMP:20230807T184729Z
URL:https://www.larevistadelapalma.com/events/dorada-boncho-tour-23/
SUMMARY:Dorada Boncho Tour 2023 trae a La Palma el Tazacorte Summer Fest
DESCRIPTION:El Festival fue aplazado el pasado  15 de julio debido al ince
 ndio declarado en el Municipio de Puntagorda. Pero ya tenemos nueva fecha.
ATTACH;FMTTYPE=image/jpeg:https://www.larevistadelapalma.com/wp-content/up
 loads/2023/06/Dorada-Boncho-Tour.png
CATEGORIES:Festivales/Fiestas,Música
LOCATION:Paseo del Puerto de Tazacorte\, playa tazacorte\, Tazacorte\, 3877
 0\, España
GEO:28.650997;-17.946173
X-APPLE-STRUCTURED-LOCATION;VALUE=URI;X-ADDRESS=playa tazacorte\, Tazacorte
 \, 38770\, España;X-APPLE-RADIUS=100;X-TITLE=Paseo del Puerto de Tazacort
 e:geo:28.650997,-17.946173
END:VEVENT
END:VCALENDAR