BEGIN:VCALENDAR
VERSION:2.0
PRODID:-//wp-events-plugin.com//7.2.3.1//EN
TZID:Europe/London
X-WR-TIMEZONE:Europe/London
BEGIN:VEVENT
UID:4009@larevistadelapalma.com
DTSTART:20251108T190000Z
DTEND:20251108T203000Z
DTSTAMP:20251008T121409Z
URL:https://www.larevistadelapalma.com/events/dormythos-el-dragon-que-sono
 -con-musica-barroca/
SUMMARY:‘Dormythos: El dragón que soñó con música barroca’
DESCRIPTION:Concierto final del Festival Impulso.\n\nEl Cabildo de La Palma
 \, organiza la quinta edición del Festival Impulso\, que tendrá lugar de
 l 3 al 8 de noviembre\, y que recorrerá diversos centros sociales\, educa
 tivos y residenciales de la Isla\, acercando la música clásica y barroca
  a colectivos y espacios donde habitualmente no llega.\n\nDentro de la pro
 gramación del Festival Impulso de Canarias\, se incluye la visita a vario
 s centros residenciales y sociales de las islas\, tales como el Centro de 
 Mayores La Dehesa\, el Teatro Chico\, en el que se llevarán a cabo activi
 dades en el marco de la Red Psicosocial de La Palma\; así como el Centro 
 Penitenciario\, el Hospital General de La Palma\, las residencias de mayor
 es del Hospital de Dolores\, Barlovento\, Las Indias en Fuencaliente\, Nin
 a Jaubert\, Tijarafe y Garafía\; el Centro de Discapacidad de Triana en L
 os Llanos de Aridane y el Centro Residencial Fundación Canaria Solidarida
 d La Palma.\n\nAdemás\, se llevará a cabo un taller y ensayo abierto de 
 la Escuela Insular de Música de La Palma en la Iglesia de Los Dolores\, f
 omentando el intercambio educativo y artístico entre músicos profesional
 es y jóvenes intérpretes.\nComo colofón final el sábado 8 de noviembre
   el Teatro Circo de Marte acogerá el gran concierto final\, con la pues
 ta en escena de ‘Dormythos: El dragón que soñó con música barroca’
 \, un cuento musical inmersivo que fusiona narración\, interpretación i
 nstrumental y vocal\, y ambientación lumínica.\nLa obra relata la leyend
 a de un dragón dormido por el efecto de la música\, que solo puede mante
 nerse en calma gracias al poder de las armonías barrocas. Un viaje sonoro
  y visual interpretado por Sofía Pastor\, Yiselle Bonucci\, Mario Engler\
 , Miguel Ángel Vilariño\, Mónica Pérez y Blanca Quevedo\, con piezas d
 e Handel\, Vivaldi\, Purcell\, Boccherini\, Manfredini y Bach.\n\nLa entra
 da es gratuita\, solo hay que retirar las invitaciones previamente en la t
 aquilla del Teatro.
ATTACH;FMTTYPE=image/jpeg:https://www.larevistadelapalma.com/wp-content/up
 loads/2025/10/Festival-Impulso.jpeg
CATEGORIES:Conciertos,Música
LOCATION:Teatro Circo de Marte\, Calle Virgen de La Luz\, 5\, Santa Cruz de
  La Palma\, 38700\, España
GEO:28.682989;-17.765755
X-APPLE-STRUCTURED-LOCATION;VALUE=URI;X-ADDRESS=Calle Virgen de La Luz\, 5\
 , Santa Cruz de La Palma\, 38700\, España;X-APPLE-RADIUS=100;X-TITLE=Teat
 ro Circo de Marte:geo:28.682989,-17.765755
END:VEVENT
END:VCALENDARBEGIN:VCALENDAR
VERSION:2.0
PRODID:-//wp-events-plugin.com//7.2.3.1//EN
TZID:Europe/London
X-WR-TIMEZONE:Europe/London
BEGIN:VEVENT
UID:4009@larevistadelapalma.com
DTSTART:20251108T190000Z
DTEND:20251108T203000Z
DTSTAMP:20251008T121409Z
URL:https://www.larevistadelapalma.com/events/dormythos-el-dragon-que-sono
 -con-musica-barroca/
SUMMARY:‘Dormythos: El dragón que soñó con música barroca’
DESCRIPTION:Concierto final del Festival Impulso.\n\nEl Cabildo de La Palma
 \, organiza la quinta edición del Festival Impulso\, que tendrá lugar de
 l 3 al 8 de noviembre\, y que recorrerá diversos centros sociales\, educa
 tivos y residenciales de la Isla\, acercando la música clásica y barroca
  a colectivos y espacios donde habitualmente no llega.\n\nDentro de la pro
 gramación del Festival Impulso de Canarias\, se incluye la visita a vario
 s centros residenciales y sociales de las islas\, tales como el Centro de 
 Mayores La Dehesa\, el Teatro Chico\, en el que se llevarán a cabo activi
 dades en el marco de la Red Psicosocial de La Palma\; así como el Centro 
 Penitenciario\, el Hospital General de La Palma\, las residencias de mayor
 es del Hospital de Dolores\, Barlovento\, Las Indias en Fuencaliente\, Nin
 a Jaubert\, Tijarafe y Garafía\; el Centro de Discapacidad de Triana en L
 os Llanos de Aridane y el Centro Residencial Fundación Canaria Solidarida
 d La Palma.\n\nAdemás\, se llevará a cabo un taller y ensayo abierto de 
 la Escuela Insular de Música de La Palma en la Iglesia de Los Dolores\, f
 omentando el intercambio educativo y artístico entre músicos profesional
 es y jóvenes intérpretes.\nComo colofón final el sábado 8 de noviembre
   el Teatro Circo de Marte acogerá el gran concierto final\, con la pues
 ta en escena de ‘Dormythos: El dragón que soñó con música barroca’
 \, un cuento musical inmersivo que fusiona narración\, interpretación i
 nstrumental y vocal\, y ambientación lumínica.\nLa obra relata la leyend
 a de un dragón dormido por el efecto de la música\, que solo puede mante
 nerse en calma gracias al poder de las armonías barrocas. Un viaje sonoro
  y visual interpretado por Sofía Pastor\, Yiselle Bonucci\, Mario Engler\
 , Miguel Ángel Vilariño\, Mónica Pérez y Blanca Quevedo\, con piezas d
 e Handel\, Vivaldi\, Purcell\, Boccherini\, Manfredini y Bach.\n\nLa entra
 da es gratuita\, solo hay que retirar las invitaciones previamente en la t
 aquilla del Teatro.
ATTACH;FMTTYPE=image/jpeg:https://www.larevistadelapalma.com/wp-content/up
 loads/2025/10/Festival-Impulso.jpeg
CATEGORIES:Conciertos,Música
LOCATION:Teatro Circo de Marte\, Calle Virgen de La Luz\, 5\, Santa Cruz de
  La Palma\, 38700\, España
GEO:28.682989;-17.765755
X-APPLE-STRUCTURED-LOCATION;VALUE=URI;X-ADDRESS=Calle Virgen de La Luz\, 5\
 , Santa Cruz de La Palma\, 38700\, España;X-APPLE-RADIUS=100;X-TITLE=Teat
 ro Circo de Marte:geo:28.682989,-17.765755
END:VEVENT
END:VCALENDAR