BEGIN:VCALENDAR
VERSION:2.0
PRODID:-//wp-events-plugin.com//7.2.3.1//EN
TZID:Europe/London
X-WR-TIMEZONE:Europe/London
BEGIN:VEVENT
UID:3484@larevistadelapalma.com
DTSTART;VALUE=DATE:20241216
DTEND;VALUE=DATE:20250101
DTSTAMP:20241226T194922Z
URL:https://www.larevistadelapalma.com/events/dos-vidas-coloridas-exposici
 on-de-antje-bendfeldt-y-sabine-dahl/
SUMMARY:Dos Vidas Coloridas: Exposición de Antje Bendfeldt y Sabine Dahl
DESCRIPTION:Antje Bendfeldt y Sabine Dahl presentan sus obras juntas por se
 gunda vez en Santa Cruz de la Palma. Los dos artistas autodidactas muestra
 n una fascinante colección de obras que reflejan la diversidad creativa y
  los lenguajes formales singularmente diferentes de cada artista.\n\nAntje
  Bendfeldt inspira con sus “Fridas” y su conexión casi mágica con la
 s plantas y animales de La Palma\, mientras que Sabine Dahl impresiona con
  sus sorprendentes composiciones y expresiones emocionales.\n\nJuntas ofre
 cen al público una amplia gama de pinturas representativas y abstractas e
 n las que los colores a menudo determinan los temas. La vida es diversa y 
 colorida\, y eso es exactamente lo que quieren expresar en su trabajo. En 
 esta muestra\, que tendrá lugar del 16 al 31 de diciembre en la Sala O’
 Daly\, esperan llevar a los visitantes a su mundo creativo y colorido.\n\n
 Horario:\n\n 	Lunes a viernes\, de 11:00 - 13:30 y 17:00 - 19:30 horas.\n 
 	Sábados de 11:00 - 14:00 horas.\n 	El 24 y 31 diciembre de 11:00 - 13:00
  horas.\n\n\n\n\n\n&nbsp\;\n\n\n\n\n\n\n\n \n\n&nbsp\;
ATTACH;FMTTYPE=image/jpeg:https://www.larevistadelapalma.com/wp-content/up
 loads/2024/12/2024-12-16-Expo-Dos-vidas-coloridas.jpeg
CATEGORIES:Exposiciones
LOCATION:Sala O'Daly\, C. O'Daly\, 2\, \, Santa Cruz de La Palma \, 38700\,
  España
GEO:28.68306;-17.765032
X-APPLE-STRUCTURED-LOCATION;VALUE=URI;X-ADDRESS=C. O'Daly\, 2\, \, Santa Cr
 uz de La Palma \, 38700\, España;X-APPLE-RADIUS=100;X-TITLE=Sala O'Daly:g
 eo:28.68306,-17.765032
END:VEVENT
END:VCALENDARBEGIN:VCALENDAR
VERSION:2.0
PRODID:-//wp-events-plugin.com//7.2.3.1//EN
TZID:Europe/London
X-WR-TIMEZONE:Europe/London
BEGIN:VEVENT
UID:3484@larevistadelapalma.com
DTSTART;VALUE=DATE:20241216
DTEND;VALUE=DATE:20250101
DTSTAMP:20241226T194922Z
URL:https://www.larevistadelapalma.com/events/dos-vidas-coloridas-exposici
 on-de-antje-bendfeldt-y-sabine-dahl/
SUMMARY:Dos Vidas Coloridas: Exposición de Antje Bendfeldt y Sabine Dahl
DESCRIPTION:Antje Bendfeldt y Sabine Dahl presentan sus obras juntas por se
 gunda vez en Santa Cruz de la Palma. Los dos artistas autodidactas muestra
 n una fascinante colección de obras que reflejan la diversidad creativa y
  los lenguajes formales singularmente diferentes de cada artista.\n\nAntje
  Bendfeldt inspira con sus “Fridas” y su conexión casi mágica con la
 s plantas y animales de La Palma\, mientras que Sabine Dahl impresiona con
  sus sorprendentes composiciones y expresiones emocionales.\n\nJuntas ofre
 cen al público una amplia gama de pinturas representativas y abstractas e
 n las que los colores a menudo determinan los temas. La vida es diversa y 
 colorida\, y eso es exactamente lo que quieren expresar en su trabajo. En 
 esta muestra\, que tendrá lugar del 16 al 31 de diciembre en la Sala O’
 Daly\, esperan llevar a los visitantes a su mundo creativo y colorido.\n\n
 Horario:\n\n 	Lunes a viernes\, de 11:00 - 13:30 y 17:00 - 19:30 horas.\n 
 	Sábados de 11:00 - 14:00 horas.\n 	El 24 y 31 diciembre de 11:00 - 13:00
  horas.\n\n\n\n\n\n&nbsp\;\n\n\n\n\n\n\n\n \n\n&nbsp\;
ATTACH;FMTTYPE=image/jpeg:https://www.larevistadelapalma.com/wp-content/up
 loads/2024/12/2024-12-16-Expo-Dos-vidas-coloridas.jpeg
CATEGORIES:Exposiciones
LOCATION:Sala O'Daly\, C. O'Daly\, 2\, \, Santa Cruz de La Palma \, 38700\,
  España
GEO:28.68306;-17.765032
X-APPLE-STRUCTURED-LOCATION;VALUE=URI;X-ADDRESS=C. O'Daly\, 2\, \, Santa Cr
 uz de La Palma \, 38700\, España;X-APPLE-RADIUS=100;X-TITLE=Sala O'Daly:g
 eo:28.68306,-17.765032
END:VEVENT
END:VCALENDAR