BEGIN:VCALENDAR
VERSION:2.0
PRODID:-//wp-events-plugin.com//7.2.3.1//EN
TZID:Europe/London
X-WR-TIMEZONE:Europe/London
BEGIN:VEVENT
UID:555@larevistadelapalma.com
DTSTART;VALUE=DATE:20230728
DTEND;VALUE=DATE:20230731
DTSTAMP:20230726T214048Z
URL:https://www.larevistadelapalma.com/events/dreamer-market-b-alta/
SUMMARY:"Dreamer Market" monta su escaparate en el Parque de Los Álamos
DESCRIPTION:El Dreamer Market vuelve a La Palma con una selección de marca
 s referentes de la moda\, decoración\, cosmética y gastronomía de Canar
 ias 
ATTACH;FMTTYPE=image/jpeg:https://www.larevistadelapalma.com/wp-content/up
 loads/2023/07/Dreamer-Market-La-Palma.jpg
CATEGORIES:Otras propuestas,Varios
LOCATION:Parque de Los Álamos\, Bodegón Los Alamos\, Breña Alta\, 38710\
 , España
GEO:28.667222;-17.787778
X-APPLE-STRUCTURED-LOCATION;VALUE=URI;X-ADDRESS=Bodegón Los Alamos\, Breñ
 a Alta\, 38710\, España;X-APPLE-RADIUS=100;X-TITLE=Parque de Los Álamos:
 geo:28.667222,-17.787778
END:VEVENT
END:VCALENDARBEGIN:VCALENDAR
VERSION:2.0
PRODID:-//wp-events-plugin.com//7.2.3.1//EN
TZID:Europe/London
X-WR-TIMEZONE:Europe/London
BEGIN:VEVENT
UID:555@larevistadelapalma.com
DTSTART;VALUE=DATE:20230728
DTEND;VALUE=DATE:20230731
DTSTAMP:20230726T214048Z
URL:https://www.larevistadelapalma.com/events/dreamer-market-b-alta/
SUMMARY:"Dreamer Market" monta su escaparate en el Parque de Los Álamos
DESCRIPTION:El Dreamer Market vuelve a La Palma con una selección de marca
 s referentes de la moda\, decoración\, cosmética y gastronomía de Canar
 ias 
ATTACH;FMTTYPE=image/jpeg:https://www.larevistadelapalma.com/wp-content/up
 loads/2023/07/Dreamer-Market-La-Palma.jpg
CATEGORIES:Otras propuestas,Varios
LOCATION:Parque de Los Álamos\, Bodegón Los Alamos\, Breña Alta\, 38710\
 , España
GEO:28.667222;-17.787778
X-APPLE-STRUCTURED-LOCATION;VALUE=URI;X-ADDRESS=Bodegón Los Alamos\, Breñ
 a Alta\, 38710\, España;X-APPLE-RADIUS=100;X-TITLE=Parque de Los Álamos:
 geo:28.667222,-17.787778
END:VEVENT
END:VCALENDAR