BEGIN:VCALENDAR
VERSION:2.0
PRODID:-//wp-events-plugin.com//7.2.3.1//EN
TZID:Europe/London
X-WR-TIMEZONE:Europe/London
BEGIN:VEVENT
UID:3734@larevistadelapalma.com
DTSTART:20250510T210000Z
DTEND:20250510T223000Z
DTSTAMP:20250502T155722Z
URL:https://www.larevistadelapalma.com/events/duncan-dhu-transvulcania-25/
SUMMARY:Mikel Erentxun y su Duncan Dhu Tour pondrá el broche final al 15º
  aniversario de la Transvulcania 
DESCRIPTION:El concierto será el cierre de fiesta de la edición más espe
 cial de la carrera de montaña palmera.\n\nLa carrera Transvulcania celebr
 ará su decimoquinto aniversario por todo lo alto con el concierto de la g
 ira Duncan Dhu 40\, que celebra que se cumplen 40 años del debut discogr
 áfico de uno de los grupos más representativos del pop-rock español. La
  actuación servirá como broche de oro a una edición marcada por la emoc
 ión\, la participación internacional y el reencuentro con los puntos má
 s míticos del recorrido.\nMikel Erentxun hace un paréntesis en su carrer
 a\, aparcando su discografía\, para centrarse exclusivamente en esta gira
  y los temas de Duncan Dhu. Estará  acompañado de Ruben Caballero guita
 rra\, Mikel Azpiroz\, teclados\, Fernando Neira\, bajo\, Karlos Arancegui\
 , batería.\nMikel hace un paréntesis en su carrera\, aparcando su discog
 rafía\, para centrarse exclusivamente en la de Duncan Dhu.\n\nUn conciert
 o que supone una apuesta decidida por ofrecer una experiencia integral a c
 orredores\, voluntarios\, aficionados locales y visitantes que cada año c
 onvierten la Transvulcania en una auténtica fiesta del deporte en La Palm
 a. Un concierto con un repertorio que incluirá todos los clásicos de est
 a gran banda.\n\nDesde la organización\, se ha querido rendir homenaje a 
 los 15 años de historia de la prueba con un evento musical de altura\, ab
 ierto al público y pensado como un momento de celebración compartida tra
 s días intensos de competición y emoción.\n\nEl concierto se celebrará
  en la noche del sábado\, en la Plaza de España de Los Llanos de Aridane
 \, y contará con entrada gratuita. La cita no solo será un reconocimient
 o al legado de la carrera\, sino también una invitación a seguir soñand
 o en grande\, con la música y el deporte como protagonistas del renacer d
 e la Isla Bonita.\n\n&nbsp\;\n\nLa Transvulcania adidas TERREX está organ
 izada por el Excmo. Cabildo Insular de La Palma a través de la empresa p
 ública SODEPAL\, contando con el apoyo de Gobierno de Canarias\, a travé
 s de la Consejería de Turismo y de Promotur con su marca “Islas Canaria
 s Latitud de Vida”\, así como de las empresas 226ERS\, Hotel H10 Taburi
 ente Playa\, Hotel La Palma Princess\, Hotel Meliá La Palma\, Fred. Olsen
  Express\, Cicar\, Spar La Palma\, Coca-Cola\, Libbys e Isola.
ATTACH;FMTTYPE=image/jpeg:https://www.larevistadelapalma.com/wp-content/up
 loads/2025/05/TRV.jpg
CATEGORIES:Conciertos,Música
LOCATION:Plaza de España en Los Llanos de Aridane\, Plaza de España\, Los
  Llanos de Aridane\, 38760\, España
GEO:28.658934;-17.913174
X-APPLE-STRUCTURED-LOCATION;VALUE=URI;X-ADDRESS=Plaza de España\, Los Llan
 os de Aridane\, 38760\, España;X-APPLE-RADIUS=100;X-TITLE=Plaza de Españ
 a en Los Llanos de Aridane:geo:28.658934,-17.913174
END:VEVENT
END:VCALENDARBEGIN:VCALENDAR
VERSION:2.0
PRODID:-//wp-events-plugin.com//7.2.3.1//EN
TZID:Europe/London
X-WR-TIMEZONE:Europe/London
BEGIN:VEVENT
UID:3734@larevistadelapalma.com
DTSTART:20250510T210000Z
DTEND:20250510T223000Z
DTSTAMP:20250502T155722Z
URL:https://www.larevistadelapalma.com/events/duncan-dhu-transvulcania-25/
SUMMARY:Mikel Erentxun y su Duncan Dhu Tour pondrá el broche final al 15º
  aniversario de la Transvulcania 
DESCRIPTION:El concierto será el cierre de fiesta de la edición más espe
 cial de la carrera de montaña palmera.\n\nLa carrera Transvulcania celebr
 ará su decimoquinto aniversario por todo lo alto con el concierto de la g
 ira Duncan Dhu 40\, que celebra que se cumplen 40 años del debut discogr
 áfico de uno de los grupos más representativos del pop-rock español. La
  actuación servirá como broche de oro a una edición marcada por la emoc
 ión\, la participación internacional y el reencuentro con los puntos má
 s míticos del recorrido.\nMikel Erentxun hace un paréntesis en su carrer
 a\, aparcando su discografía\, para centrarse exclusivamente en esta gira
  y los temas de Duncan Dhu. Estará  acompañado de Ruben Caballero guita
 rra\, Mikel Azpiroz\, teclados\, Fernando Neira\, bajo\, Karlos Arancegui\
 , batería.\nMikel hace un paréntesis en su carrera\, aparcando su discog
 rafía\, para centrarse exclusivamente en la de Duncan Dhu.\n\nUn conciert
 o que supone una apuesta decidida por ofrecer una experiencia integral a c
 orredores\, voluntarios\, aficionados locales y visitantes que cada año c
 onvierten la Transvulcania en una auténtica fiesta del deporte en La Palm
 a. Un concierto con un repertorio que incluirá todos los clásicos de est
 a gran banda.\n\nDesde la organización\, se ha querido rendir homenaje a 
 los 15 años de historia de la prueba con un evento musical de altura\, ab
 ierto al público y pensado como un momento de celebración compartida tra
 s días intensos de competición y emoción.\n\nEl concierto se celebrará
  en la noche del sábado\, en la Plaza de España de Los Llanos de Aridane
 \, y contará con entrada gratuita. La cita no solo será un reconocimient
 o al legado de la carrera\, sino también una invitación a seguir soñand
 o en grande\, con la música y el deporte como protagonistas del renacer d
 e la Isla Bonita.\n\n&nbsp\;\n\nLa Transvulcania adidas TERREX está organ
 izada por el Excmo. Cabildo Insular de La Palma a través de la empresa p
 ública SODEPAL\, contando con el apoyo de Gobierno de Canarias\, a travé
 s de la Consejería de Turismo y de Promotur con su marca “Islas Canaria
 s Latitud de Vida”\, así como de las empresas 226ERS\, Hotel H10 Taburi
 ente Playa\, Hotel La Palma Princess\, Hotel Meliá La Palma\, Fred. Olsen
  Express\, Cicar\, Spar La Palma\, Coca-Cola\, Libbys e Isola.
ATTACH;FMTTYPE=image/jpeg:https://www.larevistadelapalma.com/wp-content/up
 loads/2025/05/TRV.jpg
CATEGORIES:Conciertos,Música
LOCATION:Plaza de España en Los Llanos de Aridane\, Plaza de España\, Los
  Llanos de Aridane\, 38760\, España
GEO:28.658934;-17.913174
X-APPLE-STRUCTURED-LOCATION;VALUE=URI;X-ADDRESS=Plaza de España\, Los Llan
 os de Aridane\, 38760\, España;X-APPLE-RADIUS=100;X-TITLE=Plaza de Españ
 a en Los Llanos de Aridane:geo:28.658934,-17.913174
END:VEVENT
END:VCALENDAR