BEGIN:VCALENDAR
VERSION:2.0
PRODID:-//wp-events-plugin.com//7.2.3.1//EN
TZID:Europe/London
X-WR-TIMEZONE:Europe/London
BEGIN:VEVENT
UID:2956@larevistadelapalma.com
DTSTART:20240510T190000Z
DTEND:20240510T203000Z
DTSTAMP:20240509T120606Z
URL:https://www.larevistadelapalma.com/events/duo-intempesta-en-la-casa-de
 l-conde-de-argual/
SUMMARY:Dúo Intempesta en La Casa del Conde de Argual
DESCRIPTION:Casa del Conde de Argual anuncia el inicio del Ciclo de Música
  Clásica del Conde.\n\nPara el primer concierto\, Miguel Ángel Vilariño
  y Blanca Quevedo\, Inspirados por los cielos de La Palma\, reviven la her
 mosa música de autores poco conocidos del siglo XIX cuyo hilo conductor e
 s el Nocturno.\n\nEl Llano de Argual en Los Llanos de Aridane se convierte
  en el epicentro de la cultura y la música con la presentación del "Cicl
 o de Música Clásica del Conde". Este ciclo de conciertos\, compuesto por
  18 actuaciones que se realizarán entre los meses de mayo y diciembre de 
 2024\, promete cautivar a los amantes de la música clásica con una exper
 iencia diferente en un entorno de excepcional belleza arquitectónica como
  es el patio central de la Casa del Conde.\n\nEl Ciclo de Música Clásica
  del Conde será una oportunidad única para el público amante de la sing
 ularidad intemporal de la música clásica\, que será interpretada por m
 úsicos de todas las islas\, en un espacio histórico único en la isla. C
 ada concierto ofrecerá una experiencia auditiva enriquecedora que deleita
 rá tanto a los conocedores del arte como a los amantes de la música.\n\n
 El Ciclo comienza este viernes 10 de mayo\, a las 20:00 horas\, con la act
 uación de Dúo Intempesta\, con Miguel Ángel Vilariño y Blanca Quevedo.
  Inspirados por los cielos de La Palma\,ambos músicos profesionales y pro
 fesores de Música en La Palma\, al sentirse unidos por una gran afinidad 
 artística\, quisieron revivir hermosa música de autores poco conocidos d
 el s. XIX\, cuyo hilo conductor es el Nocturno: una forma musical breve\, 
 a menudo tripartita\, y expresiva que evoca la noche y posee melodías sos
 egadas que crean estados de ánimo ensoñadores.\n\nIntempesta se ha inmor
 talizado en un CD que presenta la integral de Nocturnos para Violoncello y
  Piano del Cellista y compositor alemán Georg Eduard Goltermann (Hannover
  1824 - Frankfurt 1898)\, además de otros nocturnos de Jacob Fabricius\, 
 Ernst Jonas\, Arnold Trowell\, así como un Nocturno inédito de Blanca Qu
 evedo.\n\nEl día del concierto en el fabuloso marco de la Casa del Conde 
 podremos escuchar una selección de Nocturnos de Intempesta.\n\nEntrada: 1
 5 € \n\nApertura de taquilla a las 19:00 h.
ATTACH;FMTTYPE=image/jpeg:https://www.larevistadelapalma.com/wp-content/up
 loads/2024/04/DUO-INTEMPESTA.jpg
CATEGORIES:Conciertos,Música
LOCATION:Casa del Conde\, Los Llanos de Aridane\, C/San Antonio\, 35 - Llan
 o de Argual\, Los Llanos de Aridane\, 38760\, España
GEO:28.655333;-17.926641
X-APPLE-STRUCTURED-LOCATION;VALUE=URI;X-ADDRESS=C/San Antonio\, 35 - Llano 
 de Argual\, Los Llanos de Aridane\, 38760\, España;X-APPLE-RADIUS=100;X-T
 ITLE=Casa del Conde\, Los Llanos de Aridane:geo:28.655333,-17.926641
END:VEVENT
END:VCALENDARBEGIN:VCALENDAR
VERSION:2.0
PRODID:-//wp-events-plugin.com//7.2.3.1//EN
TZID:Europe/London
X-WR-TIMEZONE:Europe/London
BEGIN:VEVENT
UID:2956@larevistadelapalma.com
DTSTART:20240510T190000Z
DTEND:20240510T203000Z
DTSTAMP:20240509T120606Z
URL:https://www.larevistadelapalma.com/events/duo-intempesta-en-la-casa-de
 l-conde-de-argual/
SUMMARY:Dúo Intempesta en La Casa del Conde de Argual
DESCRIPTION:Casa del Conde de Argual anuncia el inicio del Ciclo de Música
  Clásica del Conde.\n\nPara el primer concierto\, Miguel Ángel Vilariño
  y Blanca Quevedo\, Inspirados por los cielos de La Palma\, reviven la her
 mosa música de autores poco conocidos del siglo XIX cuyo hilo conductor e
 s el Nocturno.\n\nEl Llano de Argual en Los Llanos de Aridane se convierte
  en el epicentro de la cultura y la música con la presentación del "Cicl
 o de Música Clásica del Conde". Este ciclo de conciertos\, compuesto por
  18 actuaciones que se realizarán entre los meses de mayo y diciembre de 
 2024\, promete cautivar a los amantes de la música clásica con una exper
 iencia diferente en un entorno de excepcional belleza arquitectónica como
  es el patio central de la Casa del Conde.\n\nEl Ciclo de Música Clásica
  del Conde será una oportunidad única para el público amante de la sing
 ularidad intemporal de la música clásica\, que será interpretada por m
 úsicos de todas las islas\, en un espacio histórico único en la isla. C
 ada concierto ofrecerá una experiencia auditiva enriquecedora que deleita
 rá tanto a los conocedores del arte como a los amantes de la música.\n\n
 El Ciclo comienza este viernes 10 de mayo\, a las 20:00 horas\, con la act
 uación de Dúo Intempesta\, con Miguel Ángel Vilariño y Blanca Quevedo.
  Inspirados por los cielos de La Palma\,ambos músicos profesionales y pro
 fesores de Música en La Palma\, al sentirse unidos por una gran afinidad 
 artística\, quisieron revivir hermosa música de autores poco conocidos d
 el s. XIX\, cuyo hilo conductor es el Nocturno: una forma musical breve\, 
 a menudo tripartita\, y expresiva que evoca la noche y posee melodías sos
 egadas que crean estados de ánimo ensoñadores.\n\nIntempesta se ha inmor
 talizado en un CD que presenta la integral de Nocturnos para Violoncello y
  Piano del Cellista y compositor alemán Georg Eduard Goltermann (Hannover
  1824 - Frankfurt 1898)\, además de otros nocturnos de Jacob Fabricius\, 
 Ernst Jonas\, Arnold Trowell\, así como un Nocturno inédito de Blanca Qu
 evedo.\n\nEl día del concierto en el fabuloso marco de la Casa del Conde 
 podremos escuchar una selección de Nocturnos de Intempesta.\n\nEntrada: 1
 5 € \n\nApertura de taquilla a las 19:00 h.
ATTACH;FMTTYPE=image/jpeg:https://www.larevistadelapalma.com/wp-content/up
 loads/2024/04/DUO-INTEMPESTA.jpg
CATEGORIES:Conciertos,Música
LOCATION:Casa del Conde\, Los Llanos de Aridane\, C/San Antonio\, 35 - Llan
 o de Argual\, Los Llanos de Aridane\, 38760\, España
GEO:28.655333;-17.926641
X-APPLE-STRUCTURED-LOCATION;VALUE=URI;X-ADDRESS=C/San Antonio\, 35 - Llano 
 de Argual\, Los Llanos de Aridane\, 38760\, España;X-APPLE-RADIUS=100;X-T
 ITLE=Casa del Conde\, Los Llanos de Aridane:geo:28.655333,-17.926641
END:VEVENT
END:VCALENDAR