BEGIN:VCALENDAR
VERSION:2.0
PRODID:-//wp-events-plugin.com//7.2.3.1//EN
TZID:Europe/London
X-WR-TIMEZONE:Europe/London
BEGIN:VEVENT
UID:3932@larevistadelapalma.com
DTSTART;VALUE=DATE:20250815
DTEND;VALUE=DATE:20250831
DTSTAMP:20250820T190717Z
URL:https://www.larevistadelapalma.com/events/echentive-expo/
SUMMARY:Echentive organiza una exposición por su 50 aniversario
DESCRIPTION:El Colectivo Etnográfico Echentive está celebrando en el pres
 ente año su cincuenta  aniversario de su fundación en 1975 con diferent
 es actos. El pasado mes de enero celebró un concierto en la Iglesia de Fu
 encaliente\, conmemorando de que fue a partir de las navidades de 1974 cua
 ndo un grupo de jóvenes que reunían para cantar villancicos por la navid
 ad decidieron crear un grupo folclórico con el claro objetivo de mantener
  nuestras tradiciones. Durante este año\, entre otros actos\, presentaron
  el pasado 6 de agosto en el Centro Cultural de Fuencaliente su novena gra
 bación de música tradicional de la isla de La Palma\, con Mazurcas\, Pol
 cas\, Jila Jila\, Sirinoque\,  inéditos en cuanto a su grabación.\n\nEn
  este mes de agosto y aprovechando la celebración de las Fiestas de la Ve
 ndimia\, el colectivo abre las puertas de su local de ensayo (C/ San Anton
 io\, Fuencaliente)\, para organizar una exposición alusiva a sus 50 años
  de historia\, con temas etnográficos de instrumentos y elaboración de l
 a vestimenta tradicional de nuestra isla\; dicha exposición estará abier
 ta desde el día 15 al 30 de agosto. En horario de 10 a 13 y de 16 a 20 ho
 ras.\n\n\n\nTambién el viernes 22 del presente mes celebrará un Festival
  Folclórico acompañado de la Agrupación Folklórica de Tétir\, de la i
 sla de Fuerteventura.\n\nEn el presente año y en reconocimiento a sus 50 
 años y su labor en el patrimonio cultural e histórico\, el Cabildo de La
  Palma le concedió el Premio Insular 2025 de dicha entidad.\n\nEchentive 
 continuará durante el presente año realizando actos en conmemoración de
  su efemérides.
ATTACH;FMTTYPE=image/jpeg:https://www.larevistadelapalma.com/wp-content/up
 loads/2025/08/Echentive-expo-fuencaliente-1.jpg
CATEGORIES:Exposiciones
LOCATION:Municipio de Fuencaliente\, Fuencaliente\, Fuencaliente\, 38740\, 
 España
GEO:28.479676;-17.840616
X-APPLE-STRUCTURED-LOCATION;VALUE=URI;X-ADDRESS=Fuencaliente\, Fuencaliente
 \, 38740\, España;X-APPLE-RADIUS=100;X-TITLE=Municipio de Fuencaliente:ge
 o:28.479676,-17.840616
END:VEVENT
END:VCALENDARBEGIN:VCALENDAR
VERSION:2.0
PRODID:-//wp-events-plugin.com//7.2.3.1//EN
TZID:Europe/London
X-WR-TIMEZONE:Europe/London
BEGIN:VEVENT
UID:3932@larevistadelapalma.com
DTSTART;VALUE=DATE:20250815
DTEND;VALUE=DATE:20250831
DTSTAMP:20250820T190717Z
URL:https://www.larevistadelapalma.com/events/echentive-expo/
SUMMARY:Echentive organiza una exposición por su 50 aniversario
DESCRIPTION:El Colectivo Etnográfico Echentive está celebrando en el pres
 ente año su cincuenta  aniversario de su fundación en 1975 con diferent
 es actos. El pasado mes de enero celebró un concierto en la Iglesia de Fu
 encaliente\, conmemorando de que fue a partir de las navidades de 1974 cua
 ndo un grupo de jóvenes que reunían para cantar villancicos por la navid
 ad decidieron crear un grupo folclórico con el claro objetivo de mantener
  nuestras tradiciones. Durante este año\, entre otros actos\, presentaron
  el pasado 6 de agosto en el Centro Cultural de Fuencaliente su novena gra
 bación de música tradicional de la isla de La Palma\, con Mazurcas\, Pol
 cas\, Jila Jila\, Sirinoque\,  inéditos en cuanto a su grabación.\n\nEn
  este mes de agosto y aprovechando la celebración de las Fiestas de la Ve
 ndimia\, el colectivo abre las puertas de su local de ensayo (C/ San Anton
 io\, Fuencaliente)\, para organizar una exposición alusiva a sus 50 años
  de historia\, con temas etnográficos de instrumentos y elaboración de l
 a vestimenta tradicional de nuestra isla\; dicha exposición estará abier
 ta desde el día 15 al 30 de agosto. En horario de 10 a 13 y de 16 a 20 ho
 ras.\n\n\n\nTambién el viernes 22 del presente mes celebrará un Festival
  Folclórico acompañado de la Agrupación Folklórica de Tétir\, de la i
 sla de Fuerteventura.\n\nEn el presente año y en reconocimiento a sus 50 
 años y su labor en el patrimonio cultural e histórico\, el Cabildo de La
  Palma le concedió el Premio Insular 2025 de dicha entidad.\n\nEchentive 
 continuará durante el presente año realizando actos en conmemoración de
  su efemérides.
ATTACH;FMTTYPE=image/jpeg:https://www.larevistadelapalma.com/wp-content/up
 loads/2025/08/Echentive-expo-fuencaliente-1.jpg
CATEGORIES:Exposiciones
LOCATION:Municipio de Fuencaliente\, Fuencaliente\, Fuencaliente\, 38740\, 
 España
GEO:28.479676;-17.840616
X-APPLE-STRUCTURED-LOCATION;VALUE=URI;X-ADDRESS=Fuencaliente\, Fuencaliente
 \, 38740\, España;X-APPLE-RADIUS=100;X-TITLE=Municipio de Fuencaliente:ge
 o:28.479676,-17.840616
END:VEVENT
END:VCALENDAR