BEGIN:VCALENDAR
VERSION:2.0
PRODID:-//wp-events-plugin.com//7.2.3.1//EN
TZID:Europe/London
X-WR-TIMEZONE:Europe/London
BEGIN:VEVENT
UID:3895@larevistadelapalma.com
DTSTART:20250806T180000Z
DTEND:20250806T193000Z
DTSTAMP:20250726T120144Z
URL:https://www.larevistadelapalma.com/events/echentive-presenta-nuevo-dis
 co/
SUMMARY:La Agrupación Folclórica Echentive presenta nuevo disco
DESCRIPTION:\nMúsica tradicional de La Palma.\nLa Agrupación Folclórica 
 Echentive sigue siendo guardiana de las tradiciones y lo hacen presentando
  un nuevo disco. Será el próximo 6 de agosto en el Centro Cultural de Lo
 s Canarios\, de Fuencaliente.\n\n
ATTACH;FMTTYPE=image/jpeg:https://www.larevistadelapalma.com/wp-content/up
 loads/2025/07/Echentive-nuevo-disco.jpg
CATEGORIES:Conciertos,Música
LOCATION:Centro Cultural de Los Canarios\, Fuencaliente\, C. Venezuela\, 2\
 , Fuencaliente\, 38740\, España
GEO:28.494368;-17.845832
X-APPLE-STRUCTURED-LOCATION;VALUE=URI;X-ADDRESS=C. Venezuela\, 2\, Fuencali
 ente\, 38740\, España;X-APPLE-RADIUS=100;X-TITLE=Centro Cultural de Los C
 anarios\, Fuencaliente:geo:28.494368,-17.845832
END:VEVENT
END:VCALENDARBEGIN:VCALENDAR
VERSION:2.0
PRODID:-//wp-events-plugin.com//7.2.3.1//EN
TZID:Europe/London
X-WR-TIMEZONE:Europe/London
BEGIN:VEVENT
UID:3895@larevistadelapalma.com
DTSTART:20250806T180000Z
DTEND:20250806T193000Z
DTSTAMP:20250726T120144Z
URL:https://www.larevistadelapalma.com/events/echentive-presenta-nuevo-dis
 co/
SUMMARY:La Agrupación Folclórica Echentive presenta nuevo disco
DESCRIPTION:\nMúsica tradicional de La Palma.\nLa Agrupación Folclórica 
 Echentive sigue siendo guardiana de las tradiciones y lo hacen presentando
  un nuevo disco. Será el próximo 6 de agosto en el Centro Cultural de Lo
 s Canarios\, de Fuencaliente.\n\n
ATTACH;FMTTYPE=image/jpeg:https://www.larevistadelapalma.com/wp-content/up
 loads/2025/07/Echentive-nuevo-disco.jpg
CATEGORIES:Conciertos,Música
LOCATION:Centro Cultural de Los Canarios\, Fuencaliente\, C. Venezuela\, 2\
 , Fuencaliente\, 38740\, España
GEO:28.494368;-17.845832
X-APPLE-STRUCTURED-LOCATION;VALUE=URI;X-ADDRESS=C. Venezuela\, 2\, Fuencali
 ente\, 38740\, España;X-APPLE-RADIUS=100;X-TITLE=Centro Cultural de Los C
 anarios\, Fuencaliente:geo:28.494368,-17.845832
END:VEVENT
END:VCALENDAR