BEGIN:VCALENDAR
VERSION:2.0
PRODID:-//wp-events-plugin.com//7.2.3.1//EN
TZID:Europe/London
X-WR-TIMEZONE:Europe/London
BEGIN:VEVENT
UID:3654@larevistadelapalma.com
DTSTART:20250329T180000Z
DTEND:20250329T193000Z
DTSTAMP:20250318T155048Z
URL:https://www.larevistadelapalma.com/events/el-alquimista-circo-marte/
SUMMARY:"El Alquimista" el nuevo espectáculo del ilusionista David de la T
 orre
DESCRIPTION:"El Alquimista" el nuevo espectáculo de gran formato del ilusi
 onista canario David de la Torre\, después de su gira por Canarias y la p
 articipación en el prestigioso programa de televisión Got Talent.\nCompr
 ar entradas &gt\;&gt\;\n
ATTACH;FMTTYPE=image/jpeg:https://www.larevistadelapalma.com/wp-content/up
 loads/2025/03/El-Creador-de-suenos-circo-de-marte.jpg
CATEGORIES:Espectáculos
LOCATION:Teatro Circo de Marte\, Calle Virgen de La Luz\, 5\, Santa Cruz de
  La Palma\, 38700\, España
GEO:28.682989;-17.765755
X-APPLE-STRUCTURED-LOCATION;VALUE=URI;X-ADDRESS=Calle Virgen de La Luz\, 5\
 , Santa Cruz de La Palma\, 38700\, España;X-APPLE-RADIUS=100;X-TITLE=Teat
 ro Circo de Marte:geo:28.682989,-17.765755
END:VEVENT
END:VCALENDARBEGIN:VCALENDAR
VERSION:2.0
PRODID:-//wp-events-plugin.com//7.2.3.1//EN
TZID:Europe/London
X-WR-TIMEZONE:Europe/London
BEGIN:VEVENT
UID:3654@larevistadelapalma.com
DTSTART:20250329T180000Z
DTEND:20250329T193000Z
DTSTAMP:20250318T155048Z
URL:https://www.larevistadelapalma.com/events/el-alquimista-circo-marte/
SUMMARY:"El Alquimista" el nuevo espectáculo del ilusionista David de la T
 orre
DESCRIPTION:"El Alquimista" el nuevo espectáculo de gran formato del ilusi
 onista canario David de la Torre\, después de su gira por Canarias y la p
 articipación en el prestigioso programa de televisión Got Talent.\nCompr
 ar entradas &gt\;&gt\;\n
ATTACH;FMTTYPE=image/jpeg:https://www.larevistadelapalma.com/wp-content/up
 loads/2025/03/El-Creador-de-suenos-circo-de-marte.jpg
CATEGORIES:Espectáculos
LOCATION:Teatro Circo de Marte\, Calle Virgen de La Luz\, 5\, Santa Cruz de
  La Palma\, 38700\, España
GEO:28.682989;-17.765755
X-APPLE-STRUCTURED-LOCATION;VALUE=URI;X-ADDRESS=Calle Virgen de La Luz\, 5\
 , Santa Cruz de La Palma\, 38700\, España;X-APPLE-RADIUS=100;X-TITLE=Teat
 ro Circo de Marte:geo:28.682989,-17.765755
END:VEVENT
END:VCALENDAR