BEGIN:VCALENDAR
VERSION:2.0
PRODID:-//wp-events-plugin.com//7.2.3.1//EN
TZID:Europe/London
X-WR-TIMEZONE:Europe/London
BEGIN:VEVENT
UID:4054@larevistadelapalma.com
DTSTART:20251129T180000Z
DTEND:20251129T213000Z
DTSTAMP:20251113T124737Z
URL:https://www.larevistadelapalma.com/events/el-ayuntamiento-abre-las-ins
 cripciones-para-el-aridane-stars-talent-show/
SUMMARY:El Ayuntamiento abre las inscripciones para el Aridane Stars Talent
  Show
DESCRIPTION:El concurso está abierto a personas de cualquier edad y discip
 lina artística\, ya sea de manera individual\, en pareja o en grupo.\n\nE
 l Ayuntamiento de Los Llanos de Aridane abre las inscripciones para partic
 ipar en el Aridane Stars Talent Show\, un certamen que busca descubrir y p
 oner en valor el talento local en distintas disciplinas artísticas. El ev
 ento se celebrará el sábado\, 29 de noviembre\, a las 19:00 horas\, en l
 a plaza de España.\n\nEl concurso está abierto a personas de cualquier e
 dad y disciplina artística\, ya sea de manera individual\, en pareja o en
  grupo\, aunque no está dirigida a formaciones musicales completas por mo
 tivos técnicos de montaje.\n\nEl certamen contará con premios en metáli
 co pagados por la organización del evento de 300\, 200 y 100 euros para l
 os tres primeros clasificados.\n\nLas inscripciones se realizan a través 
 del número de WhatsApp 656 698 279\, donde se facilitarán las bases y co
 ndiciones de participación.\n\n&nbsp\;
ATTACH;FMTTYPE=image/jpeg:https://www.larevistadelapalma.com/wp-content/up
 loads/2025/11/Aridane-Talent-Show.jpeg
CATEGORIES:Otras propuestas,Varios
LOCATION:Plaza de España en Los Llanos de Aridane\, Plaza de España\, Los
  Llanos de Aridane\, 38760\, España
GEO:28.658934;-17.913174
X-APPLE-STRUCTURED-LOCATION;VALUE=URI;X-ADDRESS=Plaza de España\, Los Llan
 os de Aridane\, 38760\, España;X-APPLE-RADIUS=100;X-TITLE=Plaza de Españ
 a en Los Llanos de Aridane:geo:28.658934,-17.913174
END:VEVENT
END:VCALENDARBEGIN:VCALENDAR
VERSION:2.0
PRODID:-//wp-events-plugin.com//7.2.3.1//EN
TZID:Europe/London
X-WR-TIMEZONE:Europe/London
BEGIN:VEVENT
UID:4054@larevistadelapalma.com
DTSTART:20251129T180000Z
DTEND:20251129T213000Z
DTSTAMP:20251113T124737Z
URL:https://www.larevistadelapalma.com/events/el-ayuntamiento-abre-las-ins
 cripciones-para-el-aridane-stars-talent-show/
SUMMARY:El Ayuntamiento abre las inscripciones para el Aridane Stars Talent
  Show
DESCRIPTION:El concurso está abierto a personas de cualquier edad y discip
 lina artística\, ya sea de manera individual\, en pareja o en grupo.\n\nE
 l Ayuntamiento de Los Llanos de Aridane abre las inscripciones para partic
 ipar en el Aridane Stars Talent Show\, un certamen que busca descubrir y p
 oner en valor el talento local en distintas disciplinas artísticas. El ev
 ento se celebrará el sábado\, 29 de noviembre\, a las 19:00 horas\, en l
 a plaza de España.\n\nEl concurso está abierto a personas de cualquier e
 dad y disciplina artística\, ya sea de manera individual\, en pareja o en
  grupo\, aunque no está dirigida a formaciones musicales completas por mo
 tivos técnicos de montaje.\n\nEl certamen contará con premios en metáli
 co pagados por la organización del evento de 300\, 200 y 100 euros para l
 os tres primeros clasificados.\n\nLas inscripciones se realizan a través 
 del número de WhatsApp 656 698 279\, donde se facilitarán las bases y co
 ndiciones de participación.\n\n&nbsp\;
ATTACH;FMTTYPE=image/jpeg:https://www.larevistadelapalma.com/wp-content/up
 loads/2025/11/Aridane-Talent-Show.jpeg
CATEGORIES:Otras propuestas,Varios
LOCATION:Plaza de España en Los Llanos de Aridane\, Plaza de España\, Los
  Llanos de Aridane\, 38760\, España
GEO:28.658934;-17.913174
X-APPLE-STRUCTURED-LOCATION;VALUE=URI;X-ADDRESS=Plaza de España\, Los Llan
 os de Aridane\, 38760\, España;X-APPLE-RADIUS=100;X-TITLE=Plaza de Españ
 a en Los Llanos de Aridane:geo:28.658934,-17.913174
END:VEVENT
END:VCALENDAR