BEGIN:VCALENDAR
VERSION:2.0
PRODID:-//wp-events-plugin.com//7.2.3.1//EN
TZID:Europe/London
X-WR-TIMEZONE:Europe/London
BEGIN:VEVENT
UID:2991@larevistadelapalma.com
DTSTART:20240531T200000Z
DTEND:20240531T213000Z
DTSTAMP:20240521T115448Z
URL:https://www.larevistadelapalma.com/events/el-cabildo-celebra-el-dia-de
 -canarias-con-un-concierto-de-los-sabandenos/
SUMMARY:El Cabildo celebra el Día de Canarias con un concierto de Los Saba
 ndeños
DESCRIPTION:El evento será el viernes\, 31 de mayo\, en la Plaza de Españ
 a de Los Llanos de Aridane\, a las 21:00 horas.\n\nLa Consejería de Cultu
 ra del Cabildo de La Palma\, organiza\, con la colaboración del Ayuntamie
 nto de Los Llanos de Aridane\, el concierto de Los Sabandeños\, que se de
 sarrollará en el marco de la celebración del Día de Canarias en la Isla
 . La cita musical tendrá lugar el viernes\, 31 de mayo\, en la Plaza de E
 spaña del municipio del Valle de Aridane\, a las 21:00 horas.\n\nLos Saba
 ndeños comenzaron su actividad en 1965 cuando un grupo de amigos del ento
 rno universitario de La Laguna formalizó la agrupación\, una trayectoria
  que ha sido ininterrumpida durante casi seis décadas y que se ve refleja
 da en sus más de 95 trabajos discográficos. \n\n&nbsp\;
ATTACH;FMTTYPE=image/jpeg:https://www.larevistadelapalma.com/wp-content/up
 loads/2024/05/Los-sabandenos.jpg
CATEGORIES:Conciertos,Música
LOCATION:Plaza de España en Los Llanos de Aridane\, Plaza de España\, Los
  Llanos de Aridane\, 38760\, España
GEO:28.658934;-17.913174
X-APPLE-STRUCTURED-LOCATION;VALUE=URI;X-ADDRESS=Plaza de España\, Los Llan
 os de Aridane\, 38760\, España;X-APPLE-RADIUS=100;X-TITLE=Plaza de Españ
 a en Los Llanos de Aridane:geo:28.658934,-17.913174
END:VEVENT
END:VCALENDARBEGIN:VCALENDAR
VERSION:2.0
PRODID:-//wp-events-plugin.com//7.2.3.1//EN
TZID:Europe/London
X-WR-TIMEZONE:Europe/London
BEGIN:VEVENT
UID:2991@larevistadelapalma.com
DTSTART:20240531T200000Z
DTEND:20240531T213000Z
DTSTAMP:20240521T115448Z
URL:https://www.larevistadelapalma.com/events/el-cabildo-celebra-el-dia-de
 -canarias-con-un-concierto-de-los-sabandenos/
SUMMARY:El Cabildo celebra el Día de Canarias con un concierto de Los Saba
 ndeños
DESCRIPTION:El evento será el viernes\, 31 de mayo\, en la Plaza de Españ
 a de Los Llanos de Aridane\, a las 21:00 horas.\n\nLa Consejería de Cultu
 ra del Cabildo de La Palma\, organiza\, con la colaboración del Ayuntamie
 nto de Los Llanos de Aridane\, el concierto de Los Sabandeños\, que se de
 sarrollará en el marco de la celebración del Día de Canarias en la Isla
 . La cita musical tendrá lugar el viernes\, 31 de mayo\, en la Plaza de E
 spaña del municipio del Valle de Aridane\, a las 21:00 horas.\n\nLos Saba
 ndeños comenzaron su actividad en 1965 cuando un grupo de amigos del ento
 rno universitario de La Laguna formalizó la agrupación\, una trayectoria
  que ha sido ininterrumpida durante casi seis décadas y que se ve refleja
 da en sus más de 95 trabajos discográficos. \n\n&nbsp\;
ATTACH;FMTTYPE=image/jpeg:https://www.larevistadelapalma.com/wp-content/up
 loads/2024/05/Los-sabandenos.jpg
CATEGORIES:Conciertos,Música
LOCATION:Plaza de España en Los Llanos de Aridane\, Plaza de España\, Los
  Llanos de Aridane\, 38760\, España
GEO:28.658934;-17.913174
X-APPLE-STRUCTURED-LOCATION;VALUE=URI;X-ADDRESS=Plaza de España\, Los Llan
 os de Aridane\, 38760\, España;X-APPLE-RADIUS=100;X-TITLE=Plaza de Españ
 a en Los Llanos de Aridane:geo:28.658934,-17.913174
END:VEVENT
END:VCALENDAR