BEGIN:VCALENDAR
VERSION:2.0
PRODID:-//wp-events-plugin.com//7.2.3.1//EN
TZID:Europe/London
X-WR-TIMEZONE:Europe/London
BEGIN:VEVENT
UID:3022@larevistadelapalma.com
DTSTART;VALUE=DATE:20240612
DTEND;VALUE=DATE:20240710
DTSTAMP:20240611T174510Z
URL:https://www.larevistadelapalma.com/events/el-catalogo-de-especies-de-n
 aza-martin-se-expone-en-la-casa-del-conde/
SUMMARY:El “Catálogo de especies”\, de Naza Martín se expone en la Ca
 sa del Conde
DESCRIPTION:Del mar de La Palma\, su mar\, nace este mundo ficticio de Naza
  Martín\, "La Máquina Creadora". Un ecosistema lleno de animales marinos
 ...
ATTACH;FMTTYPE=image/jpeg:https://www.larevistadelapalma.com/wp-content/up
 loads/2024/05/Naza-Martin-La-Maquina-Creadora.jpg
CATEGORIES:Exposiciones
LOCATION:Casa del Conde\, Los Llanos de Aridane\, C/San Antonio\, 35 - Llan
 o de Argual\, Los Llanos de Aridane\, 38760\, España
GEO:28.655333;-17.926641
X-APPLE-STRUCTURED-LOCATION;VALUE=URI;X-ADDRESS=C/San Antonio\, 35 - Llano 
 de Argual\, Los Llanos de Aridane\, 38760\, España;X-APPLE-RADIUS=100;X-T
 ITLE=Casa del Conde\, Los Llanos de Aridane:geo:28.655333,-17.926641
END:VEVENT
END:VCALENDARBEGIN:VCALENDAR
VERSION:2.0
PRODID:-//wp-events-plugin.com//7.2.3.1//EN
TZID:Europe/London
X-WR-TIMEZONE:Europe/London
BEGIN:VEVENT
UID:3022@larevistadelapalma.com
DTSTART;VALUE=DATE:20240612
DTEND;VALUE=DATE:20240710
DTSTAMP:20240611T174510Z
URL:https://www.larevistadelapalma.com/events/el-catalogo-de-especies-de-n
 aza-martin-se-expone-en-la-casa-del-conde/
SUMMARY:El “Catálogo de especies”\, de Naza Martín se expone en la Ca
 sa del Conde
DESCRIPTION:Del mar de La Palma\, su mar\, nace este mundo ficticio de Naza
  Martín\, "La Máquina Creadora". Un ecosistema lleno de animales marinos
 ...
ATTACH;FMTTYPE=image/jpeg:https://www.larevistadelapalma.com/wp-content/up
 loads/2024/05/Naza-Martin-La-Maquina-Creadora.jpg
CATEGORIES:Exposiciones
LOCATION:Casa del Conde\, Los Llanos de Aridane\, C/San Antonio\, 35 - Llan
 o de Argual\, Los Llanos de Aridane\, 38760\, España
GEO:28.655333;-17.926641
X-APPLE-STRUCTURED-LOCATION;VALUE=URI;X-ADDRESS=C/San Antonio\, 35 - Llano 
 de Argual\, Los Llanos de Aridane\, 38760\, España;X-APPLE-RADIUS=100;X-T
 ITLE=Casa del Conde\, Los Llanos de Aridane:geo:28.655333,-17.926641
END:VEVENT
END:VCALENDAR