BEGIN:VCALENDAR
VERSION:2.0
PRODID:-//wp-events-plugin.com//7.2.3.1//EN
TZID:Europe/London
X-WR-TIMEZONE:Europe/London
BEGIN:VEVENT
UID:4452@larevistadelapalma.com
DTSTART:20260104T163000Z
DTEND:20260104T180000Z
DTSTAMP:20260103T142844Z
URL:https://www.larevistadelapalma.com/events/el-circo-de-la-navidad-2/
SUMMARY:‘El Circo de la Navidad’\,
DESCRIPTION:\nEl Pabellón Roberto Estrello se transforma en un mundo de fa
 ntasía con ‘El Circo de la Navidad’\, un espectáculo para disfrutar 
 en familia.\n\n\n\n 	Hora del espectáculo: 17:30 horas.\n 	Apertura de pu
 ertas: 17:00 horas\n\n\n\n\n
ATTACH;FMTTYPE=image/jpeg:https://www.larevistadelapalma.com/wp-content/up
 loads/2026/01/El-circo-de-la-navidad.jpg
CATEGORIES:Espectáculos
LOCATION:Pabellón de deportes Roberto Estrello\, Cam. Velachero\,\, Santa 
 Cruz De La Palma\, 38700\, España
GEO:28.688602;-17.766897
X-APPLE-STRUCTURED-LOCATION;VALUE=URI;X-ADDRESS=Cam. Velachero\,\, Santa Cr
 uz De La Palma\, 38700\, España;X-APPLE-RADIUS=100;X-TITLE=Pabellón de d
 eportes Roberto Estrello:geo:28.688602,-17.766897
END:VEVENT
END:VCALENDARBEGIN:VCALENDAR
VERSION:2.0
PRODID:-//wp-events-plugin.com//7.2.3.1//EN
TZID:Europe/London
X-WR-TIMEZONE:Europe/London
BEGIN:VEVENT
UID:4452@larevistadelapalma.com
DTSTART:20260104T163000Z
DTEND:20260104T180000Z
DTSTAMP:20260103T142844Z
URL:https://www.larevistadelapalma.com/events/el-circo-de-la-navidad-2/
SUMMARY:‘El Circo de la Navidad’\,
DESCRIPTION:\nEl Pabellón Roberto Estrello se transforma en un mundo de fa
 ntasía con ‘El Circo de la Navidad’\, un espectáculo para disfrutar 
 en familia.\n\n\n\n 	Hora del espectáculo: 17:30 horas.\n 	Apertura de pu
 ertas: 17:00 horas\n\n\n\n\n
ATTACH;FMTTYPE=image/jpeg:https://www.larevistadelapalma.com/wp-content/up
 loads/2026/01/El-circo-de-la-navidad.jpg
CATEGORIES:Espectáculos
LOCATION:Pabellón de deportes Roberto Estrello\, Cam. Velachero\,\, Santa 
 Cruz De La Palma\, 38700\, España
GEO:28.688602;-17.766897
X-APPLE-STRUCTURED-LOCATION;VALUE=URI;X-ADDRESS=Cam. Velachero\,\, Santa Cr
 uz De La Palma\, 38700\, España;X-APPLE-RADIUS=100;X-TITLE=Pabellón de d
 eportes Roberto Estrello:geo:28.688602,-17.766897
END:VEVENT
END:VCALENDAR