BEGIN:VCALENDAR
VERSION:2.0
PRODID:-//wp-events-plugin.com//7.2.3.1//EN
TZID:Europe/London
X-WR-TIMEZONE:Europe/London
BEGIN:VEVENT
UID:4108@larevistadelapalma.com
DTSTART:20251214T163000Z
DTEND:20251214T180000Z
DTSTAMP:20251213T130101Z
URL:https://www.larevistadelapalma.com/events/el-circo-de-la-navidad/
SUMMARY:APLAZADO- ‘El Circo de la Navidad’\,
DESCRIPTION:\nDebido a las condiciones meterológicas el espectaculo se apl
 aza. Pronto anunciarán nueva fecha.El Pabellón Roberto Estrello se trans
 forma en un mundo de fantasía con ‘El Circo de la Navidad’\, un espec
 táculo para disfrutar en familia.\n\n\n\n 	Hora del espectáculo: 17:30 h
 oras.\n 	Apertura de puertas: 17:00 horas\n\n\n\n\n
ATTACH;FMTTYPE=image/jpeg:https://www.larevistadelapalma.com/wp-content/up
 loads/2025/12/circo-de-navidad.jpg
CATEGORIES:Espectáculos
LOCATION:Pabellón de deportes Roberto Estrello\, Cam. Velachero\,\, Santa 
 Cruz De La Palma\, 38700\, España
GEO:28.688602;-17.766897
X-APPLE-STRUCTURED-LOCATION;VALUE=URI;X-ADDRESS=Cam. Velachero\,\, Santa Cr
 uz De La Palma\, 38700\, España;X-APPLE-RADIUS=100;X-TITLE=Pabellón de d
 eportes Roberto Estrello:geo:28.688602,-17.766897
END:VEVENT
END:VCALENDARBEGIN:VCALENDAR
VERSION:2.0
PRODID:-//wp-events-plugin.com//7.2.3.1//EN
TZID:Europe/London
X-WR-TIMEZONE:Europe/London
BEGIN:VEVENT
UID:4108@larevistadelapalma.com
DTSTART:20251214T163000Z
DTEND:20251214T180000Z
DTSTAMP:20251213T130101Z
URL:https://www.larevistadelapalma.com/events/el-circo-de-la-navidad/
SUMMARY:APLAZADO- ‘El Circo de la Navidad’\,
DESCRIPTION:\nDebido a las condiciones meterológicas el espectaculo se apl
 aza. Pronto anunciarán nueva fecha.El Pabellón Roberto Estrello se trans
 forma en un mundo de fantasía con ‘El Circo de la Navidad’\, un espec
 táculo para disfrutar en familia.\n\n\n\n 	Hora del espectáculo: 17:30 h
 oras.\n 	Apertura de puertas: 17:00 horas\n\n\n\n\n
ATTACH;FMTTYPE=image/jpeg:https://www.larevistadelapalma.com/wp-content/up
 loads/2025/12/circo-de-navidad.jpg
CATEGORIES:Espectáculos
LOCATION:Pabellón de deportes Roberto Estrello\, Cam. Velachero\,\, Santa 
 Cruz De La Palma\, 38700\, España
GEO:28.688602;-17.766897
X-APPLE-STRUCTURED-LOCATION;VALUE=URI;X-ADDRESS=Cam. Velachero\,\, Santa Cr
 uz De La Palma\, 38700\, España;X-APPLE-RADIUS=100;X-TITLE=Pabellón de d
 eportes Roberto Estrello:geo:28.688602,-17.766897
END:VEVENT
END:VCALENDAR