BEGIN:VCALENDAR
VERSION:2.0
PRODID:-//wp-events-plugin.com//7.2.3.1//EN
TZID:Europe/London
X-WR-TIMEZONE:Europe/London
BEGIN:VEVENT
UID:3717@larevistadelapalma.com
DTSTART;VALUE=DATE:20250731
DTEND;VALUE=DATE:20250801
DTSTAMP:20250722T213735Z
URL:https://www.larevistadelapalma.com/events/el-concierto-de-mago-de-oz-s
 era-el-colofon-de-la-decima-edicion-del-dia-del-corsario/
SUMMARY:El concierto de Mägo de Oz será el colofón de la décima edició
 n del Día del Corsario
DESCRIPTION:También contarán con Manu Echeva\, Barbanegra y el DJ Juana L
 a Cubana.
ATTACH;FMTTYPE=image/jpeg:https://www.larevistadelapalma.com/wp-content/up
 loads/2025/04/Mago-de-Oz.png
CATEGORIES:Conciertos,Música
LOCATION:Municipio de Santa Cruz de La Palma\, Santa Cruz de La Palma \, Sa
 nta Cruz de La Palma \, 38700\, España
GEO:28.688757;-17.765102
X-APPLE-STRUCTURED-LOCATION;VALUE=URI;X-ADDRESS=Santa Cruz de La Palma \, S
 anta Cruz de La Palma \, 38700\, España;X-APPLE-RADIUS=100;X-TITLE=Munici
 pio de Santa Cruz de La Palma:geo:28.688757,-17.765102
END:VEVENT
END:VCALENDARBEGIN:VCALENDAR
VERSION:2.0
PRODID:-//wp-events-plugin.com//7.2.3.1//EN
TZID:Europe/London
X-WR-TIMEZONE:Europe/London
BEGIN:VEVENT
UID:3717@larevistadelapalma.com
DTSTART;VALUE=DATE:20250731
DTEND;VALUE=DATE:20250801
DTSTAMP:20250722T213735Z
URL:https://www.larevistadelapalma.com/events/el-concierto-de-mago-de-oz-s
 era-el-colofon-de-la-decima-edicion-del-dia-del-corsario/
SUMMARY:El concierto de Mägo de Oz será el colofón de la décima edició
 n del Día del Corsario
DESCRIPTION:También contarán con Manu Echeva\, Barbanegra y el DJ Juana L
 a Cubana.
ATTACH;FMTTYPE=image/jpeg:https://www.larevistadelapalma.com/wp-content/up
 loads/2025/04/Mago-de-Oz.png
CATEGORIES:Conciertos,Música
LOCATION:Municipio de Santa Cruz de La Palma\, Santa Cruz de La Palma \, Sa
 nta Cruz de La Palma \, 38700\, España
GEO:28.688757;-17.765102
X-APPLE-STRUCTURED-LOCATION;VALUE=URI;X-ADDRESS=Santa Cruz de La Palma \, S
 anta Cruz de La Palma \, 38700\, España;X-APPLE-RADIUS=100;X-TITLE=Munici
 pio de Santa Cruz de La Palma:geo:28.688757,-17.765102
END:VEVENT
END:VCALENDAR