BEGIN:VCALENDAR
VERSION:2.0
PRODID:-//wp-events-plugin.com//7.2.3.1//EN
TZID:Europe/London
X-WR-TIMEZONE:Europe/London
BEGIN:VEVENT
UID:3518@larevistadelapalma.com
DTSTART:20241218T183000Z
DTEND:20241218T200000Z
DTSTAMP:20241217T182711Z
URL:https://www.larevistadelapalma.com/events/el-concierto-navidad-sinfoni
 ca-de-la-escuela-insular-de-musica-reune-talento-y-solidaridad/
SUMMARY:El concierto ‘Navidad Sinfónica’ de la Escuela Insular de Mús
 ica reúne talento y solidaridad
DESCRIPTION:Tendrá lugar mañana\, 18 de diciembre\, en Santa Cruz de La P
 alma.\n\nEl Cabildo de La Palma organiza una nueva edición del Concierto 
 ‘Navidad Sinfónica’\, que se celebrará este mes de diciembre. El eve
 nto combinará el talento del alumnado de la Escuela Insular de Música co
 n un gesto solidario destinado a ayudar al pueblo valenciano afectado por 
 los daños ocasionados por la DANA del pasado octubre.\n\nEl programa de a
 ctividades ha incluido\, como es tradición\, los pasacalles del alumnado 
 de la Escuela Insular de Música y las audiciones de fin de trimestre\, qu
 e mostrarán el progreso artístico de estudiantes de todas las edades. \
 n\nEl concierto contará con la destacada participación de reconocidos so
 listas como el veterano Luis Morera\, la artista emergente Cristina Lozano
 \, Alfredo Ortega y Juan Francisco Martín. Estos talentosos artistas\, ju
 nto al Coro Infantil y Juvenil y la Orquesta Sinfónica de la Escuela Insu
 lar de Música\, ofrecerán una velada inolvidable. \nEste año el concier
 to fusionará las tradiciones y el folklore más antiguo con el silbo y la
 s castañuelas.\nEste año\, ‘Navidad Sinfónica’ adquiere un signific
 ado especial al estar dedicada a la solidaridad con el pueblo valenciano\,
  gravemente afectado por los daños de la DANA. Durante ambos conciertos s
 e recogerán donativos que serán ingresados en la cuenta oficial habilita
 da por la Generalitat Valenciana para la reparación de daños y la recons
 trucción económica y social de las zonas afectadas.\n\n&nbsp\;
ATTACH;FMTTYPE=image/jpeg:https://www.larevistadelapalma.com/wp-content/up
 loads/2024/12/Navidad-Sinfonica-2.jpg
CATEGORIES:Conciertos,Música
LOCATION:Plaza de Santo Domingo en Santa Cruz de La Palma\, Plaza Santo Dom
 ingo\, Santa Cruz de La Palma\, 38700\, España
GEO:28.682691;-17.766334
X-APPLE-STRUCTURED-LOCATION;VALUE=URI;X-ADDRESS=Plaza Santo Domingo\, Santa
  Cruz de La Palma\, 38700\, España;X-APPLE-RADIUS=100;X-TITLE=Plaza de Sa
 nto Domingo en Santa Cruz de La Palma:geo:28.682691,-17.766334
END:VEVENT
END:VCALENDARBEGIN:VCALENDAR
VERSION:2.0
PRODID:-//wp-events-plugin.com//7.2.3.1//EN
TZID:Europe/London
X-WR-TIMEZONE:Europe/London
BEGIN:VEVENT
UID:3518@larevistadelapalma.com
DTSTART:20241218T183000Z
DTEND:20241218T200000Z
DTSTAMP:20241217T182711Z
URL:https://www.larevistadelapalma.com/events/el-concierto-navidad-sinfoni
 ca-de-la-escuela-insular-de-musica-reune-talento-y-solidaridad/
SUMMARY:El concierto ‘Navidad Sinfónica’ de la Escuela Insular de Mús
 ica reúne talento y solidaridad
DESCRIPTION:Tendrá lugar mañana\, 18 de diciembre\, en Santa Cruz de La P
 alma.\n\nEl Cabildo de La Palma organiza una nueva edición del Concierto 
 ‘Navidad Sinfónica’\, que se celebrará este mes de diciembre. El eve
 nto combinará el talento del alumnado de la Escuela Insular de Música co
 n un gesto solidario destinado a ayudar al pueblo valenciano afectado por 
 los daños ocasionados por la DANA del pasado octubre.\n\nEl programa de a
 ctividades ha incluido\, como es tradición\, los pasacalles del alumnado 
 de la Escuela Insular de Música y las audiciones de fin de trimestre\, qu
 e mostrarán el progreso artístico de estudiantes de todas las edades. \
 n\nEl concierto contará con la destacada participación de reconocidos so
 listas como el veterano Luis Morera\, la artista emergente Cristina Lozano
 \, Alfredo Ortega y Juan Francisco Martín. Estos talentosos artistas\, ju
 nto al Coro Infantil y Juvenil y la Orquesta Sinfónica de la Escuela Insu
 lar de Música\, ofrecerán una velada inolvidable. \nEste año el concier
 to fusionará las tradiciones y el folklore más antiguo con el silbo y la
 s castañuelas.\nEste año\, ‘Navidad Sinfónica’ adquiere un signific
 ado especial al estar dedicada a la solidaridad con el pueblo valenciano\,
  gravemente afectado por los daños de la DANA. Durante ambos conciertos s
 e recogerán donativos que serán ingresados en la cuenta oficial habilita
 da por la Generalitat Valenciana para la reparación de daños y la recons
 trucción económica y social de las zonas afectadas.\n\n&nbsp\;
ATTACH;FMTTYPE=image/jpeg:https://www.larevistadelapalma.com/wp-content/up
 loads/2024/12/Navidad-Sinfonica-2.jpg
CATEGORIES:Conciertos,Música
LOCATION:Plaza de Santo Domingo en Santa Cruz de La Palma\, Plaza Santo Dom
 ingo\, Santa Cruz de La Palma\, 38700\, España
GEO:28.682691;-17.766334
X-APPLE-STRUCTURED-LOCATION;VALUE=URI;X-ADDRESS=Plaza Santo Domingo\, Santa
  Cruz de La Palma\, 38700\, España;X-APPLE-RADIUS=100;X-TITLE=Plaza de Sa
 nto Domingo en Santa Cruz de La Palma:geo:28.682691,-17.766334
END:VEVENT
END:VCALENDAR