BEGIN:VCALENDAR
VERSION:2.0
PRODID:-//wp-events-plugin.com//7.2.3.1//EN
TZID:Europe/London
X-WR-TIMEZONE:Europe/London
BEGIN:VEVENT
UID:2714@larevistadelapalma.com
DTSTART:20240112T193000Z
DTEND:20240112T210000Z
DTSTAMP:20240108T161035Z
URL:https://www.larevistadelapalma.com/events/el-delta-de-okavango-con-abu
 bukaka-en-fuencaliente/
SUMMARY:“El Delta de Okavango”\, con Abubukaka\, en Fuencaliente
DESCRIPTION:\n Espectáculo de Humor “El Delta de Okavango”\, con A
 bubukaka.\n\n\nAbubukaka nos presenta un espectáculo más de mal gusto qu
 e nunca y rebosado de atentados contra nuestros valores históricos\, cult
 urales o lingüísticos.\nEl Delta de Okavango significa romper una lanza 
 en Pro y en FIFA soccer de la revolución\, de dejar atrás todo lo pasado
  y pensar en lo que podría ser. Será una nueva mamarrachada que pintará
  de memez tantos temas que nos saturan y los metamorfoseará en carcajada.
 \nEl Delta del Okavango se nutre de la hipotética actualidad\, el proverb
 ial berrinche contra el tiempo y la atmósfera de los bonchos en su moment
 o de bajona\, centrifugando estos nutrientes para erigir la espiral de la 
 risa allá donde el sentido de la vida no es más que un coto de caza priv
 ado\, es decir\, en la sesera de cada uno.\nAbubukaka\, como tan acostumbr
 ados nos tienen\, dispone sus desatinos en una secuencia de sketchs vírge
 nes con la natural intención de lograr la perpetuación de la especie y d
 el Avecrem.\n\n\nPoco más se puede añadir a la sinopsis de un espectácu
 lo que se llama El Delta del Okavango\, solo lo que tan encarecidamente so
 licitaron los miembros de este 4×1 en oferta que se incluyera en la misma
 .\n\n
ATTACH;FMTTYPE=image/jpeg:https://www.larevistadelapalma.com/wp-content/up
 loads/2023/08/Abubukaka.jpg
CATEGORIES:Espectáculos
LOCATION:Centro Cultural de Los Canarios\, Fuencaliente\, C. Venezuela\, 2\
 , Fuencaliente\, 38740\, España
GEO:28.494368;-17.845832
X-APPLE-STRUCTURED-LOCATION;VALUE=URI;X-ADDRESS=C. Venezuela\, 2\, Fuencali
 ente\, 38740\, España;X-APPLE-RADIUS=100;X-TITLE=Centro Cultural de Los C
 anarios\, Fuencaliente:geo:28.494368,-17.845832
END:VEVENT
END:VCALENDARBEGIN:VCALENDAR
VERSION:2.0
PRODID:-//wp-events-plugin.com//7.2.3.1//EN
TZID:Europe/London
X-WR-TIMEZONE:Europe/London
BEGIN:VEVENT
UID:2714@larevistadelapalma.com
DTSTART:20240112T193000Z
DTEND:20240112T210000Z
DTSTAMP:20240108T161035Z
URL:https://www.larevistadelapalma.com/events/el-delta-de-okavango-con-abu
 bukaka-en-fuencaliente/
SUMMARY:“El Delta de Okavango”\, con Abubukaka\, en Fuencaliente
DESCRIPTION:\n Espectáculo de Humor “El Delta de Okavango”\, con A
 bubukaka.\n\n\nAbubukaka nos presenta un espectáculo más de mal gusto qu
 e nunca y rebosado de atentados contra nuestros valores históricos\, cult
 urales o lingüísticos.\nEl Delta de Okavango significa romper una lanza 
 en Pro y en FIFA soccer de la revolución\, de dejar atrás todo lo pasado
  y pensar en lo que podría ser. Será una nueva mamarrachada que pintará
  de memez tantos temas que nos saturan y los metamorfoseará en carcajada.
 \nEl Delta del Okavango se nutre de la hipotética actualidad\, el proverb
 ial berrinche contra el tiempo y la atmósfera de los bonchos en su moment
 o de bajona\, centrifugando estos nutrientes para erigir la espiral de la 
 risa allá donde el sentido de la vida no es más que un coto de caza priv
 ado\, es decir\, en la sesera de cada uno.\nAbubukaka\, como tan acostumbr
 ados nos tienen\, dispone sus desatinos en una secuencia de sketchs vírge
 nes con la natural intención de lograr la perpetuación de la especie y d
 el Avecrem.\n\n\nPoco más se puede añadir a la sinopsis de un espectácu
 lo que se llama El Delta del Okavango\, solo lo que tan encarecidamente so
 licitaron los miembros de este 4×1 en oferta que se incluyera en la misma
 .\n\n
ATTACH;FMTTYPE=image/jpeg:https://www.larevistadelapalma.com/wp-content/up
 loads/2023/08/Abubukaka.jpg
CATEGORIES:Espectáculos
LOCATION:Centro Cultural de Los Canarios\, Fuencaliente\, C. Venezuela\, 2\
 , Fuencaliente\, 38740\, España
GEO:28.494368;-17.845832
X-APPLE-STRUCTURED-LOCATION;VALUE=URI;X-ADDRESS=C. Venezuela\, 2\, Fuencali
 ente\, 38740\, España;X-APPLE-RADIUS=100;X-TITLE=Centro Cultural de Los C
 anarios\, Fuencaliente:geo:28.494368,-17.845832
END:VEVENT
END:VCALENDAR