BEGIN:VCALENDAR
VERSION:2.0
PRODID:-//wp-events-plugin.com//7.2.3.1//EN
TZID:Europe/London
X-WR-TIMEZONE:Europe/London
BEGIN:VEVENT
UID:633@larevistadelapalma.com
DTSTART:20230901T183000Z
DTEND:20230901T201500Z
DTSTAMP:20230830T222320Z
URL:https://www.larevistadelapalma.com/events/el-delta-del-okavango-abubuk
 aka/
SUMMARY:Abubukaka en La Palma con "El delta del Okavango"
DESCRIPTION:El viernes 1 de septiembre Abubukaka  llega a la casa de la cu
 ltura "Braulio Martín Hernández" de El Paso con "El delta del Okavango"\
 , un espectáculo más de mal gusto que nunca y rebosado a petición ofici
 al de atentados contra nuestros valores históricos\, culturales o lingü
 ísticos.\n\nEl aforo es limitado\, por lo que para asistir es necesario r
 etirar invitaciones en:\n\n\n 	 La Casa de La Cultura ‘Braulio Martín 
 Hernández’ de 9:00 h a 14:00 h y de 16:00 h a 20:00 h\n 	\nO en la Conc
 ejalía de Cultura y Fiestas del Ayuntamiento de El Paso de 9:00 h a 13:00
  h\n\n
ATTACH;FMTTYPE=image/jpeg:https://www.larevistadelapalma.com/wp-content/up
 loads/2023/08/Abubukaka.jpg
CATEGORIES:Espectáculos,Teatro
LOCATION:Casa de la Cultura Braulio Martín Hernández de El Paso\, Av. Isl
 as Canarias\, 9\,\, El Paso\, 38750\, España
GEO:28.652923;-17.880463
X-APPLE-STRUCTURED-LOCATION;VALUE=URI;X-ADDRESS=Av. Islas Canarias\, 9\,\, 
 El Paso\, 38750\, España;X-APPLE-RADIUS=100;X-TITLE=Casa de la Cultura Br
 aulio Martín Hernández de El Paso:geo:28.652923,-17.880463
END:VEVENT
END:VCALENDARBEGIN:VCALENDAR
VERSION:2.0
PRODID:-//wp-events-plugin.com//7.2.3.1//EN
TZID:Europe/London
X-WR-TIMEZONE:Europe/London
BEGIN:VEVENT
UID:633@larevistadelapalma.com
DTSTART:20230901T183000Z
DTEND:20230901T201500Z
DTSTAMP:20230830T222320Z
URL:https://www.larevistadelapalma.com/events/el-delta-del-okavango-abubuk
 aka/
SUMMARY:Abubukaka en La Palma con "El delta del Okavango"
DESCRIPTION:El viernes 1 de septiembre Abubukaka  llega a la casa de la cu
 ltura "Braulio Martín Hernández" de El Paso con "El delta del Okavango"\
 , un espectáculo más de mal gusto que nunca y rebosado a petición ofici
 al de atentados contra nuestros valores históricos\, culturales o lingü
 ísticos.\n\nEl aforo es limitado\, por lo que para asistir es necesario r
 etirar invitaciones en:\n\n\n 	 La Casa de La Cultura ‘Braulio Martín 
 Hernández’ de 9:00 h a 14:00 h y de 16:00 h a 20:00 h\n 	\nO en la Conc
 ejalía de Cultura y Fiestas del Ayuntamiento de El Paso de 9:00 h a 13:00
  h\n\n
ATTACH;FMTTYPE=image/jpeg:https://www.larevistadelapalma.com/wp-content/up
 loads/2023/08/Abubukaka.jpg
CATEGORIES:Espectáculos,Teatro
LOCATION:Casa de la Cultura Braulio Martín Hernández de El Paso\, Av. Isl
 as Canarias\, 9\,\, El Paso\, 38750\, España
GEO:28.652923;-17.880463
X-APPLE-STRUCTURED-LOCATION;VALUE=URI;X-ADDRESS=Av. Islas Canarias\, 9\,\, 
 El Paso\, 38750\, España;X-APPLE-RADIUS=100;X-TITLE=Casa de la Cultura Br
 aulio Martín Hernández de El Paso:geo:28.652923,-17.880463
END:VEVENT
END:VCALENDAR