BEGIN:VCALENDAR
VERSION:2.0
PRODID:-//wp-events-plugin.com//7.2.3.1//EN
TZID:Europe/London
X-WR-TIMEZONE:Europe/London
BEGIN:VEVENT
UID:876@larevistadelapalma.com
DTSTART:20231223T170000Z
DTEND:20231223T183000Z
DTSTAMP:20231127T203742Z
URL:https://www.larevistadelapalma.com/events/el-elfo-habemus-teatro/
SUMMARY:El Elfo. Habemus Teatro
DESCRIPTION:Un musical navideño lleno de magia e ilusión que hará disfru
 tar a toda la familia.\nEste musical de Habemus Teatro nos cuenta la histo
 ri de una Nochebuena\, hace muchos años\, en la que un bebé gatea en un 
 orfanato dentro del saco de regalos de Santa Claus y\, sin que nadie se d
 é cuenta\, acaba en el taller de éste en el Polo Norte. Aunque allí es 
 adoptado y educado como elfo pronto se hace tres veces más grande que los
  demás habitantes del Polo Norte y quedará claro que nunca encajará per
 fectamente en mundo de los elfos. Lo que necesita es encontrar a su verdad
 era familia. Así\, estas Navidades nuestro elfo se propone buscar su luga
 r en el mundo y con ese objetivo pone rumbo a la ciudad donde vive su fami
 lia.\n\nAunque entra en un mundo completamente desconocido\, descubrirá p
 ronto que la vida en la gran ciudad no consiste sólo en patinar y comer d
 ulces y se siente tan fuera de lugar allí como en el Polo Norte y descubr
 e que los habitantes de esa ciudad no creen en los elfos ni en Santa Claus
  ni en las Navidades.\n\nEn realidad\, todo el mundo parece haber olvidado
  el verdadero significado de la Navidad. Las fiestas se aproximan y el elf
 o decide que con sus conocimientos tiene que ganarse a su familia\, realiz
 ar su cometido y salvar las Navidades de su ciudad natal y del resto del m
 undo. ¿A dónde viajará?\nComprar entradas \n&nbsp\;
ATTACH;FMTTYPE=image/jpeg:https://www.larevistadelapalma.com/wp-content/up
 loads/2023/11/Elfo-Habemus-Teatro.jpg
CATEGORIES:Espectáculos
LOCATION:Teatro Circo de Marte\, Calle Virgen de La Luz\, 5\, Santa Cruz de
  La Palma\, 38700\, España
GEO:28.682989;-17.765755
X-APPLE-STRUCTURED-LOCATION;VALUE=URI;X-ADDRESS=Calle Virgen de La Luz\, 5\
 , Santa Cruz de La Palma\, 38700\, España;X-APPLE-RADIUS=100;X-TITLE=Teat
 ro Circo de Marte:geo:28.682989,-17.765755
END:VEVENT
END:VCALENDARBEGIN:VCALENDAR
VERSION:2.0
PRODID:-//wp-events-plugin.com//7.2.3.1//EN
TZID:Europe/London
X-WR-TIMEZONE:Europe/London
BEGIN:VEVENT
UID:876@larevistadelapalma.com
DTSTART:20231223T170000Z
DTEND:20231223T183000Z
DTSTAMP:20231127T203742Z
URL:https://www.larevistadelapalma.com/events/el-elfo-habemus-teatro/
SUMMARY:El Elfo. Habemus Teatro
DESCRIPTION:Un musical navideño lleno de magia e ilusión que hará disfru
 tar a toda la familia.\nEste musical de Habemus Teatro nos cuenta la histo
 ri de una Nochebuena\, hace muchos años\, en la que un bebé gatea en un 
 orfanato dentro del saco de regalos de Santa Claus y\, sin que nadie se d
 é cuenta\, acaba en el taller de éste en el Polo Norte. Aunque allí es 
 adoptado y educado como elfo pronto se hace tres veces más grande que los
  demás habitantes del Polo Norte y quedará claro que nunca encajará per
 fectamente en mundo de los elfos. Lo que necesita es encontrar a su verdad
 era familia. Así\, estas Navidades nuestro elfo se propone buscar su luga
 r en el mundo y con ese objetivo pone rumbo a la ciudad donde vive su fami
 lia.\n\nAunque entra en un mundo completamente desconocido\, descubrirá p
 ronto que la vida en la gran ciudad no consiste sólo en patinar y comer d
 ulces y se siente tan fuera de lugar allí como en el Polo Norte y descubr
 e que los habitantes de esa ciudad no creen en los elfos ni en Santa Claus
  ni en las Navidades.\n\nEn realidad\, todo el mundo parece haber olvidado
  el verdadero significado de la Navidad. Las fiestas se aproximan y el elf
 o decide que con sus conocimientos tiene que ganarse a su familia\, realiz
 ar su cometido y salvar las Navidades de su ciudad natal y del resto del m
 undo. ¿A dónde viajará?\nComprar entradas \n&nbsp\;
ATTACH;FMTTYPE=image/jpeg:https://www.larevistadelapalma.com/wp-content/up
 loads/2023/11/Elfo-Habemus-Teatro.jpg
CATEGORIES:Espectáculos
LOCATION:Teatro Circo de Marte\, Calle Virgen de La Luz\, 5\, Santa Cruz de
  La Palma\, 38700\, España
GEO:28.682989;-17.765755
X-APPLE-STRUCTURED-LOCATION;VALUE=URI;X-ADDRESS=Calle Virgen de La Luz\, 5\
 , Santa Cruz de La Palma\, 38700\, España;X-APPLE-RADIUS=100;X-TITLE=Teat
 ro Circo de Marte:geo:28.682989,-17.765755
END:VEVENT
END:VCALENDAR