BEGIN:VCALENDAR
VERSION:2.0
PRODID:-//wp-events-plugin.com//7.2.3.1//EN
TZID:Europe/London
X-WR-TIMEZONE:Europe/London
BEGIN:VEVENT
UID:3988@larevistadelapalma.com
DTSTART:20251018T190000Z
DTEND:20251018T203000Z
DTSTAMP:20251013T210254Z
URL:https://www.larevistadelapalma.com/events/el-enroque-de-2rc-teatro/
SUMMARY:"El Enroque"\, de 2RC Teatro. Los Llanos de Aridane
DESCRIPTION:El ciclo "El secadero en tablas" nos invita a este obra de Fra
 n Iniesta dirigida por Rafael Rodriguez (2RC Teatro Compañía de Repertor
 io)\, es una comedia de salón sobre las dobles capas de nuestra personali
 dad. Este espectáculo nace en el marco de Canarias Escribe Teatro\, proye
 cto para el fomento de la autoría teatral isleña.\n‘El enroque’ es u
 na comedia de salón\, una alta comedia para el siglo XXI: lenguaje actual
 \, desenfadado\, directo y sorpresivo. Hace uso del humor a través de la 
 ironía\, del doble sentido y de lo que no queremos descubrir pero que fin
 almente aparece disperso en múltiples y divertidas situaciones escénicas
 .\nLos conflictos de pareja son el eje de la función: ser o no ser pareja
 \, quererse\, o no quererse\, quedarse o huir\, confiar o desconfiar\, ser
  fiel o no serlo… Cada dualidad planteada nos aboga a unos desequilibrio
 s emocionales que mantendrán la hilaridad en el espectador\, manteniendo 
 la obra un ritmo de comedia enloquecido que irá desarrollándose in cresc
 endo de forma permanente.\n2RC TEATRO\, compañía de repertorio\, realiza
  su labor desde una línea de trabajo fundamentada en la puesta en pie de 
 textos de nuestra dramaturgia universal\, rescatando títulos y autores p
 ara la escena tanto clásicos como contemporáneos.\n\n\nReserva de entrad
 as en: eventosculturales@aridane.org.es\n\n 	En el asunto\, indica el nomb
 re del acto y\, en el mensaje\, tu nombre\, apellidos y teléfono.\n 	Fech
 a límite para reservas: viernes\, 17 de octubre\, hasta las 14 horas.\n 	
 Se ruega puntualidad\, no se admitirá la entrada de público una vez come
 nzado el espectáculo.\n
ATTACH;FMTTYPE=image/jpeg:https://www.larevistadelapalma.com/wp-content/up
 loads/2025/09/El-Enroque-2cr-teatro.jpg
CATEGORIES:Espectáculos,Teatro
LOCATION:Espacio Cultural El Secadero\, C. Rosal\, 3\,\, Los Llanos de Arid
 ane\, 38760\, España
GEO:28.659406;-17.907147
X-APPLE-STRUCTURED-LOCATION;VALUE=URI;X-ADDRESS=C. Rosal\, 3\,\, Los Llanos
  de Aridane\, 38760\, España;X-APPLE-RADIUS=100;X-TITLE=Espacio Cultural 
 El Secadero:geo:28.659406,-17.907147
END:VEVENT
END:VCALENDARBEGIN:VCALENDAR
VERSION:2.0
PRODID:-//wp-events-plugin.com//7.2.3.1//EN
TZID:Europe/London
X-WR-TIMEZONE:Europe/London
BEGIN:VEVENT
UID:3988@larevistadelapalma.com
DTSTART:20251018T190000Z
DTEND:20251018T203000Z
DTSTAMP:20251013T210254Z
URL:https://www.larevistadelapalma.com/events/el-enroque-de-2rc-teatro/
SUMMARY:"El Enroque"\, de 2RC Teatro. Los Llanos de Aridane
DESCRIPTION:El ciclo "El secadero en tablas" nos invita a este obra de Fra
 n Iniesta dirigida por Rafael Rodriguez (2RC Teatro Compañía de Repertor
 io)\, es una comedia de salón sobre las dobles capas de nuestra personali
 dad. Este espectáculo nace en el marco de Canarias Escribe Teatro\, proye
 cto para el fomento de la autoría teatral isleña.\n‘El enroque’ es u
 na comedia de salón\, una alta comedia para el siglo XXI: lenguaje actual
 \, desenfadado\, directo y sorpresivo. Hace uso del humor a través de la 
 ironía\, del doble sentido y de lo que no queremos descubrir pero que fin
 almente aparece disperso en múltiples y divertidas situaciones escénicas
 .\nLos conflictos de pareja son el eje de la función: ser o no ser pareja
 \, quererse\, o no quererse\, quedarse o huir\, confiar o desconfiar\, ser
  fiel o no serlo… Cada dualidad planteada nos aboga a unos desequilibrio
 s emocionales que mantendrán la hilaridad en el espectador\, manteniendo 
 la obra un ritmo de comedia enloquecido que irá desarrollándose in cresc
 endo de forma permanente.\n2RC TEATRO\, compañía de repertorio\, realiza
  su labor desde una línea de trabajo fundamentada en la puesta en pie de 
 textos de nuestra dramaturgia universal\, rescatando títulos y autores p
 ara la escena tanto clásicos como contemporáneos.\n\n\nReserva de entrad
 as en: eventosculturales@aridane.org.es\n\n 	En el asunto\, indica el nomb
 re del acto y\, en el mensaje\, tu nombre\, apellidos y teléfono.\n 	Fech
 a límite para reservas: viernes\, 17 de octubre\, hasta las 14 horas.\n 	
 Se ruega puntualidad\, no se admitirá la entrada de público una vez come
 nzado el espectáculo.\n
ATTACH;FMTTYPE=image/jpeg:https://www.larevistadelapalma.com/wp-content/up
 loads/2025/09/El-Enroque-2cr-teatro.jpg
CATEGORIES:Espectáculos,Teatro
LOCATION:Espacio Cultural El Secadero\, C. Rosal\, 3\,\, Los Llanos de Arid
 ane\, 38760\, España
GEO:28.659406;-17.907147
X-APPLE-STRUCTURED-LOCATION;VALUE=URI;X-ADDRESS=C. Rosal\, 3\,\, Los Llanos
  de Aridane\, 38760\, España;X-APPLE-RADIUS=100;X-TITLE=Espacio Cultural 
 El Secadero:geo:28.659406,-17.907147
END:VEVENT
END:VCALENDAR