BEGIN:VCALENDAR
VERSION:2.0
PRODID:-//wp-events-plugin.com//7.2.3.1//EN
TZID:Europe/London
X-WR-TIMEZONE:Europe/London
BEGIN:VEVENT
UID:634@larevistadelapalma.com
DTSTART:20230901T190000Z
DTEND:20230901T203000Z
DTSTAMP:20230831T222702Z
URL:https://www.larevistadelapalma.com/events/el-festival-audiovisual-tiem
 po-sur-presenta-el-documental-lo-olvidado/
SUMMARY:El Festival Audiovisual Tiempo Sur presenta el documental 'Lo olvid
 ado'
DESCRIPTION:\nEl Festival Audiovisual Tiempo Sur presenta el documental 'Lo
  olvidado' (De Secuencia 27)\n\n\nLa película se proyecta este viernes\, 
 1 de septiembre\, a las 20:00 horas\, en la Casa de la Cultura de la Villa
  de Garafía. Para la ocasión\, se contará con la presencia de sus cread
 ores.\n\nSinopsis: "La Villa de Garafía es uno de los municipios más env
 ejecidos y pobres de Canarias. A pesar de ello\, hay una juventud latente 
 en el pueblo\, pero nada que comparar con la de antaño. Este documental e
 s una mirada al pasado\, presente y futuro de las gentes de Garafía\, a t
 ravés de sus ojos y sin filtros. Es hora de conocer el pueblo a través d
 e sus personas".\n\n
ATTACH;FMTTYPE=image/jpeg:https://www.larevistadelapalma.com/wp-content/up
 loads/2023/08/Documental-Lo-olvidado.jpg
CATEGORIES:Cine,Cine y Literatura
LOCATION:Casa de La Cultura de Santo Domingo\, Garafía\, Calle Diaz Juarez
 \, 21\,\, Garafía\, 38787\, España
GEO:28.790649;-17.917631
X-APPLE-STRUCTURED-LOCATION;VALUE=URI;X-ADDRESS=Calle Diaz Juarez\, 21\,\, 
 Garafía\, 38787\, España;X-APPLE-RADIUS=100;X-TITLE=Casa de La Cultura d
 e Santo Domingo\, Garafía:geo:28.790649,-17.917631
END:VEVENT
END:VCALENDARBEGIN:VCALENDAR
VERSION:2.0
PRODID:-//wp-events-plugin.com//7.2.3.1//EN
TZID:Europe/London
X-WR-TIMEZONE:Europe/London
BEGIN:VEVENT
UID:634@larevistadelapalma.com
DTSTART:20230901T190000Z
DTEND:20230901T203000Z
DTSTAMP:20230831T222702Z
URL:https://www.larevistadelapalma.com/events/el-festival-audiovisual-tiem
 po-sur-presenta-el-documental-lo-olvidado/
SUMMARY:El Festival Audiovisual Tiempo Sur presenta el documental 'Lo olvid
 ado'
DESCRIPTION:\nEl Festival Audiovisual Tiempo Sur presenta el documental 'Lo
  olvidado' (De Secuencia 27)\n\n\nLa película se proyecta este viernes\, 
 1 de septiembre\, a las 20:00 horas\, en la Casa de la Cultura de la Villa
  de Garafía. Para la ocasión\, se contará con la presencia de sus cread
 ores.\n\nSinopsis: "La Villa de Garafía es uno de los municipios más env
 ejecidos y pobres de Canarias. A pesar de ello\, hay una juventud latente 
 en el pueblo\, pero nada que comparar con la de antaño. Este documental e
 s una mirada al pasado\, presente y futuro de las gentes de Garafía\, a t
 ravés de sus ojos y sin filtros. Es hora de conocer el pueblo a través d
 e sus personas".\n\n
ATTACH;FMTTYPE=image/jpeg:https://www.larevistadelapalma.com/wp-content/up
 loads/2023/08/Documental-Lo-olvidado.jpg
CATEGORIES:Cine,Cine y Literatura
LOCATION:Casa de La Cultura de Santo Domingo\, Garafía\, Calle Diaz Juarez
 \, 21\,\, Garafía\, 38787\, España
GEO:28.790649;-17.917631
X-APPLE-STRUCTURED-LOCATION;VALUE=URI;X-ADDRESS=Calle Diaz Juarez\, 21\,\, 
 Garafía\, 38787\, España;X-APPLE-RADIUS=100;X-TITLE=Casa de La Cultura d
 e Santo Domingo\, Garafía:geo:28.790649,-17.917631
END:VEVENT
END:VCALENDAR